{"text_format":"1","workbook":"xlsx","n_sheets":13,"sheets":["Dev","Title","1.Profile","+Prices","+Options","2.Strategy","Calcs","Bio results","3. Out Eco","3. Out Pop","3. Out C&G","3. Out Tab","Eco results"],"not_rendered":{"charts":20,"images":56,"macros":1,"external_links":0,"defined_names":69,"comments":10,"pivot_tables":0},"unopened":[],"bounds":{"document_bytes":16777216,"sheet_cells":100000,"rows_first":2000,"rows_last":500,"rows_between":2000,"halvings":0,"cell_chars":16384,"cell_head_chars":4096},"cells_cut":0,"cells_raw":0,"read":"whole","date_system":"1900"}

{"sheet":"Dev","index":0,"n_rows":93,"n_cols":62,"rows_kept":93,"cut":false,"hidden":false,"merged":[]}
[]
[]
[]
[]
[]
[]
[]
[null,null,null,null,null,null,null,"    To start BYGUM, allow macros "]
[null,null,null,null,null,null,null,"to run in your security settings."]
[]
[null,null,"RIM is software from the University of Western Australia and the Department of Agriculture"]
[null,null,"and Food of Western Australia. ©1998-2013. MS Excel 2007® or higher recommended."]
[]
[null,null,"BYGUM is an adjusted version of RIM from the Australian Cotton Research and"]
[null,null,"Development Corporation, Innokas Intellectual Services, and the Queensland"]
[null,null,"Department of Agriculture and Fisheries. ©2015"]
[]
[]
[]
[]
[]
[]
[]
[]
[]
[]
[]
[]
[]
[]
[]
[]
[]
[]
[]
[]
[]
[]
[]
[]
[]
[]
[]
[]
[]
[]
[]
[]
[]
[]
[]
[]
[]
[]
[]
[]
[null,null,null,"Before to screen-copy, zoom to 100% and make sure computer resolution settings are normal"]
[]
[]
[null,null," "]
[null,null,null,null,null,null,null,null,null,null,null,null,null,"The first step is to personalise your paddock.",null,null,null,null,null,null,null,"For the second step, build your strategy.",null,null,null,null,null,null,null,"The last step allows you to compare your results",null,null,null,null,null,null,null,"Barnyard grass population and seed bank dynamics",null,null,null,null,null,null,null,"Crop yields and competition",null,null,null,null,null,null,null,"Exporting your results"]
[]
[null,null,null,null,null,"Welcome to BYGUM!",null,null,null,null,null,null,null,"Assume an average to good year.",null,null,null,null,"For each of the 10 seasons shown, ",null,null,null,null,null,null,null,null,"By clicking on                               or   ",null,null,null,null,null,null,null,null,null,null,null,null,null,null,null,null,null,null,null,null,null,null,null,null,null,null,null,null,null,null,null,null,null,"Unlocking BYGUM"]
[null,null,null,null,null,null,null,null,null,null,null,null,null,null,null,null,null,null,"choose a crop or fallow from the second row:",null,null,null,null,null,null,null,null,null,null,null,null,null,null,null,null,null,null,"This page allows further comparison of your two sets of results, "]
[null,null,null,null,null,null,null,null,null,null,null,null,null,"You can start with updating your yields and grain prices…",null,null,null,null,null,null,null,null,null,null,null,null,null,null,null,null,null,null,null,null,null,null,null," focusing on the evolution over time of: ",null,null,null,null,null,null,null,"This page focuses on the impacts of your management choices",null,null,null,null,null,null,null,"If you experience problems with printing or saving,"]
[null,null,null,null,null,null,null,null,null,null,null,null,null,null,null,null,null,null,null,null,null,null,null,null,null,null,null,null,null,"you can compare two different strategies (same paddock):",null,null,null,null,null,"- the BYG plant numbers (plain line); and",null,null,null,null,null,null,null,null,null,"and of the ryegrass burden on your crops.",null,null,null,null,null,null,null,"try running BYGUM with a more recent version of Excel."]
[null,null,null,null,null,"BYGUM allows you to test how weed populations and gross margins ",null,null,null,null,null,null,null,null,null,null,null,null,null,null,null,null,null,null,null,null,null,null,"Mr.West, Sandy Paddock - Cropping",null,null,null,null,null,null,"- the seed bank (background area)."]
[null,null,null,null,null,"change over time, depending on your management choices.",null,null,null,null,null,null,null,null,null,null,null,null,null,null,null,null,null,null,null,null,null,null,"Mr.West, Sandy Paddock - Pasture & Hay",null,null,null,null,null,null,null,null,null,null,null,null,null,null,null,null,null,null,null,null,null,null,null,null,"You can also go back to the Title"]
[null,null,null,null,null,null,null,null,null,null,null,null,null,null,null,null,null,null,null,null,null,null,null,null,null,null,null,null,null,null,null,null,null,null,null,null,null,"In the previous graphs (Summary & Economics tab)",null,null,null,null,null,null,null,"BYGUM uses the 'weed-free long-term average' yields that",null,null,null,null,null,null,null,"and unlock BYGUM from the Info page.",null,null,null,null,null,null,null,"… might compromise it "]
[null,null,null,null,null,"BYGUM is like a forecast game: what trends will result from ",null,null,null,null,"  Find more information by",null,null,null,null,null,null,null,null,null,null,null,null,null,null,null,null,null,null,null,null,null,null,null,null,null,null,"only the end of the season numbers are represented.",null,null,null,null,null,null,null,"you chose in your Profile as a starting point. ",null,null,null,null,null,null,null,"This will allow you to access the unprotected version.",null,null,null,null,null,null,null,"and is not recommended!"]
[null,null,null,null,null,"the choices you make?",null,null,null,null," hovering over the red corners",null,null,null,null,null,null,null,null,null,null,null,null,null,null,null,null,null,null,"or two different paddock profiles (same strategy, or not) ",null,null,null,null,null,null,null,"Here, plants and seeds are counted at several times of the year.",null,null,null,null,null,null,null,null,null,null,null,null,null,null,null,"You can then print selections."]
[null,null,null,null,null,null,null,null,null,null,null,null,null,null,null,null,null,null,null,null,null,null,null,null,null,null,null,null,"Mr.West, Sandy Paddock - Cropping",null,null,null,null,null,null,null,null,null,null,null,null,null,null,null,null,"This 'yield potential' (           ) is affected by practices"]
[null,null,null,null,null,null,null,null,null,null,"…and continue with the other main parameters. You can specify ",null,null,null,null,null,null,null,"Then choose your control options…",null,null,null,null,null,null,null,null,null,"Ms.South, Best Paddock  - Cropping",null,null,null,null,null,null,null,null,"Typically, weed numbers go up with the start of  ",null,null,null,null,null,null,null," and rotations (           ). For instance, a cereal will benefit from",null,null,null,null,null,null,null,"The assumptions used in BYGUM can be deduced from "]
[null,null,null,null,null,null,null,null,null,null," the details of the control options you require (herbicides etc.) in",null,null,null,null,null,null,null,null,null,null,null,null,null,null,null,null,null,null,null,null,null,null,null,null,null,null,"the cropping season, and reduce when control occurs.",null,null,null,null,null,null,null,"following a legume crop, while late sowing can result",null,null,null,null,null,null,null,"the comments and from the background calculations.",null,null,null,null,null,"You may want to unlock BYGUM if:"]
[null,null,null,null,null,null,null,null,null,null,"this table: ",null,"...and further customise your information here:",null,null,null,null,null,null,null,null,null,null,null,null,null,null,null,null,null,null,null,null,null,null,null,null,"Germination and seed mortality progressively",null,null,null,null,null,null,null,"in lower yield. Sometimes, one effect compensates for another.",null,null,null,null,null,null,null,"They are also detailed in a User guide available on the website"]
[null,null,null,null,null,null,null,null,null,null,null,null,null,null,null,null,null,null,null,null,null,null,null,null,null,null,null,"Click on this button to change the graph axes: ",null,null,null,null,null,null,null,null,null," deplete the seed bank.",null,null,null,null,null,null,null,null,null,null,null,null,null,null,null,"(see Info).",null,null,null,null,null,"- you experience issues running it or exporting results"]
[null,null,null,null,null,null,null,null,null,null,null,null,null,null,null,null,null,null,null,null,null,null,null,null,null,null,null," Auto","- to adjust graphs to the values"]
[null,null,null,null,null,null,null,null,null,null,null,null,null,null,null,null,null,null,null,null,null,null,null,null,null,null,null,"Fixed","- to compare results more easily",null,null,null,null,null,null,null,null,null,null,null,null,null,null,null,null,"The final yield (           ) takes into account competition.",null,null,null,null,null,null,null,null,null,null,null,null,null,"- you wish to customise BYGUM's parameters further"]
[null,null,null,null,null,"Will you keep your barnyard grass under control?",null,null,null,null,null,"Once complete, name your paddock profile. ",null,null,null,null,null,null,null,null,null,null,null,null,null,null,null,null,null,null,null,null,null,null,null,null,null,null,null,null,null,null,null,null,null,"If you kept your weed numbers down, this penalty (%) "]
[null,null,null,null,null,"Will you lose or earn money?",null,null,null,null,null,"You can save it and recall it later here:",null,null,null,null,null,null,null,null,null,null,null,null,null,null,null,null,null,null,null,null,null,null,null,null,null,null,null,null,null,null,null,null,null,"will be close to zero.",null,null,null,null,null,null,null,"For enquiries, comments and general feedback,",null,null,null,null,null,"- you wish to investigate the equations underlying"]
[null,null,null,null,null,"What if you cannot rely on some herbicides?",null,null,null,null,null,null,null,null,null,null,null,null,"…and see the effect on your weed numbers, and on your return.",null,null,null,null,null,null,null,null,null,null,"To see more outputs, click on the tab buttons:",null,null,null,null,null,null,null,null,null,null,null,null,null,null,null,null,null,null,null,null,null,null,null,"please contact Innokas Intellectual Services.",null,null,null,null,null,"the model and its assumptions"]
[null,null,null,null,null,"Should you invest in alternative techniques?",null,null,null,null,null,null,null,null,null,null,null,null,null,null,null,null,null,null,null,null,null,null,null,null,null,null,null,null,null,null,null,null,null,null,null,null,null,null,null,null,null,null,null,null,null,null,null,"david@innokasintellectual.com.au"]
[null,null,null,null,null,"What about rotations, cover crops, harvest options?",null,null,null,null,"Go to the next step using the navigation buttons:",null,null,null,null,null,null,null,null,"Once complete, name your strategy.",null,null,null,null,null,null,null,null,null,null,null,null,null,null,null,null,null,null,null,null,null,null,null,null,null,null,null,null,null,null,null,null,null,null,null,null,null,null,null,"- you wish to modify and/or peruse the model for research"]
[null,null,null,null,null,null,null,null,null,null,null,null,null,null,null,null,null,null,null,"You can save it and recall it later here:",null,null,null,null,null,null,null,null,null,null,null,null,"This tab shows the data on which",null,null,null,null,null,null,null,null,null,null,null,null,null,null,null,null,null,null,null,null,null,null,null,null,null,null,"purposes. In both cases, by unlocking the program"]
[null,null,null,null,null,null,null,null,null,null,null,null,null,null,null,null,null,null,null,null,null,null,null,null,null,null,null,null,null,null,null,null,"all the graphs are based   ",null,null,null,null,null,null,null,null,null,null,null,"This graph is shown as a reference.",null,null,null,null,null,null,null,null,null,null,null,null,null,null,"you acknowledge the copyright terms and conditions."]
[null,null,null,null,null,null,null,null,null,null,null,null,null,null,null,null,null,null,null,null,null,null,null,null,null,null,null,null,null,null,null,null,null,null,null,null,null,null,null,null,null,null,null,null,"It illustrates the importance of crop competition ",null,null,null,null,null,null," Click on the logo to go back to the title page anytime. "]
[null,null,null,null,null,null,null,null,null,null,null," Click on the BYGUM logo to go back to the title page anytime. ",null,null,null,null,null,null,"To see more results, click twice on              ",null,null,null,"and try",null,null,null,"To print and export your results, click on",null,null,null,null,null,null,null,"To see the results from a different perspective, try  ",null,null,null,null,null,null,null,null,null,"and how it varies depending on crop type",null,null,null,null,null,null,null,null,"Any changes you make will be retained"]
[null,null,null,null,null,null,null,null,null,null,null,"Any changes you make will be saved automatically.",null,null,null,null,null,null,null,null,null,null,null,null,null,null,null,null,null,null,null,null,null,null,null,null,null,null,null,null,null,null,null,null,"and on planting density.",null,null,null,null,null,null,null,null," (but not saved for another session, unless you click 'save'.)"]
[]
[null,null,null,null,null,null,null,"Continue!"]
[null,null,null,null,null,null,null,null,null,null,null,null,"Zoom to 80% only"]
[]
[null,null,null,null,null,"Brought to you by:"]

{"sheet":"Title","index":1,"n_rows":108,"n_cols":39,"rows_kept":108,"cut":false,"hidden":false,"merged":[]}
[]
[]
[]
[]
[]
[]
[]
[]
[null,null,null,null,null,null,null,null,null,null,null,null,"Barnyard Grass Understanding"]
[null,null,null,null,null,null,null,null,null,null,null,null,"and Management"]
[]
[]
[]
[]
[]
[]
[]
[]
[]
[null,null,"A tool to evaluate the profitability of barnyard grass control strategies"]
[null,null,"in Australian cotton cropping, in three simple steps:"]
[]
[]
[]
[]
[null,null,"1. Define your paddock     2. Build your strategy      3. Compare your results"]
[]
[]
[]
[]
[]
[]
[null,null,null,null,null,null,null,null,null,null,null,null,null,null,null,null,null,null,null,null,null,null,null,null,null,null,null,null,null,null,null,null,null,null,null,null,null,null,1]
[]
[null,null,null,null,null,null,null,null,null,null,null,null,null,null,null,null,null,null,null,null,"Version 2016.1",null,null,null,null,null,null,null,null,null,null,null,null,null,null,null,null,null,false]
[]
[]
[]
[]
[]
[]
[]
[]
[]
[]
[]
[]
[]
[]
[]
[]
[]
[]
[]
[]
[]
[]
[]
[]
[]
[]
[]
[]
[]
[]
[]
[]
[]
[]
[]
[]
[]
[]
[]
[]
[]
[]
[]
[]
[]
[]
[]
[]
[]
[]
[null,null,null,null,null,null,null,null,null,null,null,null,null,null,null,null,null,null,null,null,null,null,null,null,null," "]
[]
[]
[]
[]
[]
[]
[]
[]
[]
[]
[]
[]
[]
[]
[]
[]
[]
[]
[]
[]
[null,"Log since official release on February 2013:"]
[null,2013,"March","Added missing link in mouldboarding yield benefit"]

{"sheet":"1.Profile","index":2,"n_rows":239,"n_cols":48,"rows_kept":239,"cut":false,"hidden":false,"merged":[[237,16,237,18],[238,2,238,3],[191,16,191,18],[193,2,193,3],[196,2,196,3],[196,16,196,18],[225,2,225,3],[229,16,229,18],[232,2,232,3],[235,2,235,3],[235,16,235,18],[226,2,226,3],[216,2,216,3],[222,2,222,3],[65,2,65,3],[71,2,71,3],[74,16,74,18],[77,2,77,3],[80,2,80,3],[80,16,80,18],[82,16,82,18],[83,2,83,3],[109,2,109,3],[82,2,82,3],[187,2,187,3],[187,16,187,18],[100,2,100,3],[104,2,104,3],[110,2,110,3],[138,2,138,3],[142,2,142,3],[148,2,148,3],[108,2,108,3],[112,2,112,3],[101,2,101,3],[106,2,106,3],[121,2,121,3],[139,2,139,3],[144,2,144,3],[113,2,113,3],[114,2,114,3],[115,2,115,3],[118,2,118,3],[151,2,151,3],[152,2,152,3],[153,2,153,3],[156,2,156,3],[112,16,112,18],[14,2,14,3],[20,2,20,3],[26,2,26,3],[15,2,15,3],[18,2,18,3],[21,2,21,3],[22,2,22,3],[23,2,23,3],[24,2,24,3],[35,2,35,3],[36,2,36,3],[62,2,62,3],[107,2,107,3],[26,16,26,18],[27,16,27,18],[30,16,30,18],[31,16,31,18],[32,16,32,18],[33,16,33,18],[35,16,35,18],[74,2,74,3],[76,2,76,3],[27,2,27,3],[28,2,28,3],[29,2,29,3],[30,2,30,3],[32,2,32,3],[33,2,33,3],[69,2,69,3],[73,16,73,18],[75,2,75,3],[78,16,78,18],[61,2,61,3],[179,2,179,3],[182,2,182,3],[183,2,183,3],[175,2,175,3],[176,2,176,3],[79,2,79,3],[67,2,67,3],[68,2,68,3],[70,2,70,3],[73,2,73,3],[181,2,181,3],[116,2,116,3],[119,2,119,3],[122,2,122,3],[147,2,147,3],[154,2,154,3],[157,2,157,3],[160,2,160,3],[145,2,145,3],[146,2,146,3],[150,2,150,3],[190,2,190,3],[191,2,191,3],[194,2,194,3],[197,2,197,3],[220,2,220,3],[150,16,150,18],[237,2,237,3],[77,16,77,18],[79,16,79,18],[229,2,229,3],[230,2,230,3],[231,2,231,3],[234,2,234,3],[223,2,223,3],[224,2,224,3],[228,2,228,3],[228,16,228,18],[217,2,217,3],[184,2,184,3],[185,2,185,3],[188,2,188,3],[188,16,188,18],[189,2,189,3],[159,2,159,3],[56,31,56,33],[57,31,57,33],[59,31,59,33],[234,16,234,18],[192,16,192,18],[193,16,193,18],[194,16,194,18],[232,16,232,18],[233,16,233,18],[116,16,116,18],[117,16,117,18],[118,16,118,18],[154,16,154,18],[155,16,155,18],[156,16,156,18],[113,16,113,18],[119,16,119,18],[121,16,121,18],[151,16,151,18],[157,16,157,18],[159,16,159,18]]}
[]
[]
["1. DEFINE Your Paddock"]
[]
[null,"Main parameters",null,"Winter crop","Sorghum","Irrig Cotton","Dryland Cotton","Corn","Beans",null,null,"Cover Crop (Millet)"]
[]
[null,null,"Weed-free yields",1.8,4,{"$f":"F9*0.227","v":3.1779999999999999},{"$f":"G9*0.227","v":2.4969999999999999},14,1,"t/ha","Production costs",null,40,"$/ha",null,null,null,"Last year's BYG population"]
[null,null,"Prices",275,225,{"$f":"F10/0.227","v":2334.8017621145373},{"$f":"G10/0.227","v":2334.8017621145373},240,800,"$/t",null,null,null,null,null,null,null,2,"/m2"]
[null,null,null,null,null,14,11,"bales/ha",null,null,"Operation cost of sprayer",null,null,null,4.5,"$/ha"]
[null,null,null,null,null,530,530,"$/bale",null,null,"Average area cropped",null,null,null,1000,"ha"]
[]
[]
[null,"BYG Control options",null,null,"Irrig cotton","D/L cotton, beans","W/crop, Corn & Sorghum","Summer fallow","Irrig cotton","D/L cotton, beans","Corn & Sorghum","Summer fallow"]
[null,"Enter herbicide names, cost and % barnyard grass controlled:",null,null,null,"Cost ($/ha)",null,null,null,"% of barnyard grass controlled"]
[null,null,"Glyphosate",null,8,8,8,8,0.2,0.2,0.2,0.2]
[null,"Pre/non-crop","Paraquat",null,10,10,10,10,0.95,0.95,0.95,0.95]
[null,"knockdowns","Group A",null,15,15,15,15,0.95,0.95,0.95,0.95]
[null,null,"Tillage",null,9,9,9,9,0.96,0.96,0.96,0.96]
[null,"Double-knock","Glyphosate/Paraquat",null,18,18,18,18,1,1,1,1]
[]
[null,null,"Trifluralin",null,20,20,20,20,0.85,0.85,0.85,0.85]
[null,"Pre-","Diuron",null,15,15,15,15,0.85,0.85,0.85,0.85,null,null,"  "]
[null,"emergence","Pendimethalin",null,35,35,35,35,0.82,0.8,0.8,0.8,null,"Save Profile"]
[null,"herbicides","s-Metolachlor",null,30,25,25,30,0.92,0.9,0.9,0.9]
[null,null,"Fluometuron+Prometryn",null,60,60,60,60,0.86,0.85,0.85,0.85]
[]
[null,null,"Glyphosate",null,11,11,11,8,0.15,0.2,0.2,0.2,null,null,"Paddock name:",null,"GR",null,null," "]
[null,"In-crop","Glufosinate",null,18,18,18,18,0.65,0.7,0.7,0.7,null,null,"Your name:",null,"BYGUM",null,null," "]
[null,"post-emergent","Paraquat (shielded)",null,9,9,9,11,0.8,0.8,0.8,0.95]
[null,"tactics","Inter-row tillage",null,9,9,9,8,0.8,0.85,0.85,0.95]
[null,null,"Group A",null,15,15,15,15,0.9,0.92,0.92,0.95,null,null,null,null,"BYGUM, GR",null,null," "]
[null,"Enter additional control options:",null,null,null,null,null,null,null,null,null,null,null,null,null,null,"BYGUM, non-GR",null,null," "]
[null,"Layby","Diuron",null,10,11,10,10,0.7,0.7,0.7,0.7,null,null,null,null,"BYGUM, Test cotton 1",null,null," "]
[null,"options","Pendimethalin",null,20,20,20,35,0.7,0.7,0.7,0.7,null,null,null,null,"BYGUM, Test cotton 1",null,null," "]
[]
[null,"Harvest","Defol glyphosate",null,0,10,10,10,0.12,0.12,0.15,0.3,null,null,null,null,"Susceptible, Default",null,null," "]
[null,"options","Defol Dropp",null,10,10,0,0,0.06,0.05,0,0,null,null,null,null,null,null,null," "]
[]
[]
[null,null,null,null,null,null,null,null,null,null,null,null,null,null,null,null,null,null,null,null,null,null,null,null,null,null,null,null,null,null,null,null,null,null,null,null,null,null,null,null,null,null,null,null,null,{"$f":"P_1P","v":true},null,"indicator for printing"]
[]
[]
[]
[]
[]
[]
[null,null,null,null,null,null,null,null,null,null,null,null,null,null,null,null,null,null,null,null,null,null,null,null,null,null,null,null,null,null,null,null,null,null,null,null,null,null,null,null,null,null,null,null,null,false,null,"indicator for tutorials"]
[]
[null,null,null,null,null,null,null,null,null,null,null,null,null,null,null,null,null,null,null,"Note: careful with deleting/inserting lines, could stuff up the saving/loading macros"]
[null,"Profile_0",{"$f":"Q36","v":"Susceptible, Default"},null,"Additional references for the default Profile, Options and Prices (2012): Stephen Powles (AHRI, UWA), Vanessa Stewart (DAFWA), Abul Ashem (DAFWA), David Pfeiffer (Synergy Consulting), Alistair Drapper, Bevan Addison."]
[null,null,null,null,null,null,null,null,null,null,null,null,null,null,null,null,null,null,null,null,null,null,null,null,null,null,null,null,null,null,{"$f":"COUNT(D7:I8,'1.Profile'!O9:O10,M7,SeedNos_SH,Q27:S28)","v":16},"Some information is missing on this page"]
[null,"Main parameters",null,"Winter crop","Sorghum","Irrig Cotton","Dryland Cotton","Corn","Beans",null,null,"Cover Crop (Millet)",null,null,null,null,null,null,null,null,null,null,null,null,null,null,null,null,null,null,{"$f":"'+Prices'!AC46","v":28},"Some information is missing in 'More Prices'"]
[null,null,null,null,null,null,null,null,null,null,null,null,null,null,null,null,null,null,null,null,null,null,null,null,null,null,null,null,null,null,{"$f":"'+Options'!AC47","v":30},"Some information is missing in 'More Options'"]
[null,null,"Weed-free yields",1.8,4,{"$f":"F56*0.227","v":3.1779999999999999},{"$f":"G56*0.227","v":2.4969999999999999},14,1,"t/ha","Production costs",null,40,"$/ha",null,null,null,"Last year's BYG population",null,null,null,null,null,null,null,null,null,null,null,null,{"$f":"IF(OR(SUM('1.Profile'!J15:J16)<0.6,SUM('1.Profile'!L15:L16)<0.6,SUM('1.Profile'!I15:I16)<0.6),\"Adjust\",\"OK\")","v":"OK"},"Please adjust the spring options ↑"]
[null,null,"Prices",275,225,{"$f":"F57/0.227","v":2334.8017621145373},{"$f":"G57/0.227","v":2334.8017621145373},240,800,"$/t",null,null,null,null,null,null,null,2,"/m2"]
[null,null,null,null,null,14,11,"bales/ha",null,null,"Operation cost of sprayer",null,null,null,4.5,"$/ha"]
[null,null,null,null,null,530,530,"$/bale",null,null,"Average area cropped",null,null,null,1000,"ha",null,null,null,null,null,null,null,null,null,null,null,null,null,null,null,"Resistant, Non-selectives"]
[null,null,null,null,null,null,null,null,null,null,null,null,null,null,null,null,null,null,null,null,null,null,null,null,null,null,null,null,null,null,null,"Resistant, Gr. A B D"]
[]
[null,"BYG Control options",null,null,"Irrig cotton","D/L cotton, beans","W/crop, Corn & Sorghum","Summer fallow","Irrig cotton","D/L cotton, beans","Corn & Sorghum","Summer fallow",null,null,null,null,null,null,null,null,null,null,null,null,null,null,null,null,null,null,null,"Susceptible, Default"]
[null,"Enter herbicide names, cost and % barnyard grass controlled:",null,null,null,"Cost ($/ha)",null,null,null,"% of barnyard grass controlled"]
[null,null,"Glyphosate",null,8,8,8,8,0.4,0.4,0.4,0.4]
[null,"Pre/non-crop","Paraquat",null,10,10,10,10,0.95,0.95,0.95,0.95]
[null,"knockdowns","Group A",null,15,15,15,15,0.95,0.95,0.95,0.95]
[null,null,"Tillage",null,9,9,9,9,0.96,0.96,0.96,0.96]
[null,"Double-knock","Glyphosate/Paraquat",null,18,18,18,18,1,1,1,1]
[]
[null,null,"Trifluralin",null,20,20,20,20,0.85,0.85,0.85,0.85]
[null,"Pre-","Diuron",null,15,15,15,15,0.85,0.85,0.85,0.85,null,null,"  "]
[null,"emergence","Pendimethalin",null,35,35,35,35,0.82,0.8,0.8,0.8,null,"Save Profile"]
[null,"herbicides","s-Metolachlor",null,30,25,25,30,0.92,0.9,0.9,0.9]
[null,null,"Fluometuron+Prometryn",null,60,60,60,60,0.86,0.85,0.85,0.85]
[null,null,null,null,null,null,null,null,null,null,null,null,null,null,null,null,null,null,null," "]
[null,null,"Glyphosate",null,11,11,11,8,0.3,0.35,0.35,0.4,null,null,"Paddock name:",null,"Test cotton 1",null,null," "]
[null,"In-crop","Glufosinate",null,18,18,18,18,0.65,0.7,0.7,0.7,null,null,"Your name:",null,"BYGUM"]
[null,"post-emergent","Paraquat (shielded)",null,9,9,9,11,0.8,0.8,0.8,0.95]
[null,"tactics","Inter-row tillage",null,9,9,9,8,0.8,0.85,0.85,0.95,null,null,null,null,null,null,null," "]
[null,null,"Group A",null,15,15,15,15,0.9,0.92,0.92,0.95,null,null,null,null,"BYGUM, Test cotton 1",null,null," "]
[null,"Enter additional control options:",null,null,null,null,null,null,null,null,null,null,null,null,null,null,"BYGUM, Test cotton 1",null,null," "]
[null,"Layby","Diuron",null,10,11,10,10,0.7,0.7,0.7,0.7,null,null,null,null,"BYGUM, Test cotton 1",null,null," "]
[null,"options","Pendimethalin",null,20,20,20,35,0.7,0.7,0.7,0.7,null,null,null,null,"BYGUM, Test cotton 1"]
[null,null,null,null,null,null,null,null,null,null,null,null,null,null,null,null,null,null,null," "]
[null,"Harvest","Defol glyphosate",null,0,10,10,10,0.12,0.12,0.15,0.3,null,null,null,null,"Susceptible, Default",null,null," "]
[null,"options","Defol Dropp",null,10,10,0,0,0.06,0.05,0,0]
[]
[]
[]
[]
[null,"Profile_1",{"$f":"Q31","v":"BYGUM, GR"}]
[]
[null,"Main parameters",null,"Winter crop","Sorghum","Irrig Cotton","Dryland Cotton","Corn","Beans",null,null,"Cover Crop (Millet)"]
[]
[null,null,"Weed-free yields",1.8,4,{"$f":"F95*0.227","v":3.1779999999999999},{"$f":"G95*0.227","v":2.4969999999999999},14,1,"t/ha","Production costs",null,40,"$/ha",null,null,null,"Last year's BYG population"]
[null,null,"Prices",275,225,{"$f":"F96/0.227","v":2334.8017621145373},{"$f":"G96/0.227","v":2334.8017621145373},240,800,"$/t",null,null,null,null,null,null,null,2,"/m2"]
[null,null,null,null,null,14,11,"bales/ha",null,null,"Operation cost of sprayer",null,null,null,4.5,"$/ha"]
[null,null,null,null,null,530,530,"$/bale",null,null,"Average area cropped",null,null,null,1000,"ha"]
[]
[]
[null,"BYG Control options",null,null,"Irrig cotton","D/L cotton, beans","W/crop, Corn & Sorghum","Summer fallow","Irrig cotton","D/L cotton, beans","Corn & Sorghum","Summer fallow"]
[null,"Enter herbicide names, cost and % barnyard grass controlled:",null,null,null,"Cost ($/ha)",null,null,null,"% of barnyard grass controlled"]
[null,null,"Glyphosate",null,8,8,8,8,0.2,0.2,0.2,0.2]
[null,"Pre/non-crop","Paraquat",null,10,10,10,10,0.95,0.95,0.95,0.95]
[null,"knockdowns","Group A",null,15,15,15,15,0.95,0.95,0.95,0.95]
[null,null,"Tillage",null,9,9,9,9,0.96,0.96,0.96,0.96]
[null,"Double-knock","Glyphosate/Paraquat",null,18,18,18,18,1,1,1,1]
[]
[null,null,"Trifluralin",null,20,20,20,20,0.85,0.85,0.85,0.85]
[null,"Pre-","Diuron",null,15,15,15,15,0.85,0.85,0.85,0.85,null,null,"  "]
[null,"emergence","Pendimethalin",null,35,35,35,35,0.82,0.8,0.8,0.8,null,"Save Profile"]
[null,"herbicides","s-Metolachlor",null,30,25,25,30,0.92,0.9,0.9,0.9]
[null,null,"Fluometuron+Prometryn",null,60,60,60,60,0.86,0.85,0.85,0.85]
[]
[null,null,"Glyphosate",null,11,11,11,8,0.15,0.2,0.2,0.2,null,null,"Paddock name:",null,"GR"]
[null,"In-crop","Glufosinate",null,18,18,18,18,0.65,0.7,0.7,0.7,null,null,"Your name:",null,"BYGUM"]
[null,"post-emergent","Paraquat (shielded)",null,9,9,9,11,0.8,0.8,0.8,0.95]
[null,"tactics","Inter-row tillage",null,9,9,9,8,0.8,0.85,0.85,0.95]
[null,null,"Group A",null,15,15,15,15,0.9,0.92,0.92,0.95,null,null,null,null,"Testgum, BYGUM"]
[null,"Enter additional control options:",null,null,null,null,null,null,null,null,null,null,null,null,null,null,"Testgum, BYGUM"]
[null,"Layby","Diuron",null,10,11,10,10,0.7,0.7,0.7,0.7,null,null,null,null,"Testgum, BYGUM"]
[null,"options","Pendimethalin",null,20,20,20,35,0.7,0.7,0.7,0.7,null,null,null,null,"Testgum, BYGUM"]
[]
[null,"Harvest","Defol glyphosate",null,0,10,10,10,0.12,0.12,0.15,0.3,null,null,null,null,"Susceptible, Default"]
[null,"options","Defol Dropp",null,10,10,0,0,0.06,0.05,0,0]
[]
[]
[]
[null,"Profile_2",{"$f":"Q32","v":"BYGUM, non-GR"}]
[]
[null,"Main parameters",null,"Winter crop","Sorghum","Irrig Cotton","Dryland Cotton","Corn","Beans",null,null,"Cover Crop (Millet)"]
[]
[null,null,"Weed-free yields",1.8,4,{"$f":"F133*0.227","v":3.1779999999999999},{"$f":"G133*0.227","v":2.4969999999999999},14,1,"t/ha","Production costs",null,40,"$/ha",null,null,null,"Last year's BYG population"]
[null,null,"Prices",275,225,{"$f":"F134/0.227","v":2334.8017621145373},{"$f":"G134/0.227","v":2334.8017621145373},240,800,"$/t",null,null,null,null,null,null,null,2,"/m2"]
[null,null,null,null,null,14,11,"bales/ha",null,null,"Operation cost of sprayer",null,null,null,4.5,"$/ha"]
[null,null,null,null,null,530,530,"$/bale",null,null,"Average area cropped",null,null,null,1000,"ha"]
[]
[]
[null,"BYG Control options",null,null,"Irrig cotton","D/L cotton, beans","W/crop, Corn & Sorghum","Summer fallow","Irrig cotton","D/L cotton, beans","Corn & Sorghum","Summer fallow"]
[null,"Enter herbicide names, cost and % barnyard grass controlled:",null,null,null,"Cost ($/ha)",null,null,null,"% of barnyard grass controlled"]
[null,null,"Glyphosate",null,8,8,8,8,0.96,0.96,0.96,0.96]
[null,"Pre/non-crop","Paraquat",null,10,10,10,10,0.95,0.95,0.95,0.95]
[null,"knockdowns","Group A",null,15,15,15,15,0.95,0.95,0.95,0.95]
[null,null,"Tillage",null,9,9,9,9,0.96,0.96,0.96,0.96]
[null,"Double-knock","Glyphosate/Paraquat",null,18,18,18,18,1,1,1,1]
[]
[null,null,"Trifluralin",null,20,20,20,20,0.85,0.85,0.85,0.85]
[null,"Pre-","Diuron",null,15,15,15,15,0.85,0.85,0.85,0.85,null,null,"  "]
[null,"emergence","Pendimethalin",null,35,35,35,35,0.82,0.8,0.8,0.8,null,"Save Profile"]
[null,"herbicides","s-Metolachlor",null,30,25,25,30,0.92,0.9,0.9,0.9]
[null,null,"Fluometuron+Prometryn",null,60,60,60,60,0.86,0.85,0.85,0.85]
[]
[null,null,"Glyphosate",null,11,11,11,8,0.95,0.95,0.95,0.95,null,null,"Paddock name:",null,"non-GR"]
[null,"In-crop","Glufosinate",null,18,18,18,18,0.65,0.7,0.7,0.7,null,null,"Your name:",null,"BYGUM"]
[null,"post-emergent","Paraquat (shielded)",null,9,9,9,11,0.8,0.8,0.8,0.95]
[null,"tactics","Inter-row tillage",null,9,9,9,8,0.8,0.85,0.85,0.95]
[null,null,"Group A",null,15,15,15,15,0.9,0.92,0.92,0.95,null,null,null,null,"Testgum, BYGUM"]
[null,"Enter additional control options:",null,null,null,null,null,null,null,null,null,null,null,null,null,null,"Testgum, BYGUM"]
[null,"Layby","Diuron",null,10,11,10,10,0.7,0.7,0.7,0.7,null,null,null,null,"Testgum, BYGUM"]
[null,"options","Pendimethalin",null,20,20,20,35,0.7,0.7,0.7,0.7,null,null,null,null,"Testgum, BYGUM"]
[]
[null,"Harvest","Defol glyphosate",null,0,10,10,10,0.12,0.12,0.15,0.3,null,null,null,null,"Susceptible, Default"]
[null,"options","Defol Dropp",null,10,10,0,0,0.06,0.05,0,0]
[]
[]
[]
[]
[null,"Main parameters",null,"Winter crop","Sorghum","Irrig Cotton","Dryland Cotton","Corn","Beans",null,null,"Cover Crop (Millet)"]
[]
[null,null,"Weed-free yields",1.8,4,{"$f":"F170*0.227","v":3.1779999999999999},{"$f":"G170*0.227","v":2.4969999999999999},14,1,"t/ha","Production costs",null,40,"$/ha",null,null,null,"Last year's BYG population"]
[null,null,"Prices",275,225,{"$f":"F171/0.227","v":2334.8017621145373},{"$f":"G171/0.227","v":2334.8017621145373},240,800,"$/t",null,null,null,null,null,null,null,2,"/m2"]
[null,null,null,null,null,14,11,"bales/ha",null,null,"Operation cost of sprayer",null,null,null,4.5,"$/ha"]
[null,null,null,null,null,530,530,"$/bale",null,null,"Average area cropped",null,null,null,1000,"ha"]
[]
[]
[null,"BYG Control options",null,null,"Irrig cotton","D/L cotton, beans","W/crop, Corn & Sorghum","Summer fallow","Irrig cotton","D/L cotton, beans","Corn & Sorghum","Summer fallow"]
[null,"Enter herbicide names, cost and % barnyard grass controlled:",null,null,null,"Cost ($/ha)",null,null,null,"% of barnyard grass controlled"]
[null,null,"Glyphosate",null,8,8,8,8,0.4,0.4,0.4,0.4]
[null,"Pre/non-crop","Paraquat",null,10,10,10,10,0.95,0.95,0.95,0.95]
[null,"knockdowns","Group A",null,15,15,15,15,0.95,0.95,0.95,0.95]
[null,null,"Tillage",null,9,9,9,9,0.96,0.96,0.96,0.96]
[null,"Double-knock","Glyphosate/Paraquat",null,18,18,18,18,1,1,1,1]
[]
[null,null,"Trifluralin",null,20,20,20,20,0.85,0.85,0.85,0.85]
[null,"Pre-","Diuron",null,15,15,15,15,0.85,0.85,0.85,0.85,null,null,"  "]
[null,"emergence","Pendimethalin",null,35,35,35,35,0.82,0.8,0.8,0.8,null,"Save Profile"]
[null,"herbicides","s-Metolachlor",null,30,25,25,30,0.92,0.9,0.9,0.9]
[null,null,"Fluometuron+Prometryn",null,60,60,60,60,0.86,0.85,0.85,0.85]
[]
[null,null,"Glyphosate",null,11,11,11,8,0.3,0.35,0.35,0.4,null,null,"Paddock name:",null,"Test cotton 1"]
[null,"In-crop","Glufosinate",null,18,18,18,18,0.65,0.7,0.7,0.7,null,null,"Your name:",null,"BYGUM"]
[null,"post-emergent","Paraquat (shielded)",null,9,9,9,11,0.8,0.8,0.8,0.95]
[null,"tactics","Inter-row tillage",null,9,9,9,8,0.8,0.85,0.85,0.95]
[null,null,"Group A",null,15,15,15,15,0.9,0.92,0.92,0.95,null,null,null,null,"Testgum, BYGUM"]
[null,"Enter additional control options:",null,null,null,null,null,null,null,null,null,null,null,null,null,null,"Testgum, BYGUM"]
[null,"Layby","Diuron",null,10,11,10,10,0.7,0.7,0.7,0.7,null,null,null,null,"Testgum, BYGUM"]
[null,"options","Pendimethalin",null,20,20,20,35,0.7,0.7,0.7,0.7,null,null,null,null,"Testgum, BYGUM"]
[]
[null,"Harvest","Defol glyphosate",null,0,10,10,10,0.12,0.12,0.15,0.3,null,null,null,null,"Susceptible, Default"]
[null,"options","Defol Dropp",null,10,10,0,0,0.06,0.05,0,0]
[]
[]
[]
[]
[]
[]
[null,"Profile_4",{"$f":"Q34","v":"BYGUM, Test cotton 1"}]
[]
[null,"Main parameters",null,"Winter crop","Sorghum","Irrig Cotton","Dryland Cotton","Corn","Beans",null,null,"Cover Crop (Millet)"]
[]
[null,null,"Weed-free yields",1.8,4,{"$f":"F211*0.227","v":3.1779999999999999},{"$f":"G211*0.227","v":2.4969999999999999},14,1,"t/ha","Production costs",null,40,"$/ha",null,null,null,"Last year's BYG population"]
[null,null,"Prices",275,225,{"$f":"F212/0.227","v":2334.8017621145373},{"$f":"G212/0.227","v":2334.8017621145373},240,800,"$/t",null,null,null,null,null,null,null,2,"/m2"]
[null,null,null,null,null,14,11,"bales/ha",null,null,"Operation cost of sprayer",null,null,null,4.5,"$/ha"]
[null,null,null,null,null,530,530,"$/bale",null,null,"Average area cropped",null,null,null,1000,"ha"]
[]
[]
[null,"BYG Control options",null,null,"Irrig cotton","D/L cotton, beans","W/crop, Corn & Sorghum","Summer fallow","Irrig cotton","D/L cotton, beans","Corn & Sorghum","Summer fallow"]
[null,"Enter herbicide names, cost and % barnyard grass controlled:",null,null,null,"Cost ($/ha)",null,null,null,"% of barnyard grass controlled"]
[null,null,"Glyphosate",null,8,8,8,8,0.4,0.4,0.4,0.4]
[null,"Pre/non-crop","Paraquat",null,10,10,10,10,0.95,0.95,0.95,0.95]
[null,"knockdowns","Group A",null,15,15,15,15,0.95,0.95,0.95,0.95]
[null,null,"Tillage",null,9,9,9,9,0.96,0.96,0.96,0.96]
[null,"Double-knock","Glyphosate/Paraquat",null,18,18,18,18,1,1,1,1]
[]
[null,null,"Trifluralin",null,20,20,20,20,0.85,0.85,0.85,0.85]
[null,"Pre-","Diuron",null,15,15,15,15,0.85,0.85,0.85,0.85,null,null,"  "]
[null,"emergence","Pendimethalin",null,35,35,35,35,0.82,0.8,0.8,0.8,null,"Save Profile"]
[null,"herbicides","s-Metolachlor",null,30,25,25,30,0.92,0.9,0.9,0.9]
[null,null,"Fluometuron+Prometryn",null,60,60,60,60,0.86,0.85,0.85,0.85]
[]
[null,null,"Glyphosate",null,11,11,11,8,0.3,0.35,0.35,0.4,null,null,"Paddock name:",null,"Test cotton 1"]
[null,"In-crop","Glufosinate",null,18,18,18,18,0.65,0.7,0.7,0.7,null,null,"Your name:",null,"BYGUM"]
[null,"post-emergent","Paraquat (shielded)",null,9,9,9,11,0.8,0.8,0.8,0.95]
[null,"tactics","Inter-row tillage",null,9,9,9,8,0.8,0.85,0.85,0.95]
[null,null,"Group A",null,15,15,15,15,0.9,0.92,0.92,0.95,null,null,null,null,"Testgum, BYGUM"]
[null,"Enter additional control options:",null,null,null,null,null,null,null,null,null,null,null,null,null,null,"Testgum, BYGUM"]
[null,"Layby","Diuron",null,10,11,10,10,0.7,0.7,0.7,0.7,null,null,null,null,"Testgum, BYGUM"]
[null,"options","Pendimethalin",null,20,20,20,35,0.7,0.7,0.7,0.7,null,null,null,null,"Testgum, BYGUM"]
[]
[null,"Harvest","Defol glyphosate",null,0,10,10,10,0.12,0.12,0.15,0.3,null,null,null,null,"Susceptible, Default"]
[null,"options","Defol Dropp",null,10,10,0,0,0.06,0.05,0,0]

{"sheet":"+Prices","index":3,"n_rows":212,"n_cols":50,"rows_kept":212,"cut":false,"hidden":false,"merged":[]}
[]
[]
[]
[]
[]
[]
[null,"More Prices…",null,null,null,null,null,null,{"$f":"'1.Profile'!Q28&\", \"&'1.Profile'!Q27","v":"BYGUM, GR"},null,null,null,null,null,null,null,null,null,null,null,null,null,null,null,null,null,null,null,null,null,null," "]
[]
[]
[null,"Establishment costs",null,null,null,"Winter crop","Irrig cotton","Dryland cotton","Sorghum","Corn","Beans"]
[]
[null,null,"Seed (standard rate)",null,"$/ha ",35,20,7.73,35,15,40]
[null,null,"incl. dressing / cleaning / inoculum / etc."]
[null,null,"Fertilisers - standard, average practice",null,"$/ha ",90,95,70,40,55,35]
[null,null,"Fertilisers - following a legume",null,"$/ha ",85,95,70,35,50,35]
[]
[null,null,"Additional costs (incl. application costs)",null,"$/ha ",30,120,30,30,30,20]
[null,null,"insecticides, fungicides, broadleaf weed control, bed preparation, technical package, advisor costs, insurance, etc."]
[]
[]
[]
[]
[null,"Other costs",null,null,null,null,null,null,"Machinery"]
[]
[null,null,"Environmental cost of soil disturbance",null,"$/ha",5,null,null,null,"Harvester:"]
[null,null,"Winter fallow management costs",null,"$/ha",12,null,null,null,"● Maintenance costs",null,null,null,"$/ha /year",10]
[null,null,"Summer fallow management costs",null,"$/ha",12,null,null,null,"● Fuel consumption",null,null,null,"l/ha ",6]
[null,null,"Crop topping (your selected tactic)",null,"$/ha",25,null,null,null,"● Diesel price",null,null,null,"$/l ",1.1000000000000001]
[]
[null,null,null,null,null,null,null,null,null,"Purchase cost of:"]
[null,null,null,null,null,null,null,null,null,"● Narrow windrow chute",null,null,null,"$ ",500]
[null,null,null,null,null,null,null,null,null,"● Chaff cart",null,null,null,"$ ",70000]
[null,null,null,null,null,null,null,null,null,"● Harrington seed destructor (HSD)",null,null,null,"$ ",160000]
[null,null,null,null,null,null,null,null,null,"● Bale direct system (BDS)",null,null,null,"$ ",140000]
[]
[null,null,null,null,null,null,null,null,null,"Machinery repayments:"]
[null,null,null,null,null,null,null,null,null,"● Loan duration",null,null,null,"years",8]
[null,null,null,null,null,null,null,null,null,"● Interest rate",null,null,null,null,0.06]
[null,null,null,null,null,null,null,null,null,null,null,null,null,null,null,null,null,null,null,null,null,null,null,null,null,null,null,null,null,null,null,null,null,null,null,null,null,null,null,null,null,null,null,{"$f":"P_1P","v":true}]
[]
[]
[]
[]
[]
[]
[null,null,null,null,null,null,null,null,null,null,null,null,null,null,null,null,null,null,null,null,null,null,null,null,null,null,null,null,{"$f":"COUNT(G12:I12,I14:L14,K12:L12,G14:H15,G17:L17,F19:H19,F27:F29,F25,O26:O28,O31:O34,O37:O38,F21)","v":28}]
[]
[null,"Prices_0",{"$f":"'1.Profile'!Q36","v":"Susceptible, Default"}]
[null,null,null,null,null,null,null,null,null,null,null,null,null,null,null,null,null,null,null,null,null,null,null,null,null,null,null,null,null,null,null,null,null,null,null,null,null,null,null,null,null,"Walsh, M. and Powles, S. (2007) Management Strategies for Herbicide-Resistant Weed Populations in Australian Dryland Crop Production Systems. Weed Technology 21:332–338"]
[null,"Establishment costs",null,null,null,"Winter crop","Irrig cotton","Dryland cotton","Sorghum","Corn","Beans",null,null,null,null,null,null,null,null,null,null,null,null,null,null,null,null,null,null,null,null,null,null,null,"Establishment costs - machinery",null,null,null,null,null,null,"Walsh, M. and P. Newman (2007) Burning narrow windrows for weed seed destruction. Field Crops Research 104:24–30."]
[null,null,null,null,null,null,null,null,null,null,null,null,null,null,null,null,null,null,null,null,null,null,null,null,null,null,null,null,null,null,null,null,null,null,null,null,null,null,null,null,null,"Walsh, M., Harrington, R. and Powles, S (2012) Harrington Seed Destructor: a new non-chemical weed control tool for global grain crops. Crop Science (2012) 52:1343-1347"]
[null,null,"Seed (standard rate)",null,"$/ha ",35,20,7.73,35,15,40,null,null,null,null,null,null,null,null,null,null,null,null,null,null,null,null,null,null,null,null,null,null,null,"References used for ratios","R&M","Fuel","Operating","Residue","R&M","Fuel","Operating","N removal","Capital cost"]
[null,null,"incl. dressing / cleaning / inoculum / etc.",null,null,null,null,null,null,null,null,null,null,null,null,null,null,null,null,null,null,null,null,null,null,null,null,null,null,null,null,null,null,null,"Tickle (shallow cultivation )",3,3,"extra","removal"]
[null,null,"Fertilisers - standard, average practice",null,"$/ha ",90,95,70,40,55,35,null,null,null,null,null,null,null,null,null,null,null,null,null,null,null,null,null,null,null,null,null,null,null,"No-till seeding ",5,5.5,null,null,"Alistair Drapper, 2012"]
[null,null,"Fertilisers - following a legume",null,"$/ha ",85,95,70,35,50,35,null,null,null,null,null,null,null,null,null,null,null,null,null,null,null,null,null,null,null,null,null,null,null,"Full cut seeding ",6,6,null," "]
[null,null,null,null,null,null,null,null,null,null,null,null,null,null,null,null,null,null,null,null,null,null,null,null,null,null,null,null,null,null,null,null,null,null,"Harvest ",10,6]
[null,null,"Additional costs (incl. application costs)",null,"$/ha ",30,40,30,30,30,20,null,null,null,null,null,null,null,null,null,null,null,null,null,null,null,null,null,null,null,null,null," "," ","Cart+B. = Chaff cart system (burning dumps)",0.25,0.5,2,2.5,null,null,null,null,"60 000",null,null,"Legend:",22,"linked to interface (current page or otherwise specified)"]
[null,null,"insecticides, fungicides, broadleaf weed control, bed preparation, technical package, advisor costs, insurance, etc.",null,null,null,null,null,null,null,null,null,null,null,null,null,null,null,null,null,null,null,null,null,null,null,null,null,null,null,null,null,null,null,"Narr+B. = Narrow windrows burning system",null,null,2,3.8,null,null,null,null,500,null,null,null,22,"calculation"]
[null,null,null,null,null,null,null,null,null,null,null,null,null,null,null,null,null,null,null,null,null,null,null,null,null,null,null,null,null,null,null,null,null,null,"HSD = Harrington seed destructor",2,3.5,null,null,null,"Peter Newman, DAFWA, 2012",null,"nominal","160 000",null,null,null,null,"n.a."]
[null,null,null,null,null,null,null,null,null,null,null,null,null,null,null,null,null,null,null,null,null,null,null,null,null,null,null,null,null,null,null,null,null,null,"Tram = Chaff-tramlining (no extra requirement since already in)",null,null,"see Calc",2.5,null,null,null,"proportions","1 000",null,null,null,0.22,"not linked (direct input)"]
[null,null,null,null,null,null,null,null,null,null,null,null,null,null,null,null,null,null,null,null,null,null,null,null,null,null,null,null,null,null,null,null,null,null,"add harvest option here",null,null,null,null,null,null,null,"only",null,null,null,null,0.22,"not linked, do not change without good advice"]
[null,null,null,null,null,null,null,null,null,null,null,null,null,null,null,null,null,null,null,null,null,null,null,null,null,null,null,null,null,null,null,null,null,null,"BDS = Bale direct system",2.5,4,5,4,null,"Rob Grima, DAFWA, 2012",null,null,"190 000",null,null,null,0.22,"reference data, in cases used for ratios"]
[null,"Other costs",null,null,null,null,null,null,"Machinery",null,null,null,null,null,null,null,null,null,null,null,null,null,null,null,null,null,null,null,null,null,null,null,null,null,"B.all = Burn whole paddock",null,null,2,7.5,null,null,null,null,"-"]
[null,null,null,null,null,null,null,null,null,null,null,null,null,null,null,null,null,null,null,null,null,null,null,null,null,null,null,null,null,null,null,null,null,null,null,null,null,null,null,null,null,null,null,null,"Note: RIM uses a standard farm as a baseline and hence accounts for the extra capital cost of specific machinery only"]
[null,null,"Environmental cost of soil disturbance",null,"$/ha",5,null,null,null,"Harvester:",null,null,null,null,null,null,null,null,null,null,null,null,null,null,null,null,null,null,null,null,null,null,null,null,null,null,null,null,null,null,null,null,null,null," (not for the harvester or sprayer that are part of the part anyway)",null,"Financial values"]
[null,null,"Winter fallow management costs",null,"$/ha",12,null,null,null,"● Maintenance costs",null,null,null,"$/ha /year",10,null,null,null,null,null,null,null,null,null,null,null,null,null,null,null,null,null,null,null,null,"R&M","Fuel","Extra operating ",null,null,null,null,null,null,null,null,"These rates apply for the whole 10 year period"]
[null,null,"Summer fallow management costs",null,"$/ha",12,null,null,null,"● Fuel consumption",null,null,null,"l/ha ",6,null,null,null,null,null,null,null,null,null,null,null,null,null,null,null,null,null,null,null,null,"($/ha)","(L/ha)","costs ($/ha)",null,"TOTAL",null,null,"Repayments",null,null,null,"Rates of Price and Yield Increase",null,null,"Reviewed 2012"]
[null,null,"Crop topping (your selected tactic)",null,"$/ha",25,null,null,null,"● Diesel price",null,null,null,"$/l ",1.1000000000000001,null,null,null,null,null,null,null,null,null,null,null,null,null,null,null,null,null,null,null,"Tickle (shallow cultivation )",{"$f":"$AJ$71*AJ53/$AJ$56","v":3},{"$f":"$AK$71*AK53/$AK$56","v":3},"(conducting",null,{"$f":"AJ68+AK68*$O$28","v":6.3000000000000007},null,null,null,null,null,null,"Rate of increase of potential crop yield (%/year)",0.01,null,0.01]
[null,null,null,null,null,null,null,null,null,null,null,null,null,null,null,null,null,null,null,null,null,null,null,null,null,null,null,null,null,null,null,null,null,null,"No-till seeding ",{"$f":"$AJ$71*AJ54/$AJ$56","v":5},{"$f":"$AK$71*AK54/$AK$56","v":5.5},"or burning)",null,{"$f":"AJ69+AK69*$O$28","v":11.05},"see",null,null,null,null,null,"Rate of increase of sheep/pasture productivity (%/year)",5.0000000000000001E-3,null,5.0000000000000001E-3]
[null,null,null,null,null,null,null,null,null,"Purchase cost of:",null,null,null,null,null,null,null,null,null,null,null,null,null,null,null,null,null,null,null,null,null,null,null,null,"Full cut seeding ",{"$f":"$AJ$71*AJ55/$AJ$56","v":6},{"$f":"$AK$71*AK55/$AK$56","v":6},null,"Residue",{"$f":"AJ70+AK70*$O$28","v":12.600000000000001},"    below",null,null,null,null,null,"Inflation rate for crop sale prices (%/year)",0.01,null,0.01]
[null,null,null,null,null,null,null,null,null,"● Narrow windrow chute",null,null,null,"$ ",500,null,null,null,null,null,null,null,null,null,null,null,null,null,null,null,null,null,null,null,"Harvest ",{"$f":"O26","v":10},{"$f":"O27","v":6},null,"removal",{"$f":"AJ71+AK71*$O$28","v":16.600000000000001},null,null,null,null,null,null,"Inflation rate for sheep product prices (%/year)",5.0000000000000001E-3,null,5.0000000000000001E-3]
[null,null,null,null,null,null,null,null,null,"● Chaff cart",null,null,null,"$ ",70000,null,null,null,null,null,null,null,null,null,null,null,null,null,null,null,null,null,null,null,{"$f":"AI57","v":"Cart+B. = Chaff cart system (burning dumps)"},{"$f":"$AJ$71*AJ57/$AJ$56","v":0.25},{"$f":"$AK$71*AK57/$AK$56","v":0.5},{"$f":"AL57","v":2},{"$f":"AM57","v":2.5},{"$f":"AJ72+AK72*$O$28+AL72+AM72","v":5.3},null,{"$f":"AI57","v":"Cart+B. = Chaff cart system (burning dumps)"},null,{"$f":"-PMT('+Prices'!$O$38,'+Prices'!$O$37,'+Prices'!O32,0,0)/'+Prices'!$AR$80","v":11.272515985369038},null,null,"Inflation rate for input costs (%/year)",0.03,null,0.03]
[null,null,null,null,null,null,null,null,null,"● Harrington seed destructor (HSD)",null,null,null,"$ ",160000,null,null,null,null,null,null,null,null,null,null,null,null,null,null,null,null,null,null,null,{"$f":"AI58","v":"Narr+B. = Narrow windrows burning system"},null,null,{"$f":"AL58","v":2},{"$f":"AM58","v":3.8},{"$f":"AJ73+AK73*$O$28+AL73+AM73","v":5.8}," to Calc",{"$f":"AI58","v":"Narr+B. = Narrow windrows burning system"},null,{"$f":"-PMT('+Prices'!$O$38,'+Prices'!$O$37,'+Prices'!O31,0,0)/'+Prices'!$AR$80","v":8.0517971324064561E-2},null,null,"Long-term interest rate (%) *",0.08,null,0.08]
[null,null,null,null,null,null,null,null,null,"● Bale direct system (BDS)",null,null,null,"$ ",140000,null,null,null,null,null,null,null,null,null,null,null,null,null,null,null,null,null,null,null,"HSD = Harrington seed destructor",{"$f":"$AJ$71*AJ59/$AJ$56","v":2},{"$f":"$AK$71*AK59/$AK$56","v":3.5},null,null,5.8500000000000005,null,"HSD = Harrington seed destructor",null,{"$f":"-PMT('+Prices'!$O$38,'+Prices'!$O$37,'+Prices'!O33,0,0)/'+Prices'!$AR$80","v":25.76575082370066},null,null,"Marginal tax rate (%)",0.3,null,0.21]
[null,null,null,null,null,null,null,null,null,null,null,null,null,null,null,null,null,null,null,null,null,null,null,null,null,null,null,null,null,null,null,null,null,null,"Tram = Chaff-tramlining (no extra requirement since already in)",null,null,null,{"$f":"AM60","v":2.5},2.5,null,"Tram = Chaff-tramlining (no extra requirement since already in)",null,{"$f":"-PMT('+Prices'!$O$38,'+Prices'!$O$37,('+Prices'!O31*2),0,0)/'+Prices'!$AR$80","v":0.16103594264812912},null,null,"* Note: Use the raw interest rate (do not deduct the inflation rate to express "]
[null,null,null,null,null,null,null,null,null,"Machinery repayments:",null,null,null,null,null,null,null,null,null,null,null,null,null,null,null,null,null,null,null,null,null,null,null,null,"add harvest option here",{"$f":"AJ61","v":0},{"$f":"$AK$71*AK61/$AK$56","v":0},{"$f":"AL62","v":5},{"$f":"AM61","v":0},5,null,"add harvest option here",null,{"$f":"-PMT('+Prices'!$O$38,'+Prices'!$O$37,'+Prices'!AR61,0,0)/'+Prices'!$AR$80","v":0},null,null," it in \"real\" terms) as all calculations are done in \"nominal\" terms."]
[null,null,null,null,null,null,null,null,null,"● Loan duration",null,null,null,"years",8,null,null,null,null,null,null,null,null,null,null,null,null,null,null,null,null,null,null,null,"BDS = Bale direct system",{"$f":"AJ62","v":2.5},{"$f":"$AK$71*AK62/$AK$56","v":4},{"$f":"AL62","v":5},{"$f":"AM62","v":4},15.9,null,"BDS = Bale direct system",null,{"$f":"-PMT('+Prices'!$O$38,'+Prices'!$O$37,'+Prices'!O34,0,0)/'+Prices'!$AR$80","v":22.545031970738076}]
[null,null,null,null,null,null,null,null,null,"● Interest rate",null,null,null,null,0.06,null,null,null,null,null,null,null,null,null,null,null,null,null,null,null,null,null,null,null,"B.all = Burn whole paddock",null,null,{"$f":"AL63","v":2},{"$f":"$AM$77*AM63/$AM$62","v":7.5},9.5,null,"B.all = Burn whole paddock",null,null,null,null,"Note also that the model's main calculations are done on the basis that prices "]
[null,null,null,null,null,null,null,null,null,null,null,null,null,null,null,null,null,null,null,null,null,null,null,null,null,null,null,null,null,null,null,null,null,null,null,null,null,null,null,null,null,null,null,null,null,null,"and potential yields don't change over time. In the \"Economic results\" sheet "]
[null,null,null,null,null,null,null,null,null,null,null,null,null,null,null,null,null,null,null,null,null,null,null,null,null,null,null,null,null,null,null,null,null,null,null,null,null,null,null,null,"Average area (ha) on which machinery is used ",null,null,{"$f":"'1.Profile'!O10","v":1000},null,null,"the above rates of increase are applied to the results."]
[null,"Prices_1",{"$f":"'1.Profile'!Q31","v":"BYGUM, GR"},null,null,null,null,null,null,null,null,null,null,null,null,null,null,null,null,null,null,null,null,null,null,null,null,null,null,null,null,null,null,null,null,null,null,null,null,null,null,null,null,"from Profile"]
[]
[null,"Establishment costs",null,null,null,"Winter crop","Irrig cotton","Dryland cotton","Sorghum","Corn","Beans",null,null,null,null,null,null,null,null,null,null,null,null,null,null,null,null,null,null,null,null,null,null,null,"Establishment costs - crops"]
[null,null,null,null,null,null,null,null,null,null,null,null,null,null,null,null,null,null,null,null,null,null,null,null,null,null,null,null,null,null,null,null,null,null,null,"Irrig cotton","Dryland cotton","Sorghum","Corn","Beans","Wheat",null,"References used for ratios"]
[null,null,"Seed (standard rate)",null,"$/ha ",35,20,7.73,35,15,40,null,null,null,null,null,null,null,null,null,null,null,null,null,null,null,null,null,null,null,null,null,null,null,"Fertilisers","Wheat","Sorghum","Cotton","Legumes",null,"?Needed?","Savings in kg/ha of N after a legume:"]
[null,null,"incl. dressing / cleaning / inoculum / etc.",null,null,null,null,null,null,null,null,null,null,null,null,null,null,null,null,null,null,null,null,null,null,null,null,null,null,null,null,null,null,null,"Total cost of all fertilisers ($/ha)",{"$f":"G14","v":95},{"$f":"H14","v":70},{"$f":"I14","v":40},{"$f":"J14","v":55},{"$f":"K14","v":35},{"$f":"F14","v":90},null,"Wheat","Sorghum","Cotton",null,"Planfarm and Bankwest (2012) Planfarm Bankwest Benchmarks 2011/2012. Planfarm Pty. Ltd. and BankWest Agribusiness Centre, West Perth and Wembley, Western Australia, 81pp."]
[null,null,"Fertilisers - standard, average practice",null,"$/ha ",90,95,70,40,55,35,null,null,null,null,null,null,null,null,null,null,null,null,null,null,null,null,null,null,null,null,null,null,null,"Saving in N fertiliser application 1 year after legumes (kg/ha) ",{"$f":"G14-G15","v":0},{"$f":"H14-H15","v":0},{"$f":"I14-I15","v":5},{"$f":"J14-J15","v":5},{"$f":"K14-K15","v":0},{"$f":"F14-F15","v":5},"1st year",30,30,40]
[null,null,"Fertilisers - following a legume",null,"$/ha ",85,95,70,35,50,35,null,null,null,null,null,null,null,null,null,null,null,null,null,null,null,null,null,null,null,null,null,null,null,"Saving in N fertiliser application 2 years after legumes (kg/ha) ",{"$f":"AJ87/2","v":0},0,2.5,2.5,0,2.5,"2nd year",10,10,12]
[null,null,null,null,null,null,null,null,null,null,null,null,null,null,null,null,null,null,null,null,null,null,null,null,null,null,null,null,null,null,null,null,null,null,null,"Note: this data also used for crop following pasture"]
[null,null,"Additional costs (incl. application costs)",null,"$/ha ",30,120,30,30,30,20,null,null,null,null,null,null,null,null,null,null,null,null,null,null,null,null,null,null,null,null,null,null,null,"Seed and other inputs"]
[null,null,"insecticides, fungicides, broadleaf weed control, bed preparation, technical package, advisor costs, insurance, etc.",null,null,null,null,null,null,null,null,null,null,null,null,null,null,null,null,null,null,null,null,null,null,null,null,null,null,null,null,null,null,null,"Cost of seed (including dressing/cleaning/inoculum/etc.) ($/ha)",{"$f":"G12","v":20},{"$f":"H12","v":7.73},{"$f":"I12","v":35},{"$f":"J12","v":15},{"$f":"K12","v":40},{"$f":"F12","v":35},19.97,21.17,7.73,35]
[null,null,null,null,null,null,null,null,null,null,null,null,null,null,null,null,null,null,null,null,null,null,null,null,null,null,null,null,null,null,null,null,null,null,"Cost of additional input ($/ha)",{"$f":"G17","v":120},{"$f":"H17","v":30},{"$f":"I17","v":30},{"$f":"J17","v":30},{"$f":"K17","v":20},{"$f":"F17","v":30},40,40,30,30]
[]
[]
[]
[null,"Other costs",null,null,null,null,null,null,"Machinery",null,null,null,null,null,null,null,null,null,null,null,null,null,null,null,null,null,null,null,null,null,null,null,null,null,"Total cost no-till (machinery +  inputs), no tickle ($/ha)",{"$f":"$AN$69+$AN$71+AJ86+AJ91+AJ92","v":262.64999999999998},135.38,132.65,127.65,122.65,182.65,"Non-selective for brown manuring and for after swathing, haying, silage etc ($/ha)"]
[null,null,null,null,null,null,null,null,null,null,null,null,null,null,null,null,null,null,null,null,null,null,null,null,null,null,null,null,null,null,null,null,null,null,"Extra cost of \"tickle\" (shallow cultivation) ($/ha)",{"$f":"AN68","v":6.3000000000000007},{"$f":"AN68","v":6.3000000000000007},{"$f":"AN68","v":6.3000000000000007},{"$f":"AN68","v":6.3000000000000007},{"$f":"AN68","v":6.3000000000000007},{"$f":"AO68","v":0},"Crop/pasture topping"]
[null,null,"Environmental cost of soil disturbance",null,"$/ha",5,null,null,null,"Harvester:",null,null,null,null,null,null,null,null,null,null,null,null,null,null,null,null,null,null,null,null,null,null,null,null,"Extra cost of full disturb for prep ($/ha)",{"$f":"$AN$70","v":12.600000000000001},12.600000000000001,12.600000000000001,12.600000000000001,12.600000000000001,12.600000000000001,"Sprayer cost counted every time herbicide sprayed",null,null,null,null,"4.5 Alistair Drapper, 2012"]
[null,null,"Winter fallow management costs",null,"$/ha",12,null,null,null,"● Maintenance costs",null,null,null,"$/ha /year",10,null,null,null,null,null,null,null,null,null,null,null,null,null,null,null,null,null,null,null,"Extra cost of seeding with full cut cultivation ($/ha)",{"$f":"AN70-AN69","v":1.5500000000000007},{"$f":"AN70-AN69","v":1.5500000000000007},{"$f":"AN70-AN69","v":1.5500000000000007},{"$f":"AN70-AN69","v":1.5500000000000007},{"$f":"AN70-AN69","v":1.5500000000000007},{"$f":"AN70-AN69","v":1.5500000000000007},"Environmental costs of burning and of cultivation"]
[null,null,"Summer fallow management costs",null,"$/ha",12,null,null,null,"● Fuel consumption",null,null,null,"l/ha ",6,null,null,null,null,null,null,null,null,null,null,null,null,null,null,null,null,null,null,null,"Extra cost of high seeding rate",{"$f":"('+Options'!AI57-'+Options'!AI56)/'+Options'!AI56*AJ91","v":3.0769230769230771},{"$f":"('+Options'!AJ57-'+Options'!AJ56)/'+Options'!AJ56*AK91","v":3.3128571428571427},{"$f":"('+Options'!AH57-'+Options'!AH56)/'+Options'!AH56*AL91","v":11.666666666666666},{"$f":"('+Options'!AK57-'+Options'!AK56)/'+Options'!AK56*AM91","v":5},{"$f":"('+Options'!AL57-'+Options'!AL56)/'+Options'!AL56*AN91","v":13.333333333333332},{"$f":"('+Options'!AG57-'+Options'!AG56)/'+Options'!AG56*AN91","v":17.142857142857142},"Cost of green manuring "]
[null,null,"Crop topping (your selected tactic)",null,"$/ha",25,null,null,null,"● Diesel price",null,null,null,"$/l ",1.1000000000000001]
[]
[null,null,null,null,null,null,null,null,null,"Purchase cost of:"]
[null,null,null,null,null,null,null,null,null,"● Narrow windrow chute",null,null,null,"$ ",500,null,null,null,null,null,null,null,null,null,null,null,null,null,null,null,null,null,null,null,"Establishment costs - pastures"]
[null,null,null,null,null,null,null,null,null,"● Chaff cart",null,null,null,"$ ",70000]
[null,null,null,null,null,null,null,null,null,"● Harrington seed destructor (HSD)",null,null,null,"$ ",160000]
[null,null,null,null,null,null,null,null,null,"● Bale direct system (BDS)",null,null,null,"$ ",140000,null,null,null,null,null,null,null,null,null,null,null,null,null,null,null,null,null,null,null,"Volunteer pasture inputs","Year 1","Year 2","Year 3"]
[null,null,null,null,null,null,null,null,null,null,null,null,null,null,null,null,null,null,null,null,null,null,null,null,null,null,null,null,null,null,null,null,null,null,"NO SOWING (otherwise, compatibility issues)"]
[null,null,null,null,null,null,null,null,null,"Machinery repayments:",null,null,null,null,null,null,null,null,null,null,null,null,null,null,null,null,null,null,null,null,null,null,null,null,"Cost of fertilisers ($/ha/year)",{"$f":"J14","v":55},{"$f":"AJ109","v":55},{"$f":"AJ109","v":55}]
[null,null,null,null,null,null,null,null,null,"● Loan duration",null,null,null,"years",8,null,null,null,null,null,null,null,null,null,null,null,null,null,null,null,null,null,null,null,"Additional costs, incl. insecticide application ($/ha)",{"$f":"J17","v":30},{"$f":"AJ110","v":30},{"$f":"AJ110*0.2","v":6}]
[null,null,null,null,null,null,null,null,null,"● Interest rate",null,null,null,null,0.06,null,null,null,null,null,null,null,null,null,null,null,null,null,null,null,null,null,null,null,"Total, inputs, no tickle ($/ha)",{"$f":"SUM(AJ109:AJ110)","v":85},{"$f":"SUM(AK109:AK110)","v":85},{"$f":"SUM(AL109:AL110)","v":61}]
[null,null,null,null,null,null,null,null,null,null,null,null,null,null,null,null,null,null,null,null,null,null,null,null,null,null,null,null,null,null,null,null,null,null,"Extra cost of \"tickle\" (shallow cultivation) ($/ha)",{"$f":"AJ97","v":6.3000000000000007},{"$f":"AJ112","v":6.3000000000000007},{"$f":"AJ112","v":6.3000000000000007}]
[null,null,null,null,null,null,null,null,null,null,null,null,null,null,null,null,null,null,null,null,null,null,null,null,null,null,null,null,null,null,null,null,null,null,"Extra cost of mouldboard ploughing ($/ha)",{"$f":"AJ98","v":12.600000000000001},{"$f":"AJ113","v":12.600000000000001},{"$f":"AJ113","v":12.600000000000001}]
[null,null,null,null,null,null,null,null,null,null,null,null,null,null,null,null,null,null,null,null,null,null,null,null,null,null,null,null,null,null,null,null,null,null,null,null,null,null,null,null," "]
[null,"Prices_2",{"$f":"'1.Profile'!Q32","v":"BYGUM, non-GR"},null,null,null,null,null,null,null,null,null,null,null,null,null,null,null,null,null,null,null,null,null,null,null,null,null,null,null,null,null,null,null,"Sub-clover inputs"]
[null,null,null,null,null,null,null,null,null,null,null,null,null,null,null,null,null,null,null,null,null,null,null,null,null,null,null,null,null,null,null,null,null,null,"Cost of sowing (seed + machinery) ($/ha)",{"$f":"IF(K12=0,0,(K12+AN69))","v":51.05}]
[null,"Establishment costs",null,null,null,"Winter crop","Irrig cotton","Dryland cotton","Sorghum","Corn","Beans",null,null,null,null,null,null,null,null,null,null,null,null,null,null,null,null,null,null,null,null,null,null,null,"Cost of fertilisers ($/ha/year)",{"$f":"$K$14","v":35},{"$f":"AJ117","v":35},{"$f":"AJ117","v":35}]
[null,null,null,null,null,null,null,null,null,null,null,null,null,null,null,null,null,null,null,null,null,null,null,null,null,null,null,null,null,null,null,null,null,null,"Additional costs, incl. insecticide application ($/ha)",{"$f":"K17","v":20},{"$f":"AJ118*0.2","v":4},{"$f":"AJ118*0.2","v":4}]
[null,null,"Seed (standard rate)",null,"$/ha ",35,20,7.73,35,15,40,null,null,null,null,null,null,null,null,null,null,null,null,null,null,null,null,null,null,null,null,null,null,null,"Total, inputs, no tickle ($/ha)",{"$f":"SUM(AJ116:AJ118)","v":106.05},{"$f":"SUM(AK116:AK118)","v":39},{"$f":"SUM(AL116:AL118)","v":39}]
[null,null,"incl. dressing / cleaning / inoculum / etc.",null,null,null,null,null,null,null,null,null,null,null,null,null,null,null,null,null,null,null,null,null,null,null,null,null,null,null,null,null,null,null,"Extra cost of \"tickle\" (shallow cultivation) ($/ha)",{"$f":"AJ97","v":6.3000000000000007},{"$f":"AJ120","v":6.3000000000000007},{"$f":"AJ120","v":6.3000000000000007}]
[null,null,"Fertilisers - standard, average practice",null,"$/ha ",90,95,70,40,55,35,null,null,null,null,null,null,null,null,null,null,null,null,null,null,null,null,null,null,null,null,null,null,null,"Extra cost of mouldboard ploughing ($/ha)",{"$f":"AJ98","v":12.600000000000001},{"$f":"AJ121","v":12.600000000000001},{"$f":"AJ121","v":12.600000000000001}]
[null,null,"Fertilisers - following a legume",null,"$/ha ",85,95,70,35,50,35,null,null,null,null,null,null,null,null,null,null,null,null,null,null,null,null,null,null,null,null,null,null,null,"Extra cost of seeding with full cut cultivation ($/ha)",{"$f":"AJ99","v":1.5500000000000007}]
[null,null,null,null,null,null,null,null,null,null,null,null,null,null,null,null,null,null,null,null,null,null,null,null,null,null,null,null,null,null,null,null,null,null,"Costs for 1st year of clover if not sown",{"$f":"AJ119-AJ116","v":55}]
[null,null,"Additional costs (incl. application costs)",null,"$/ha ",30,120,30,30,30,20]
[null,null,"insecticides, fungicides, broadleaf weed control, bed preparation, technical package, advisor costs, insurance, etc.",null,null,null,null,null,null,null,null,null,null,null,null,null,null,null,null,null,null,null,null,null,null,null,null,null,null,null,null,null,null,null,"Cadiz serradella inputs"]
[null,null,null,null,null,null,null,null,null,null,null,null,null,null,null,null,null,null,null,null,null,null,null,null,null,null,null,null,null,null,null,null,null,null,"Cost of sowing (seed + machinery) ($/ha)",{"$f":"IF(L12=0,0,(L12+$AN$69))","v":0}]
[null,null,null,null,null,null,null,null,null,null,null,null,null,null,null,null,null,null,null,null,null,null,null,null,null,null,null,null,null,null,null,null,null,null,"Cost of fertilisers ($/ha/year)",{"$f":"$L$14","v":0},{"$f":"AJ127","v":0},{"$f":"AJ127","v":0}]
[null,null,null,null,null,null,null,null,null,null,null,null,null,null,null,null,null,null,null,null,null,null,null,null,null,null,null,null,null,null,null,null,null,null,"Additional costs, incl. insecticide application ($/ha)",{"$f":"L17","v":0},{"$f":"AJ128*0.2","v":0},{"$f":"AJ128*0.2","v":0}]
[null,null,null,null,null,null,null,null,null,null,null,null,null,null,null,null,null,null,null,null,null,null,null,null,null,null,null,null,null,null,null,null,null,null,"Total, inputs, no tickle ($/ha)",{"$f":"SUM(AJ126:AJ128)","v":0},{"$f":"SUM(AK126:AK128)","v":0},{"$f":"SUM(AL126:AL128)","v":0}]
[null,"Other costs",null,null,null,null,null,null,"Machinery",null,null,null,null,null,null,null,null,null,null,null,null,null,null,null,null,null,null,null,null,null,null,null,null,null,"Extra cost of \"tickle\" (shallow cultivation) ($/ha)",{"$f":"AJ120","v":6.3000000000000007},{"$f":"AJ130","v":6.3000000000000007},{"$f":"AJ130","v":6.3000000000000007}]
[null,null,null,null,null,null,null,null,null,null,null,null,null,null,null,null,null,null,null,null,null,null,null,null,null,null,null,null,null,null,null,null,null,null,"Extra cost of mouldboard ploughing ($/ha)",{"$f":"AJ121","v":12.600000000000001},{"$f":"AJ131","v":12.600000000000001},{"$f":"AJ131","v":12.600000000000001}]
[null,null,"Environmental cost of soil disturbance",null,"$/ha",5,null,null,null,"Harvester:",null,null,null,null,null,null,null,null,null,null,null,null,null,null,null,null,null,null,null,null,null,null,null,null,"Extra cost of seeding with full cut cultivation ($/ha)",{"$f":"AJ99","v":1.5500000000000007}]
[null,null,"Winter fallow management costs",null,"$/ha",12,null,null,null,"● Maintenance costs",null,null,null,"$/ha /year",10]
[null,null,"Summer fallow management costs",null,"$/ha",12,null,null,null,"● Fuel consumption",null,null,null,"l/ha ",6]
[null,null,"Crop topping (your selected tactic)",null,"$/ha",25,null,null,null,"● Diesel price",null,null,null,"$/l ",1.1000000000000001]
[]
[null,null,null,null,null,null,null,null,null,"Purchase cost of:"]
[null,null,null,null,null,null,null,null,null,"● Narrow windrow chute",null,null,null,"$ ",500]
[null,null,null,null,null,null,null,null,null,"● Chaff cart",null,null,null,"$ ",70000]
[null,null,null,null,null,null,null,null,null,"● Harrington seed destructor (HSD)",null,null,null,"$ ",160000]
[null,null,null,null,null,null,null,null,null,"● Bale direct system (BDS)",null,null,null,"$ ",140000]
[]
[null,null,null,null,null,null,null,null,null,"Machinery repayments:"]
[null,null,null,null,null,null,null,null,null,"● Loan duration",null,null,null,"years",8]
[null,null,null,null,null,null,null,null,null,"● Interest rate",null,null,null,null,0.06]
[]
[]
[]
[null,"Prices_3",{"$f":"'1.Profile'!Q33","v":"BYGUM, Test cotton 1"}]
[]
[null,"Establishment costs",null,null,null,"Winter crop","Irrig cotton","Dryland cotton","Sorghum","Corn","Beans"]
[]
[null,null,"Seed (standard rate)",null,"$/ha ",35,20,7.73,35,15,40]
[null,null,"incl. dressing / cleaning / inoculum / etc."]
[null,null,"Fertilisers - standard, average practice",null,"$/ha ",90,95,70,40,55,35]
[null,null,"Fertilisers - following a legume",null,"$/ha ",85,95,70,35,50,35]
[]
[null,null,"Additional costs (incl. application costs)",null,"$/ha ",30,60,30,30,30,20]
[null,null,"insecticides, fungicides, broadleaf weed control, bed preparation, technical package, advisor costs, insurance, etc."]
[]
[]
[]
[]
[null,"Other costs",null,null,null,null,null,null,"Machinery"]
[]
[null,null,"Environmental cost of soil disturbance",null,"$/ha",5,null,null,null,"Harvester:"]
[null,null,"Winter fallow management costs",null,"$/ha",12,null,null,null,"● Maintenance costs",null,null,null,"$/ha /year",10]
[null,null,"Summer fallow management costs",null,"$/ha",12,null,null,null,"● Fuel consumption",null,null,null,"l/ha ",6]
[null,null,"Crop topping (your selected tactic)",null,"$/ha",25,null,null,null,"● Diesel price",null,null,null,"$/l ",1.1000000000000001]
[]
[null,null,null,null,null,null,null,null,null,"Purchase cost of:"]
[null,null,null,null,null,null,null,null,null,"● Narrow windrow chute",null,null,null,"$ ",500]
[null,null,null,null,null,null,null,null,null,"● Chaff cart",null,null,null,"$ ",70000]
[null,null,null,null,null,null,null,null,null,"● Harrington seed destructor (HSD)",null,null,null,"$ ",160000]
[null,null,null,null,null,null,null,null,null,"● Bale direct system (BDS)",null,null,null,"$ ",140000]
[]
[null,null,null,null,null,null,null,null,null,"Machinery repayments:"]
[null,null,null,null,null,null,null,null,null,"● Loan duration",null,null,null,"years",8]
[null,null,null,null,null,null,null,null,null,"● Interest rate",null,null,null,null,0.06]
[]
[]
[null,"Prices_4",{"$f":"'1.Profile'!Q34","v":"BYGUM, Test cotton 1"}]
[]
[null,"Establishment costs",null,null,null,"Winter crop","Irrig cotton","Dryland cotton","Sorghum","Corn","Beans"]
[]
[null,null,"Seed (standard rate)",null,"$/ha ",35,20,7.73,35,15,40]
[null,null,"incl. dressing / cleaning / inoculum / etc."]
[null,null,"Fertilisers - standard, average practice",null,"$/ha ",90,95,70,40,55,35]
[null,null,"Fertilisers - following a legume",null,"$/ha ",85,95,70,35,50,35]
[]
[null,null,"Additional costs (incl. application costs)",null,"$/ha ",30,60,30,30,30,20]
[null,null,"insecticides, fungicides, broadleaf weed control, bed preparation, technical package, advisor costs, insurance, etc."]
[]
[]
[]
[]
[null,"Other costs",null,null,null,null,null,null,"Machinery"]
[]
[null,null,"Environmental cost of soil disturbance",null,"$/ha",5,null,null,null,"Harvester:"]
[null,null,"Winter fallow management costs",null,"$/ha",12,null,null,null,"● Maintenance costs",null,null,null,"$/ha /year",10]
[null,null,"Summer fallow management costs",null,"$/ha",12,null,null,null,"● Fuel consumption",null,null,null,"l/ha ",6]
[null,null,"Crop topping (your selected tactic)",null,"$/ha",25,null,null,null,"● Diesel price",null,null,null,"$/l ",1.1000000000000001]
[]
[null,null,null,null,null,null,null,null,null,"Purchase cost of:"]
[null,null,null,null,null,null,null,null,null,"● Narrow windrow chute",null,null,null,"$ ",500]
[null,null,null,null,null,null,null,null,null,"● Chaff cart",null,null,null,"$ ",70000]
[null,null,null,null,null,null,null,null,null,"● Harrington seed destructor (HSD)",null,null,null,"$ ",160000]
[null,null,null,null,null,null,null,null,null,"● Bale direct system (BDS)",null,null,null,"$ ",140000]
[]
[null,null,null,null,null,null,null,null,null,"Machinery repayments:"]
[null,null,null,null,null,null,null,null,null,"● Loan duration",null,null,null,"years",8]
[null,null,null,null,null,null,null,null,null,"● Interest rate",null,null,null,null,0.06]

{"sheet":"+Options","index":4,"n_rows":235,"n_cols":53,"rows_kept":235,"cut":false,"hidden":false,"merged":[]}
[]
[]
[]
[]
[]
[]
[null,"More Options…",null,null,null,null,null,null,null,{"$f":"'1.Profile'!Q28&\", \"&'1.Profile'!Q27","v":"BYGUM, GR"}]
[]
[]
[null,"Crops",null,null,"Winter crop","Sorghum","Irrig Cotton","D/L Cotton","Corn","Beans"]
[]
[null,null,"Seeding rate  - Standard","kg/ha ",35,3,13,7,12,12]
[null,null,"Seeding rate  - High","kg/ha ",50,4,15,10,16,16]
[]
[]
[]
[]
[null,"Yield benefits",null,null,"Winter crop","Sorghum","Irrig Cotton","D/L Cotton","Corn","Beans"]
[null,null,null,null,null,null,null,null,null,null,null,"Barnyard grass control"]
[null,null,"   - following a legume",null,0.12,0.12,0.02,0.02,0.12,null,null,"Plants (in crop or at planting): "]
[null,null,"   - due to preceding cover crop",null,0.08,0.08,0.08,0.08,0.08,0.08,null,null,"Planting: Min till method",null,null,null,0.2]
[null,null,"   - for early sowing",null,0.08,0.08,0.08,0.08,0.08,0.08,null,null,"Planting: Conv. till method",null,null,null,0.95]
[null,null,"   - for dryland cotton, following two summer fallows",null,null,null,null,0.6,null,null,null,null,"Topping - Cereals",null,null,null,0.75]
[null,null,null,null,null,null,null,null,null,null,null,null,"Topping - Cotton/Legumes",null,null,null,0.75]
[null,"Yield penalties",null,null,"Winter crop","Sorghum","Irrig Cotton","D/L Cotton","Corn","Beans"]
[]
[null,null,"   - for late sowing",null,0.05,0.05,0.05,7.1999999999999995E-2,0.01,0.01]
[null,null,"   - for crop-topping",null,0.05,0.05,0.05,7.1999999999999995E-2,0.05,0.05,null,"Plants (at time of cover crop sprayout): "]
[null,null,"   - if following another crop",null,0.7,0.5,0.1,0.7,0.5,0.1,null,null,"Sprayout with DK",null,null,null,1]
[null,null,null,null,null,null,null,null,null,null,null,"Seeds (harvest weed seed control in grains):"]
[null,null,"   - on crops, from pre- and post-emergent phytotoxic effects",null,null,null,null,null,0.02,null,null,null,"Catch & chaff tramlining",null,null,null,0.85]
[null,null,null,null,null,null,null,null,null,null,null,null,"Catch & HSD or BDS",null,null,null,0.85]
[null,null,"   - on beans if break between beans is only 1 year",null,null,null,null,null,0,null,null,null,"Catch & burn: chaff cart dumps",null,null,null,0.85]
[null,null,null,null,null,null,null,null,null,null,null,null,"Catch & burn: narrow windrows",null,null,null,0.85]
[null,null,"   - on dryland Cotton if preceding summer is not fallow",null,null,null,null,null,0.4,null,null,null,"Whole-paddock burning (residues)",null,null,null,0.6]
[]
[]
[null,null,null,null,null,null,null,null,null,null,null,null,null,null,null,null,null,null,null,null,null,null,null,null,null,null,null,null,null,null,null,null,null,null,null,null,null,null,null,null,null,null,null,{"$f":"P_1P","v":true}]
[]
[]
[]
[]
[]
[]
[]
[]
[null,null,null,null,null,null,null,null,null,null,null,null,null,null,null,null,null,null,null,null,null,null,null,null,null,null,null,null,{"$f":"COUNT(F12:J13,I16,O14:P16,E15:I15,Q16:Q17,I20:I23,E27:I28,I31,I33:I34,Q21:Q27,Q29,P31:P35,#REF!)","v":30}]
[]
[null,null,null,null,null,null,null,null,null,null,null,null,null,null,null,null,null,null,null,null,null,null,null,null,null,null,null,null,null,null,null,null,null,null,null,null,null,null,null,null,null,null,"Legend:",22,"linked to interface (current page or otherwise specified)"]
[null,"Options_0",{"$f":"'1.Profile'!Q36","v":"Susceptible, Default"},null,0,null,null,null,null,null,null,null,null,null,null,null,null,null,null,null,null,null,null,null,null,null,null,null,null,null,null,null,null,null,null,null,null,null,null,null,null,null,null,22,"calculation"]
[null,null,null,null,null,null,null,null,null,null,null,null,null,null,null,null,null,null,null,null,null,null,null,null,null,null,null,null,null,null,null,null,null,null,null,null,null,null,null,null,null,null,null,null,"n.a."]
[null,"Crops",null,null,"Winter crop","Sorghum","Irrig Cotton","D/L Cotton","Corn","Beans",null,null,null,null,null,null,null,null,null,null,null,null,null,null,null,null,null,null,null,null,null,"Crops",null,null,null,null,null,null,null,null,null,null,null,0.22,"not linked (direct input)"]
[null,null,null,null,null,null,null,null,null,null,null,null,null,null,null,null,null,null,null,null,null,null,null,null,null,null,null,null,null,null,null,"Boost and penalties ",null,null,null,null,null,null,null,null,null,null,null,0.22,"not linked, and do not change without good advice"]
[null,null,"Seeding rate  - Standard","kg/ha ",35,3,13,7,12,12,null,null,null,null,null,null,null,null,null,null,null,null,null,null,null,null,null,null,null,null,null,"Crop Variables","Wheat","Sorghum","Irrig Cotton","Dryland Cotton","Corn","Beans",null,null,"Wheat","Sorghum","Cotton","Beans",null,0.22,"reference data"]
[null,null,"Seeding rate  - High","kg/ha ",50,4,15,10,16,16,null,null,null,null,null,null,null,null,null,null,null,null,null,null,null,null,null,null,null,null,null,"Weed-free yield (after long break with no legume) (t/ha)",{"$f":"'1.Profile'!D7","v":1.8},{"$f":"'1.Profile'!E7","v":4},{"$f":"'1.Profile'!F7","v":3.1779999999999999},{"$f":"'1.Profile'!G7","v":2.4969999999999999},{"$f":"'1.Profile'!H7","v":14},{"$f":"'1.Profile'!I7","v":1},"From Profile",null,2,2.2000000000000002,1,1,null,0.22,"reference data used for ratios"]
[null,null,null,null,null,null,null,null,null,null,null,null,null,null,null,null,null,null,null,null,null,null,null,null,null,null,null,null,null,null,null,"Standard seeding rate (kg/ha)",{"$f":"E12","v":35},3,13,7,12,12,null,null,60,70,3,100,null,"blabla","information / tracking data (not involved in calculations)"]
[null,null,null,null,null,null,null,null,null,null,null,null,null,null,null,null,null,null,null,null,null,null,null,null,null,null,null,null,null,null,null,"High seeding rate (kg/ha)",50,4,15,10,16,16,null,null,90,100,"5-6",125]
[null,null,null,null,null,null,null,null,null,null,null,null,null,null,null,null,null,null,null,null,null,null,null,null,null,null,null,null,null,null,null,"Standard density (plants/m2)",{"$f":"AG56*100/AG$82*AG$83","v":70.945945945945951},6.4285714285714288,12.589473684210526,6.2631578947368416,2.6842105263157894,3.84,null,null,120,"145-150",60,50]
[null,null,null,null,null,null,null,null,null,null,null,null,null,null,null,null,null,null,null,null,null,null,null,null,null,null,null,null,null,null,null,"High density (plants/m2)",{"$f":"AG57*100/AG$82*AG$84","v":94.594594594594582},8,14.526315789473685,8.9473684210526319,{"$f":"AK57*100/AK$82*AK$84","v":3.4526315789473681},4.8000000000000007,null,null,165,195,"90-100","60-65"]
[null,"Yield benefits",null,null,"Winter crop","Sorghum","Irrig Cotton","D/L Cotton","Corn","Beans",null,null,null,null,null,null,null,null,null,null,null,null,null,null,null,null,null,null,null,null,null,"Harvest index (proportion)",{"$f":"D15","v":0},{"$f":"E15","v":0},{"$f":"F15","v":0},{"$f":"G15","v":0},{"$f":"G15","v":0},{"$f":"I15","v":0},null,null,0.4,0.4,0.4,0.3]
[null,null,null,null,null,null,null,null,null,null,null,"Barnyard grass control",null,null,null,null,null,null,null,null,null,null,null,null,null,null,null,null,null,null,null,"% of fodder yield relative to (grain yield/harvest index)",{"$f":"I16","v":0},{"$f":"$AG$61*AP61/$AO$61","v":0},{"$f":"$AG$61*AQ61/$AO$61","v":0},{"$f":"$AG$61*AR61/$AO$61","v":0},{"$f":"$AG$61*AQ61/$AO$61","v":0},{"$f":"$AG$61*AR61/$AO$61","v":0},"all based on wheat",null,0.8,0.8,0.8,0.8]
[null,null,"   - following a legume",null,0.12,0.12,0.02,0.02,0.12,null,null,"Plants (in crop or at planting): ",null,null,null,null,null,null,null,null,null,null,null,null,null,null,null,null,null,null,null,"Yield benefits"]
[null,null,"   - due to preceding cover crop",null,0.08,0.08,0.08,0.08,0.08,0.08,null,null,"Planting: Min till method",null,null,null,0.4,null,null,null,null,null,null,null,null,null,null,null,null,"Use these for Calcs Table 8",null,"Yield benefit 1st year after legumes",{"$f":"E20","v":0.12},{"$f":"F20","v":0.12},{"$f":"G20","v":0.02},{"$f":"H20","v":0.02},{"$f":"I20","v":0.12},null,"all based on wheat",null,0.2,0.20000000000000004,0]
[null,null,"   - for early sowing",null,0.08,0.08,0.08,0.08,0.08,0.08,null,null,"Planting: Conv. till method",null,null,null,0.95,null,null,null,null,null,null,null,null,null,null,null,null,"But reword/repurpose",null,"Yield benefit  after 2 summer fallows (one in 2 out)",null,null,null,{"$f":"H23","v":0.6},null,null,"based on 1st year after legumes",null,0.10000000000000002,6.666666666666668E-2,0,null," "]
[null,null,"   - for dryland cotton, following two summer fallows",null,null,null,null,0.6,null,null,null,null,"Topping - Cereals",null,null,null,0.75,null,null,null,null,null,null,null,null,null,null,null,null,null,null,"Yield benefit 1st year after cover crop",{"$f":"E21","v":0.08},0.08,0.08,0.08,0.08,0.08,"based on 1st year after legumes",null,0.05,5.000000000000001E-2]
[null,null,null,null,null,null,null,null,null,null,null,null,"Topping - Cotton/Legumes",null,null,null,0.75,null,null,null,null,null,null,null,null,null,null,null,null,null,null,"Yield benefit for early sowing (if any) (%)",0.08,0.08,0.08,0.08,0.08,0.08,"From Profile",null,0.05,0.02,"10-20%",0.05]
[null,"Yield penalties",null,null,"Winter crop","Sorghum","Irrig Cotton","D/L Cotton","Corn","Beans",null,null,null,null,null,null,null,null,null,null,null,null,null,null,null,null,null,null,null,null,null,"Yield benefit after green manuring (on top of any other benefit)",0,0,0,0,0,0,"all same",null,0.1,0.1,0.1,0.1]
[null,null,null,null,null,null,null,null,null,null,null,null,null,null,null,null,null,null,null,null,null,null,null,null,null,null,null,null,null,null,null,"Yield benefit after brown manuring (on top of any other benefit)",0,0,0,0,0,0,"all same",null,0.05,0.05,0.05,0.05]
[null,null,"   - for late sowing",null,0.05,0.05,0.05,7.1999999999999995E-2,0.01,0.01,null,null,null,null,null,null,null,null,null,null,null,null,null,null,null,null,null,null,null,null,null,"Yield benefit after mowing (on top of any other benefit)",0,0,0,0,0,0,"all same",null,0.05,0.05,0.05,0.05]
[null,null,"   - for crop-topping",null,0.05,0.05,0.05,7.1999999999999995E-2,0.05,0.05,null,"Plants (at time of cover crop sprayout): ",null,null,null,null,null,null,null,null,null,null,null,null,null,null,null,null,null,null,null,"Yield benefit for all crops, after mouldboarding (permanent benefit)",null,null,null,null,null,null,null,null,null,null,null,0.15]
[null,null,"   - if following another crop",null,0.7,0.5,0.1,0.7,0.5,0.1,null,null,"Sprayout with DK",null,null,null,1,null,null,null,null,null,null,null,null,null,null,null,null,null,null,"Yield penalties",null,null,null,null,null,null,null,null,null,null,null,null,null,"Walsh, M. and Powles, S. (2007) Management Strategies for Herbicide-Resistant Weed Populations in Australian Dryland Crop Production Systems. Weed Technology 21:332–338"]
[null,null,null,null,null,null,null,null,null,null,null,"Seeds (harvest weed seed control in grains):",null,null,null,null,null,null,null,null,null,null,null,null,null,null,null,null,null,null,null,"Yield penalty for not swathing",0,0,0,0,0,0,null,null,0.02,0.02,0.05,0,null,"Seymour, M., Kirkegaard, J.A., Peoples, M.B., White, P.F. and French, R.J. (2012) Break-crop benefits to wheat in Western Australia – insights from over three decades of research. Crop and Pasture Science 63:1-16."]
[null,null,"   - on crops, from pre- and post-emergent phytotoxic effects",null,null,null,null,null,0.02,null,null,null,"Catch & chaff tramlining",null,null,null,0.85,null,null,null,null,null,null,null,null,null,null,null,null,null,null,"Yield penalty for crop-topping",{"$f":"E28","v":0.05},0.05,0.05,7.1999999999999995E-2,0.05,0.05,null,null,0.05,0.05,0.05,0.05,null,"Planfarm and Bankwest (2012) Planfarm Bankwest Benchmarks 2011/2012. Planfarm Pty. Ltd. and BankWest Agribusiness Centre, West Perth and Wembley, Western Australia, 81pp."]
[null,null,null,null,null,null,null,null,null,null,null,null,"Catch & HSD or BDS",null,null,null,0.85,null,null,null,null,null,null,null,null,null,null,null,null,null,null,"D/L cotton yield penalty if there is no preceding summer fallow",null,null,0,{"$f":"I35","v":0.4},null,null,null,null,null,null,0.1]
[null,null,"   - on beans if break between beans is only 1 year",null,null,null,null,null,0,null,null,null,"Catch & burn: chaff cart dumps",null,null,null,0.85,null,null,null,null,null,null,null,null,null,null,null,null,null,null,"Cotton yield penalty if break between Cottons is one year",null,null,null,{"$f":"I34","v":0},null,null,"based on 1st year",null,null,null,0.03]
[null,null,"   - on dryland Cotton if break between cottons is only 1 year",null,null,null,null,null,0,null,null,null,"Catch & burn: narrow windrows",null,null,null,0.85,null,null,null,null,null,null,null,null,null,null,null,null,null,null,"Legumes yield penalty if break between legumes is one year",null,null,null,null,null,{"$f":"I33","v":0},null,null,null,null,null,0.05]
[null,null,"   - on dryland Cotton if preceding summer is not fallow",null,null,null,null,null,0.4,null,null,null,"Whole-paddock burning (residues)",null,null,null,0.6,null,null,null,null,null,null,null,null,null,null,null,null,null,null,"Legumes yield penalty if legumes sown into a burnt crop stubble",null,null,null,null,null,0,null,null,null,null,null,"0-10%"]
[null,null,null,null,null,null,null,null,null,null,null,null,null,null,null,null,null,null,null,null,null,null,null,null,null,null,null,null,null,null,null,"Yield penalty for late sowing (if any) (%)",{"$f":"E27","v":0.05},0.05,0.05,7.1999999999999995E-2,0.01,0.01,"based on 3 weeks",null,0.05,0.05,0.1,0.05]
[null,null,null,null,null,null,null,null,null,null,null,null,null,null,null,null,null,null,null,null,null,null,null,null,null,null,null,null,null,null,null,"Yield penalty for immediately following another crop",{"$f":"E29","v":0.7},0.5,0.1,0.7,0.5,0.1,"From Profile",null,0.1,0.05,0.2,0.1]
[null,null,null,null,null,null,null,null,null,null,null,null,null,null,null,null,null,null,null,null,null,null,null,null,null,null,null,null,null,null,null,"Average yield penalty from phytotoxic effect herbicides (of pre- and post-emergents)",null,null,null,null,null,{"$f":"I31","v":0.02},null,null,null,null,null,0.02]
[null,null,null,null,null,null,null,null,null,null,null,null,null,null,null,null,null,null,null,null,null,null,null,null,null,null,null,null,null,null,null,"Critical factors"]
[null,null,null,null,null,null,null,null,null,null,null,null,null,null,null,null,null,null,null,null,null,null,null,null,null,null,null,null,null,null,null,"Average kernel weight (mg)",37,35,95,95,380,250,null,null,37,35,3,150]
[null,null,null,null,null,null,null,null,null,null,null,null,null,null,null,null,null,null,null,null,null,null,null,null,null,null,null,null,null,null,null,"Expected standard rates seedling establishment (% of seeds)",0.75,0.75,0.92,0.85,0.85,0.8,null,null,0.75,0.75,0.6,0.8]
[null,"Options_1",{"$f":"'1.Profile'!Q31","v":"BYGUM, GR"},null,null,null,null,null,null,null,null,null,null,null,null,null,null,null,null,null,null,null,null,null,null,null,null,null,null,null,null,"Expected high rates seedling establishment (% of seeds)",0.7,0.7,0.92,0.85,0.82,0.75,null,null,0.7,0.7,0.55000000000000004,0.75]
[null,null,null,null,null,null,null,null,null,null,null,null,null,null,null,null,null,null,null,null,null,null,null,null,null,null,null,null,null,null,null,"Maximum proportion of yield lost at high weed density",0.7,0.65,0.85,0.9,0.6,0.9,null,null,0.6,0.45,0.6,0.6,null,"Goggin, D.E., Powles, S.B. and Steadman, K,J. (2012) Understanding Lolium rigidum Seeds: The Key to Managing a Problem Weed? Agronomy 2:222-239"]
[null,"Crops",null,null,"Winter crop","Sorghum","Irrig Cotton","D/L Cotton","Corn","Beans",null,null,null,null,null,null,null,null,null,null,null,null,null,null,null,null,null,null,null,null,null,"Competition factor on ryegrass",3,3.3,3.5,3,3.5,2.9,null,null,3,3.3,2.6,3.9,"*","Doole, G.J. (2009) Increased cropping activity and herbicide resistance: the case of rigid ryegrass in Western Australian dryland agriculture. In: Berklian, Y.U. (Ed.), Crop Rotation: Economics, Impact, and Management. Nova Science Publishers, Hauppauge, pp. 1–40."]
[null,null,null,null,null,null,null,null,null,null,null,null,null,null,null,null,null,null,null,null,null,null,null,null,null,null,null,null,null,null,null,"Density standard (not the actual density - a standard level for comparison) (plants/m2)",110,145,200,150,145,80,null,null,110,145,60,50]
[null,null,"Seeding rate  - Standard","kg/ha ",35,3,13,7,12,12,null,null,null,null,null,null,null,null,null,null,null,null,null,null,null,null,null,null,null,null,null,"Background competition factor",5,3,1.5,5,3,9,null,null,5,3,5,9,"*"]
[null,null,"Seeding rate  - High","kg/ha ",50,4,15,10,16,16,null,null,null,null,null,null,null,null,null,null,null,null,null,null,null,null,null,null,null,null,null,null," Do not change without good advice",null,null,null,null,null," * A. Diggle, D.Pannell, John Moore, 1999."]
[]
[]
[]
[null,null,null,null,null,null,null,null,null,null,null,null,null,null,null,null,null,null,null,null,null,null,null,null,null,null,null,null,null,null,null,"Barnyard Grass"]
[null,"Yield benefits",null,null,"Winter crop","Sorghum","Irrig Cotton","D/L Cotton","Corn","Beans"]
[null,null,null,null,null,null,null,null,null,null,null,"Barnyard grass control",null,null,null,null,null,null,null,null,null,null,null,null,null,null,null,null,null,null,null,"Viable weed seed  in August year 1 (seeds/m2) ",{"$f":"SeedNos_SH","v":2},"From Profile"]
[null,null,"   - following a legume",null,0.12,0.12,0.02,0.02,0.12,null,null,"Plants (in crop or at planting): ",null,null,null,null,null,null,null,null,null,null,null,null,null,null,null,null,null,null,null,null,null,null,0.05]
[null,null,"   - due to preceding cover crop",null,0.08,0.08,0.08,0.08,0.08,0.08,null,null,"Planting: Min till method",null,null,null,0.2,null,null,null,null,null,null,null,null,null,null,null,null,null,null,"Note: Germination is:",null,null,0.4,"Standard",null," "]
[null,null,"   - for early sowing",null,0.08,0.08,0.08,0.08,0.08,0.08,null,null,"Planting: Conv. till method",null,null,null,0.95,null,null,null,null,null,null,null,null,null,null,null,null,null,null,"- the least in regenerating pasture without tickle (minimal disturbance)",null,null,0.4]
[null,null,"   - for dryland cotton, following two summer fallows",null,null,null,null,0.6,null,null,null,null,"Topping - Cereals",null,null,null,0.75,null,null,null,null,null,null,null,null,null,null,null,null,null,null,"- skewed earlier if tickle (and slight change in amount )",null,null,0.4]
[null,null,null,null,null,null,null,null,null,null,null,null,"Topping - Cotton/Legumes",null,null,null,0.75,null,null,null,null,null,null,null,null,null,null,null,null,null,null,"- a bit greater with full-cut compared to no-till",null,null,0.1,0.82,null,"Germination,","Seeds that",null,"Germination,","Seeds that"]
[null,"Yield penalties",null,null,"Winter crop","Sorghum","Irrig Cotton","D/L Cotton","Corn","Beans",null,null,null,null,null,null,null,null,null,null,null,null,null,null,null,null,null,null,null,null,null,null,null,null,null,null,null,"% of original ","remain in ",null,"% of original ","remain in "]
[null,null,null,null,null,null,null,null,null,null,null,null,null,null,null,null,null,null,null,null,null,null,null,null,null,null,null,null,null,null,null,"Germination percentage of seeds  remaining in the seed bank at that time, not % of original seed bank.",null,null,null,null,null,"seed bank","seed bank",null,"seed bank","seed bank"]
[null,null,"   - for late sowing",null,0.05,0.05,0.05,7.1999999999999995E-2,0.01,0.01,null,null,null,null,null,null,null,null,null,null,null,null,null,null,null,null,null,null,null,null,null,"Germination - No sowing and:","no tickle",null,"+ tickle",null,null,"no tickle",null,null,"+ tickle"]
[null,null,"   - for crop-topping",null,0.05,0.05,0.05,7.1999999999999995E-2,0.05,0.05,null,"Plants (at time of cover crop sprayout): ",null,null,null,null,null,null,null,null,null,null,null,null,null,null,null,null,null,null,null,"Germination prior to break",6.0000000000000001E-3,null,1.2999999999999999E-2,null,null,{"$f":"AG104","v":6.0000000000000001E-3},{"$f":"1*(1-AG104)","v":0.99399999999999999},null,{"$f":"AI104","v":1.2999999999999999E-2},{"$f":"1*(1-AI104)","v":0.98699999999999999}]
[null,null,"   - if following another crop",null,0.7,0.5,0.1,0.7,0.5,0.1,null,null,"Sprayout with DK",null,null,null,1,null,null,null,null,null,null,null,null,null,null,null,null,null,null,"Germination 1-10 days after break**",2.1999999999999999E-2,null,2.1999999999999999E-2,null,null,{"$f":"AM104-AM105","v":2.1867999999999999E-2},{"$f":"AM104*(1-AG105)","v":0.972132},null,{"$f":"AP104-AP105","v":2.1714000000000011E-2},{"$f":"AP104*(1-AI105)","v":0.96528599999999998}]
[null,null,null,null,null,null,null,null,null,null,null,"Seeds (harvest weed seed control in grains):",null,null,null,null,null,null,null,null,null,null,null,null,null,null,null,null,null,null,null,"Germination 11-20 days after break**",1.4E-2,null,1.4999999999999999E-2,null,null,{"$f":"AM105-AM106","v":1.360984799999998E-2},{"$f":"AM105*(1-AG106)","v":0.95852215200000002},null,{"$f":"AP105-AP106","v":1.4479290000000034E-2},{"$f":"AP105*(1-AI106)","v":0.95080670999999994}]
[null,null,"   - on crops, from pre- and post-emergent phytotoxic effects",null,null,null,null,null,0.02,null,null,null,"Catch & chaff tramlining",null,null,null,0.85,null,null,null,null,null,null,null,null,null,null,null,null,null,null,"Additional germination before in-crop sprays**",2.1000000000000001E-2,null,2.1000000000000001E-2,null,null,{"$f":"AM106-AM107","v":2.0128965192000026E-2},{"$f":"AM106*(1-AG107)","v":0.93839318680799999},null,{"$f":"AP106-AP107","v":1.9966940910000064E-2},{"$f":"AP106*(1-AI107)","v":0.93083976908999988}]
[null,null,null,null,null,null,null,null,null,null,null,null,"Catch & HSD or BDS",null,null,null,0.85,null,null,null,null,null,null,null,null,null,null,null,null,null,null,"Germination after in-crop sprays**",5.0000000000000001E-3,null,6.0000000000000001E-3,null,null,{"$f":"AM107-AM108","v":4.6919659340399766E-3},{"$f":"AM107*(1-AG108)","v":0.93370122087396001},null,{"$f":"AP107-AP108","v":5.5850386145399611E-3},{"$f":"AP107*(1-AI108)","v":0.92525473047545992}]
[null,null,"   - on beans if break between beans is only 1 year",null,null,null,null,null,0,null,null,null,"Catch & burn: chaff cart dumps",null,null,null,0.85,null,null,null,null,null,null,null,null,null,null,null,null,null,null,null,null,null,null,null,null,"total:",{"$f":"1-AM108","v":6.6298779126039986E-2},{"$f":"SUM(AL104:AL108)+AM108","v":1},"total:",{"$f":"1-AP108","v":7.4745269524540081E-2},{"$f":"SUM(AO104:AO108)+AP108","v":1}]
[null,null,null,null,null,null,null,null,null,null,null,null,"Catch & burn: narrow windrows",null,null,null,0.85,null,null,null,null,null,null,null,null,null,null,null,null,null,null,null,{"$f":"1-AM108","v":6.6298779126039986E-2},null,{"$f":"1-AP108","v":7.4745269524540081E-2}]
[null,null,"   - on dryland Cotton if preceding summer is not fallow",null,null,null,null,null,0.4,null,null,null,"Whole-paddock burning (residues)",null,null,null,0.6]
[null,null,null,null,null,null,null,null,null,null,null,null,null,null,null,null,null,null,null,null,null,null,null,null,null,null,null,null,null,null,null,"Germination - Sowing (crop or pasture) and:","no tickle",null,"+ tickle",null,null,"no tickle",null,null,"no tickle"]
[null,null,null,null,null,null,null,null,null,null,null,null,null,null,null,null,null,null,null,null,null,null,null,null,null,null,null,null,null,null,null,null,"no-till","full cut","no-till","full cut",null,"no-till",null,null,"full cut"]
[null,null,null,null,null,null,null,null,null,null,null,null,null,null,null,null,null,null,null,null,null,null,null,null,null,null,null,null,null,null,null,"Germination prior to break",7.0000000000000001E-3,1.0999999999999999E-2,1.7999999999999999E-2,1.9E-2,null,{"$f":"AG114","v":7.0000000000000001E-3},{"$f":"1*(1-AG114)","v":0.99299999999999999},null,{"$f":"AH114","v":1.0999999999999999E-2},{"$f":"1*(1-AH114)","v":0.98899999999999999}]
[null,null,null,null,null,null,null,null,null,null,null,null,null,null,null,null,null,null,null,null,null,null,null,null,null,null,null,null,null,null,null,"Germination 1-10 days after break**",2.1999999999999999E-2,2.3E-2,2.7E-2,2.7E-2,null,{"$f":"AM114-AM115","v":2.1846000000000032E-2},{"$f":"AM114*(1-AG115)","v":0.97115399999999996},null,{"$f":"AP114-AP115","v":2.2747000000000073E-2},{"$f":"AP114*(1-AH115)","v":0.96625299999999992}]
[null,null,null,null,null,null,null,null,null,null,null,null,null,null,null,null,null,null,null,null,null,null,null,null,null,null,null,null,null,null,null,"Germination 11-20 days after break**",1.4E-2,1.4E-2,1.4999999999999999E-2,1.6E-2,null,{"$f":"AM115-AM116","v":1.359615599999997E-2},{"$f":"AM115*(1-AG116)","v":0.95755784399999999},null,{"$f":"AP115-AP116","v":1.3527542000000059E-2},{"$f":"AP115*(1-AH116)","v":0.95272545799999986}]
[null,null,null,null,null,null,null,null,null,null,null,null,null,null,null,null,null,null,null,null,null,null,null,null,null,null,null,null,null,null,null,"Additional germination before in-crop sprays**",1.7000000000000001E-2,1.7999999999999999E-2,1.6E-2,1.7999999999999999E-2,null,{"$f":"AM116-AM117","v":1.6278483347999972E-2},{"$f":"AM116*(1-AG117)","v":0.94127936065200002},null,{"$f":"AP116-AP117","v":1.7149058244000037E-2},{"$f":"AP116*(1-AH117)","v":0.93557639975599982}]
[null,"Options_2",{"$f":"'1.Profile'!Q32","v":"BYGUM, non-GR"},null,null,null,null,null,null,null,null,null,null,null,null,null,null,null,null,null,null,null,null,null,null,null,null,null,null,null,null,"Germination after in-crop sprays**",6.0000000000000001E-3,0.01,8.9999999999999993E-3,1.0999999999999999E-2,null,{"$f":"AM117-AM118","v":5.647676163912041E-3},{"$f":"AM117*(1-AG118)","v":0.93563168448808798},null,{"$f":"AP117-AP118","v":9.355763997559996E-3},{"$f":"AP117*(1-AH118)","v":0.92622063575843983}]
[null,null,null,null,null,null,null,null,null,null,null,null,null,null,null,null,null,null,null,null,null,null,null,null,null,null,null,null,null,null,null,null,null,null,null,null,null,"total:",{"$f":"1-AM118","v":6.4368315511912022E-2},{"$f":"SUM(AL114:AL118)+AM118","v":1},"total:",{"$f":"1-AP118","v":7.3779364241560175E-2},{"$f":"SUM(AO114:AO118)+AP118","v":1}]
[null,"Crops",null,null,"Winter crop","Sorghum","Irrig Cotton","D/L Cotton","Corn","Beans",null,null,null,null,null,null,null,null,null,null,null,null,null,null,null,null,null,null,null,null,null,null,{"$f":"1-AM118","v":6.4368315511912022E-2},{"$f":"1-AP118","v":7.3779364241560175E-2},{"$f":"1-AM126","v":8.223960661576013E-2},{"$f":"1-AP126","v":8.7811221291184127E-2},null,"+ tickle",null,null,"+ tickle"]
[null,null,null,null,null,null,null,null,null,null,null,null,null,null,null,null,null,null,null,null,null,null,null,null,null,null,null,null,null,null,null,null,null,null,null,null,null,"no-till",null,null,"full cut"]
[null,null,"Seeding rate  - Standard","kg/ha ",35,3,13,7,12,12,null,null,null,null,null,null,null,null,null,null,null,null,null,null,null,null,null,null,null,null,null,"BYG Variables",null,null,null,null,null,{"$f":"AI114","v":1.7999999999999999E-2},{"$f":"1*(1-AI114)","v":0.98199999999999998},null,{"$f":"AJ114","v":1.9E-2},{"$f":"1*(1-AJ114)","v":0.98099999999999998}]
[null,null,"Seeding rate  - High","kg/ha ",50,4,15,10,16,16,null,null,null,null,null,null,null,null,null,null,null,null,null,null,null,null,null,null,null,null,null,"Nb of viable seeds at start (Yr1) per mature plant last year (from profile)",100,null,50,"Steve Powles, 2012",null,{"$f":"AM122-AM123","v":2.6514000000000038E-2},{"$f":"AM122*(1-AI115)","v":0.95548599999999995},null,{"$f":"AP122-AP123","v":2.6487000000000038E-2},{"$f":"AP122*(1-AJ115)","v":0.95451299999999994}]
[null,null,null,null,null,null,null,null,null,null,null,null,null,null,null,null,null,null,null,null,null,null,null,null,null,null,null,null,null,null,null,"Full cultivation: % emerged plants controlled",1,null,1,"GRDC, 2012",null,{"$f":"AM123-AM124","v":1.4332290000000025E-2},{"$f":"AM123*(1-AI116)","v":0.94115370999999992},null,{"$f":"AP123-AP124","v":1.5272208000000065E-2},{"$f":"AP123*(1-AJ116)","v":0.93924079199999988}]
[null,null,null,null,null,null,null,null,null,null,null,null,null,null,null,null,null,null,null,null,null,null,null,null,null,null,null,null,null,null,null,"full cultivation: % seeds controlled first time",0.7,null,0.95,"GRDC, 2012",null,{"$f":"AM124-AM125","v":1.5058459360000054E-2},{"$f":"AM124*(1-AI117)","v":0.92609525063999987},null,{"$f":"AP124-AP125","v":1.6906334255999966E-2},{"$f":"AP124*(1-AJ117)","v":0.92233445774399991}]
[null,null,null,null,null,null,null,null,null,null,null,null,null,null,null,null,null,null,null,null,null,null,null,null,null,null,null,null,null,null,null,"Full cultivation: % seeds controlled if less than 4 years",0.3,null,0.3,"adapted from Goggin et al. 2012",null,{"$f":"AM125-AM126","v":8.3348572557599976E-3},{"$f":"AM125*(1-AI118)","v":0.91776039338423987},null,{"$f":"AP125-AP126","v":1.0145679035184041E-2},{"$f":"AP125*(1-AJ118)","v":0.91218877870881587}]
[null,null,null,null,null,null,null,null,null,null,null,null,null,null,null,null,null,null,null,null,null,null,null,null,null,null,null,null,null,null,null,"Natural mortality of seedlings (% of total seedlings)",0.05,null,0.05,"Cheam, AgWA 1999",null,"total:",{"$f":"1-AM126","v":8.223960661576013E-2},{"$f":"SUM(AL122:AL126)+AM126","v":1},"total:",{"$f":"1-AP126","v":8.7811221291184127E-2},{"$f":"SUM(AO122:AO126)+AP126","v":1}]
[null,"Yield benefits",null,null,"Winter crop","Sorghum","Irrig Cotton","D/L Cotton","Corn","Beans",null,null,null,null,null,null,null,null,null,null,null,null,null,null,null,null,null,null,null,null,null,"Natural mortality of dormant seeds during season",0.5,null,0.2," J. Holmes, RTC & M. Monjardino, UWA 1999"]
[null,null,null,null,null,null,null,null,null,null,null,"Barnyard grass control",null,null,null,null,null,null,null,null,null,null,null,null,null,null,null,null,null,null,null,"Natural mortality of seeds over winter",0.92,null,0.3,"M. Monjardino, UWA 1999"]
[null,null,"   - following a legume",null,0.12,0.12,0.02,0.02,0.12,null,null,"Plants (in crop or at planting): ",null,null,null,null,null,null,null,null,null,null,null,null,null,null,null,null,null,null,null,"Sub-lethal effect of selective herbicides - lower seed production of surviving weeds.",0.33,null,0.33,"D. Pannell & V. Stewart, 1999"]
[null,null,"   - due to preceding cover crop",null,0.08,0.08,0.08,0.08,0.08,0.08,null,null,"Planting: Min till method",null,null,null,0.2,null,null,null,null,null,null,null,null,null,null,null,null,null,null,"Effect of late-season application of non-selective herbicideherbicides - lower viability of newly produced seeds",0.5,null,0.5,"Steadman et al., 2006",null,null,"A number of those ryegrass parameters are reviewed in:"]
[null,null,"   - for early sowing",null,0.08,0.08,0.08,0.08,0.08,0.08,null,null,"Planting: Conv. till method",null,null,null,0.95,null,null,null,null,null,null,null,null,null,null,null,null,null,null,"Maximum byg seed production (seeds/m2/year)",120000,null,35000,"M. Monjardino, UWA 1999",null,null,"Goggin, D.E., Powles, S.B. and Steadman, K,J. (2012) Understanding Lolium rigidum Seeds: The Key to Managing a Problem Weed? Agronomy 2:222-239"]
[null,null,"   - for dryland cotton, following two summer fallows",null,null,null,null,0.6,null,null,null,null,"Topping - Cereals",null,null,null,0.75,null,null,null,null,null,null,null,null,null,null,null,null,null,null,"Removal of weed seed in grain with normal harvesting",0.05,null,0.05,"Michael Walsh, 2012",null,null,"Doole, G.J. (2009) Increased cropping activity and herbicide resistance: the case of rigid ryegrass in Western Australian dryland agriculture. In: Berklian, Y.U. (Ed.), Crop Rotation: Economics, Impact, and Management. Nova Science Publishers, Hauppauge, pp. 1–40."]
[null,null,null,null,null,null,null,null,null,null,null,null,"Topping - Cotton/Legumes",null,null,null,0.75,null,null,null,null,null,null,null,null,null,null,null,null,null,null,"barnyard grass background comp. factor",10,null,25,"A. Diggle, AgWA"]
[null,"Yield penalties",null,null,"Winter crop","Sorghum","Irrig Cotton","D/L Cotton","Corn","Beans",null,null,null,null,null,null,null,null,null,null,null,null,null,null,null,null,null,null,null,null,null,"BYG competition factor in wheat",0.33,null,0.33,"D. Pannell, UWA 1999"]
[null,null,null,null,null,null,null,null,null,null,null,null,null,null,null,null,null,null,null,null,null,null,null,null,null,null,null,null,null,null,null,"BYG competition factor in Sorghum, corn, DLC",0.15,null,0.3,"D. Pannell, UWA 1999"]
[null,null,"   - for late sowing",null,0.05,0.05,0.05,7.1999999999999995E-2,0.01,0.01,null,null,null,null,null,null,null,null,null,null,null,null,null,null,null,null,null,null,null,null,null,"BYG competition factor in Irrig Cotton",0.1,null,0.35,"D. Pannell, UWA 1999"]
[null,null,"   - for crop-topping",null,0.05,0.05,0.05,7.1999999999999995E-2,0.05,0.05,null,"Plants (at time of cover crop sprayout): ",null,null,null,null,null,null,null,null,null,null,null,null,null,null,null,null,null,null,null,"BYG competition factor in beans",0.25,null,0.24,"D. Pannell, UWA 1999"]
[null,null,"   - if following another crop",null,0.7,0.5,0.1,0.7,0.5,0.1,null,null,"Sprayout with DK",null,null,null,1,null,null,null,null,null,null,null,null,null,null,null,null,null,null,null,"Don't change without good advice",null,null,null,"John Moore, DAWA, Dec 2000"]
[null,null,null,null,null,null,null,null,null,null,null,"Seeds (harvest weed seed control in grains):",null,null,null,null,null,null,null,null,null,null,null,null,null,null,null,null,null,null,null,"Progeny index for BYG","Early sow","Avg sow","Late sow",null,"Seed day 0","Seed day 10","Seed day 20"]
[null,null,"   - on crops, from pre- and post-emergent phytotoxic effects",null,null,null,null,null,0.02,null,null,null,"Catch & chaff tramlining",null,null,null,0.85,null,null,null,null,null,null,null,null,null,null,null,null,null,null,"Weeds emerging 1-10 days after break",1,1,1,null,1,1,1]
[null,null,null,null,null,null,null,null,null,null,null,null,"Catch & HSD or BDS",null,null,null,0.85,null,null,null,null,null,null,null,null,null,null,null,null,null,null,"Weeds emerging 11-20 days after break",0.6,0.7,0.9,null,0.3,1,1]
[null,null,"   - on beans if break between beans is only 1 year",null,null,null,null,null,0,null,null,null,"Catch & burn: chaff cart dumps",null,null,null,0.85,null,null,null,null,null,null,null,null,null,null,null,null,null,null,"Additional weeds emerging before post-em herbicides",0.4,0.5,0.6,null,0.1,0.3,0.45]
[null,null,null,null,null,null,null,null,null,null,null,null,"Catch & burn: narrow windrows",null,null,null,0.85,null,null,null,null,null,null,null,null,null,null,null,null,null,null,"Weeds emerging after post-em herbicides",0.08,0.08,0.1,null,0.02,0.1,0.1]
[null,null,"   - on dryland Cotton if preceding summer is not fallow",null,null,null,null,null,0.4,null,null,null,"Whole-paddock burning (residues)",null,null,null,0.6]
[null,null,null,null,null,null,null,null,null,null,null,null,null,null,null,null,null,null,null,null,null,null,null,null,null,null,null,null,null,null,null,null,{"$f":"AVERAGE(AG141:AG144)","v":0.52},{"$f":"AVERAGE(AH141:AH144)","v":0.57000000000000006},{"$f":"AVERAGE(AI141:AI144)","v":0.65}]
[]
[]
[]
[null,null,null,null,null,null,null,null,null,null,null,null,null,null,null,null,null,null,null,null,null,null,null,null,null,null,null,null,null,null,null,"Pastures","All Data Source from  AgWA Pastures Group - Mike Ewing, Brad Nutt,  Clinton Revell, Keith Devenish, 2001 ; reviewed 2012 by Mike Ewing (UWA), Clinton Revell, Mark Seymour (DAFWA)"]
[null,null,null,null,null,null,null,null,null,null,null,null,null,null,null,null,null,null,null,null,null,null,null,null,null,null,null,null,null,null,null,"Stocking rates - Standard Intensity Grazing =","Average annual pasture stocking rate (DSE/ha) for year round grazing at standard intensity",null,null,null,null,null,null,null,null,"Planfarm and Bankwest (2012) Planfarm Bankwest Benchmarks 2011/2012. Planfarm Pty. Ltd. and BankWest Agribusiness Centre, West Perth and Wembley, Western Australia, 81pp."]
[null,"Options_3",{"$f":"'1.Profile'!Q33","v":"BYGUM, Test cotton 1"},null,null,null,null,null,null,null,null,null,null,null,null,null,null,null,null,null,null,null,null,null,null,null,null,null,null,null,null,"Stocking rates - High Intensity Grazing =","Average pasture stocking rate (DSE/ha) given high intensity grazing during winter/spring. ",null,null,null,null,null,null,null,null,"Seymour, M., Kirkegaard, J.A., Peoples, M.B., White, P.F. and French, R.J. (2012) Break-crop benefits to wheat in Western Australia – insights from over three decades of research. Crop and Pasture Science 63:1-16."]
[null,null,null,null,null,null,null,null,null,null,null,null,null,null,null,null,null,null,null,null,null,null,null,null,null,null,null,null,null,null,null,"Hay Cut, Silage Cut, Green Manuring =","Pasture stocking rate (DSE/ha) if cutting hay, cutting silage or green manuring when the "]
[null,"Crops",null,null,"Winter crop","Sorghum","Irrig Cotton","D/L Cotton","Corn","Beans",null,null,null,null,null,null,null,null,null,null,null,null,null,null,null,null,null,null,null,null,null,null,"stocking rate is averaged over the same period as year round grazing."]
[null,null,null,null,null,null,null,null,null,null,null,null,null,null,null,null,null,null,null,null,null,null,null,null,null,null,null,null,null,null,null,null,null,null,null,null,null,"Reference used for ratios",null,null,null,"Crops after pasture:",null,null,"First cereal","2nd","Cotton 1st ",null,null,"Reference used for ratios"]
[null,null,"Seeding rate  - Standard","kg/ha ",35,3,13,7,12,12,null,null,null,null,null,null,null,null,null,null,null,null,null,null,null,null,null,null,null,null,null,"Grazing only","Sub-clover","Cadiz","Volunteer",null,"Sub-clover","Cadiz","Volunteer",null,null,"Saving in Nitrogen Fertiliser ($/ha)",null,null,"after past.","consecutiv. Cereal"," year after pasture",null,"1st cereal","2nd cereal","1st Cotton"]
[null,null,"Seeding rate  - High","kg/ha ",50,4,15,10,16,16,null,null,null,null,null,null,null,null,null,null,null,null,null,null,null,null,null,null,null,null,null,"Stocking rates - Standard",null,null,null,null,null,null,null,null,null,null,"1 year of pasture",null,{"$f":"$AS$162*AW157/$AW$162","v":0},0,0,null,5,0,5,"This table in"]
[null,null,null,null,null,null,null,null,null,null,null,null,null,null,null,null,null,null,null,null,null,null,null,null,null,null,null,null,null,null,null,"1st yr of pasture",{"$f":"$AG$160*(AK158/$AK$160)","v":0},0,0,null,2,2.5,1.5,null,null,"after Volunteer Pasture","2 consecutive years of pasture",null,0,0,0,null,10,5,10,"!!    kg/ha"]
[null,null,null,null,null,null,null,null,null,null,null,null,null,null,null,null,null,null,null,null,null,null,null,null,null,null,null,null,null,null,null,"2nd consecutive yr of pasture",0,0,0,null,3.5,4,2,null,null,null,"3 consecutive years of pasture",null,0,0,0,null,12,5.5,12]
[null,null,null,null,null,null,null,null,null,null,null,null,null,null,null,null,null,null,null,null,null,null,null,null,null,null,null,null,null,null,null,"3rd consecutive yr of pasture",{"$f":"O14","v":0},{"$f":"$AG$160*(AL160/$AK$160)","v":0},{"$f":"$AG$160*(AM160/$AK$160)","v":0},null,4.5,4.5,2,null,null,null,"1 year of pasture",null,0,0,0,null,15,5,15]
[null,null,null,null,null,null,null,null,null,null,null,null,null,null,null,null,null,null,null,null,null,null,null,null,null,null,null,null,null,null,null,"Stocking rates - High",null,null,null,null,null,null,null,null,null,"after Sub-Clover Pasture","2 consecutive years of pasture",null,0,0,0,null,25,7,25]
[null,"Yield benefits",null,null,"Winter crop","Sorghum","Irrig Cotton","D/L Cotton","Corn","Beans",null,null,null,null,null,null,null,null,null,null,null,null,null,null,null,null,null,null,null,null,null,"1st yr of pasture",{"$f":"$AG$164*(AK162/$AK$164)","v":0},0,0,null,3,3,2.5,null,null,null,"3 consecutive years of pasture",null,{"$f":"'+Prices'!AJ87","v":0},{"$f":"$AS$162*AX162/$AW$162","v":0},0,null,30,10,30]
[null,null,null,null,null,null,null,null,null,null,null,"Barnyard grass control",null,null,null,null,null,null,null,null,null,null,null,null,null,null,null,null,null,null,null,"2nd consecutive yr of pasture",0,0,0,null,5,5.5,3,null,null,null,"1 year of pasture",null,{"$f":"$AS$162*AW163/$AW$162","v":0},0,0,null,16,5,16]
[null,null,"   - following a legume",null,0.12,0.12,0.02,0.02,0.12,null,null,"Plants (in crop or at planting): ",null,null,null,null,null,null,null,null,null,null,null,null,null,null,null,null,null,null,null,"3rd consecutive yr of pasture",{"$f":"O15","v":0},{"$f":"$AG$164*(AL164/$AK$164)","v":0},{"$f":"$AG$164*(AM164/$AK$164)","v":0},null,6.5,6.5,3,null,null,"after Cadiz Pasture","2 consecutive years of pasture",null,{"$f":"$AS$162*AW164/$AW$162","v":0},0,0,null,27,7,27]
[null,null,"   - due to preceding cover crop",null,0.08,0.08,0.08,0.08,0.08,0.08,null,null,"Planting: Min till method",null,null,null,0.2,null,null,null,null,null,null,null,null,null,null,null,null,null,null,null,null,null,null,null,null,null,null,null,null,null,"3 consecutive years of pasture",null,{"$f":"$AS$162*AW165/$AW$162","v":0},0,0,null,32,11,32]
[null,null,"   - for early sowing",null,0.08,0.08,0.08,0.08,0.08,0.08,null,null,"Planting: Conv. till method",null,null,null,0.95,null,null,null,null,null,null,null,null,null,null,null,null,null,null,"Grazing only - Ryegrass Control ",null,null,null,null,null,null,null,null,null,"Yiled benefits in Crop  (%)  for:",null,null,"From +Prices: cf 30 kg/ha: same as the 'saving if planted after legume crop' value",null,null,null,null,null,null,null,"old Cotton"]
[null,null,"   - for dryland cotton, following two summer fallows",null,null,null,null,0.6,null,null,null,null,"Topping - Cereals",null,null,null,0.75,null,null,null,null,null,null,null,null,null,null,null,null,null,null,"Stocking rates - Standard",null,null,null,null,null,null,null,null,null,null,"1 year of pasture",null,{"$f":"$AS$172*AW167/$AW$172","v":4.7999999999999994E-2},2.3999999999999997E-2,4.7999999999999994E-2,null,0.08,0.04,0.08,null,0.08]
[null,null,null,null,null,null,null,null,null,null,null,null,"Topping - Cotton/Legumes",null,null,null,0.75,null,null,null,null,null,null,null,null,null,null,null,null,null,null,"1st yr of pasture",{"$f":"$AG$170*(AK168/$AK$170)","v":0},0,0,null,0.5,0.3,0.4,null,null,"after Volunteer Pasture","2 consecutive years of pasture",null,0.06,0.03,0.06,null,0.1,0.05,0.1,null,0.1]
[null,"Yield penalties",null,null,"Winter crop","Sorghum","Irrig Cotton","D/L Cotton","Corn","Beans",null,null,null,null,null,null,null,null,null,null,null,null,null,null,null,null,null,null,null,null,null,"2nd consecutive yr of pasture",0,0,0,null,0.7,0.5,0.6,null,null,null,"3 consecutive years of pasture",null,0.06,0.03,0.06,null,0.1,0.05,0.1,null,0.1]
[null,null,null,null,null,null,null,null,null,null,null,null,null,null,null,null,null,null,null,null,null,null,null,null,null,null,null,null,null,null,null,"3rd consecutive yr of pasture",{"$f":"P14","v":0},{"$f":"$AG$170*(AL170/$AK$170)","v":0},{"$f":"$AG$170*(AM170/$AK$170)","v":0},null,0.8,0.7,0.75,null,null,null,"1 year of pasture",null,0.10200000000000001,4.7999999999999994E-2,0,null,0.17,0.08,0,null,0.17]
[null,null,"   - for late sowing",null,0.05,0.05,0.05,7.1999999999999995E-2,0.01,0.01,null,null,null,null,null,null,null,null,null,null,null,null,null,null,null,null,null,null,null,null,null,"Stocking rates - High",null,null,null,null,null,null,null,null,null,"after Sub-Clover Pasture","2 consecutive years of pasture",null,0.12,0.06,-8.9999999999999983E-2,null,0.2,0.1,-0.15,null,0.2]
[null,null,"   - for crop-topping",null,0.05,0.05,0.05,7.1999999999999995E-2,0.05,0.05,null,"Plants (at time of cover crop sprayout): ",null,null,null,null,null,null,null,null,null,null,null,null,null,null,null,null,null,null,null,"1st yr of pasture",{"$f":"$AG$174*(AK172/$AK$174)","v":0},0,0,null,0.85,0.7,0.85,null,null,null,"3 consecutive years of pasture",null,{"$f":"E20","v":0.12},{"$f":"$AS$172*AX172/$AW$172","v":0.06},-0.17999999999999997,null,0.2,0.1,-0.3,null,0.2]
[null,null,"   - if following another crop",null,0.7,0.5,0.1,0.7,0.5,0.1,null,null,"Sprayout with DK",null,null,null,1,null,null,null,null,null,null,null,null,null,null,null,null,null,null,"2nd consecutive yr of pasture",0,0,0,null,0.9,0.8,0.9,null,null,null,"1 year of pasture",null,{"$f":"$AS$172*AW173/$AW$172","v":0.10200000000000001},4.7999999999999994E-2,0,null,0.17,0.08,0,null,0.17]
[null,null,null,null,null,null,null,null,null,null,null,"Seeds (harvest weed seed control in grains):",null,null,null,null,null,null,null,null,null,null,null,null,null,null,null,null,null,null,null,"3rd consecutive yr of pasture",{"$f":"P15","v":0},{"$f":"$AG$174*(AL174/$AK$174)","v":0},{"$f":"$AG$174*(AM174/$AK$174)","v":0},null,0.95,0.9,0.95,null,null,"after Cadiz Pasture","2 consecutive years of pasture",null,{"$f":"$AS$172*AW174/$AW$172","v":0.12},0.06,-8.9999999999999983E-2,null,0.2,0.1,-0.15,null,0.2]
[null,null,"   - on crops, from pre- and post-emergent phytotoxic effects",null,null,null,null,null,0.02,null,null,null,"Catch & chaff tramlining",null,null,null,0.85,null,null,null,null,null,null,null,null,null,null,null,null,null,null,null,null,null,null,null,null,null,null,null,null,null,"3 consecutive years of pasture",null,{"$f":"$AS$172*AW175/$AW$172","v":0.12},0.06,-0.17999999999999997,null,0.2,0.1,-0.3,null,0.2]
[null,null,null,null,null,null,null,null,null,null,null,null,"Catch & HSD or BDS",null,null,null,0.85,null,null,null,null,null,null,null,null,null,null,null,null,null,null,"If Hay Cut, Silage Cut, Green Manuring planned"]
[null,null,"   - on beans if break between beans is only 1 year",null,null,null,null,null,0,null,null,null,"Catch & burn: chaff cart dumps",null,null,null,0.85,null,null,null,null,null,null,null,null,null,null,null,null,null,null,"Stocking rates - Standard",null,null,null,null,null,null,null,null,null,"Seymour, M., Kirkegaard, J.A., Peoples, M.B., White, P.F. and French, R.J. (2012) Break-crop benefits to wheat in Western Australia – insights from over three decades of research. Crop and Pasture Science 63:1-16."]
[null,null,null,null,null,null,null,null,null,null,null,null,"Catch & burn: narrow windrows",null,null,null,0.85,null,null,null,null,null,null,null,null,null,null,null,null,null,null,"1st yr of pasture",{"$f":"$AG$180*(AK178/$AK$180)","v":0},0,0,null,1.5,1.5,0.5]
[null,null,"   - on dryland Cotton if preceding summer is not fallow",null,null,null,null,null,0.4,null,null,null,"Whole-paddock burning (residues)",null,null,null,0.6,null,null,null,null,null,null,null,null,null,null,null,null,null,null,"2nd consecutive yr of pasture",0,0,0,null,3,2,1]
[null,null,null,null,null,null,null,null,null,null,null,null,null,null,null,null,null,null,null,null,null,null,null,null,null,null,null,null,null,null,null,"3rd consecutive yr of pasture",{"$f":"O16","v":0},{"$f":"$AG$180*(AL180/$AK$180)","v":0},{"$f":"$AG$180*(AM180/$AK$180)","v":0},null,4,2,1,null,null,null,null,null,null,"A. Diggle"]
[null,null,null,null,null,null,null,null,null,null,null,null,null,null,null,null,null,null,null,null,null,null,null,null,null,null,null,null,null,null,null,"Hay/Silage Production (t/ha) with Standard Grazing",null,null,null,null,null,null,null,null,null,"Competition factor of pasture on ryegrass ",null,null,300,300]
[null,null,null,null,null,null,null,null,null,null,null,null,null,null,null,null,null,null,null,null,null,null,null,null,null,null,null,null,null,null,null,"1st yr of pasture",{"$f":"$AG$184*(AK182/$AK$184)","v":0},0,0,null,0.5,3,0.5,null,null,"Do not change without good advice"]
[null,null,null,null,null,null,null,null,null,null,null,null,null,null,null,null,null,null,null,null,null,null,null,null,null,null,null,null,null,null,null,"2nd consecutive yr of pasture",0,0,0,null,0.7,2.5,0.3,null,null,"This figure equals the wheat competition factor on ryegrass * standard wheat density.  "]
[null,null,null,null,null,null,null,null,null,null,null,null,null,null,null,null,null,null,null,null,null,null,null,null,null,null,null,null,null,null,null,"3rd consecutive yr of pasture",{"$f":"Q16","v":0},{"$f":"$AG$184*(AL184/$AK$184)","v":0},{"$f":"$AG$184*(AM184/$AK$184)","v":0},null,1,1.5,0.1,null,null,"We assume that all three pastures are equally competitive and have a similar competitive "]
[null,null,null,null,null,null,null,null,null,null,null,null,null,null,null,null,null,null,null,null,null,null,null,null,null,null,null,null,null,null,null,"Stocking rates - High",null,null,null,null,null,null,null,null,null,"effect on ryegrass as a wheat crop."]
[null,null,null,null,null,null,null,null,null,null,null,null,null,null,null,null,null,null,null,null,null,null,null,null,null,null,null,null,null,null,null,"1st yr of pasture",{"$f":"AG178*((AG162/AG158)+1)/2","v":{"$error":"#DIV/0!"}},{"$error":"#DIV/0!"},{"$error":"#DIV/0!"}]
[null,"Options_4",{"$f":"'1.Profile'!Q34","v":"BYGUM, Test cotton 1"},null,null,null,null,null,null,null,null,null,null,null,null,null,null,null,null,null,null,null,null,null,null,null,null,null,null,null,null,"2nd consecutive yr of pasture",{"$error":"#DIV/0!"},{"$error":"#DIV/0!"},{"$error":"#DIV/0!"}]
[null,null,null,null,null,null,null,null,null,null,null,null,null,null,null,null,null,null,null,null,null,null,null,null,null,null,null,null,null,null,null,"3rd consecutive yr of pasture",{"$error":"#DIV/0!"},{"$error":"#DIV/0!"},{"$error":"#DIV/0!"}]
[null,"Crops",null,null,"Winter crop","Sorghum","Irrig Cotton","D/L Cotton","Corn","Beans",null,null,null,null,null,null,null,null,null,null,null,null,null,null,null,null,null,null,null,null,null,"Hay/Silage Production (t/ha) with High intensity grazing"]
[null,null,null,null,null,null,null,null,null,null,null,null,null,null,null,null,null,null,null,null,null,null,null,null,null,null,null,null,null,null,null,"1st yr of pasture",{"$f":"AG182/2","v":0},{"$f":"AH182/2","v":0},{"$f":"AI182/2","v":0}]
[null,null,"Seeding rate  - Standard","kg/ha ",35,3,13,7,12,12,null,null,null,null,null,null,null,null,null,null,null,null,null,null,null,null,null,null,null,null,null,"2nd consecutive yr of pasture",{"$f":"AG183/2","v":0},0,0]
[null,null,"Seeding rate  - High","kg/ha ",50,4,15,10,16,16,null,null,null,null,null,null,null,null,null,null,null,null,null,null,null,null,null,null,null,null,null,"3rd consecutive yr of pasture",0,0,0]
[]
[null,null,null,null,null,null,null,null,null,null,null,null,null,null,null,null,null,null,null,null,null,null,null,null,null,null,null,null,null,null,null,"If Hay Cut /Silage Cut only"]
[null,null,null,null,null,null,null,null,null,null,null,null,null,null,null,null,null,null,null,null,null,null,null,null,null,null,null,null,null,null,null,"Hay/Silage Production (t/ha) WITHOUT grazing"]
[null,null,null,null,null,null,null,null,null,null,null,null,null,null,null,null,null,null,null,null,null,null,null,null,null,null,null,null,null,null,null,"1st yr of pasture",{"$f":"$AG$198*(AK196/$AK$198)","v":0},0,0,null,0.8,4.8,1]
[null,"Yield benefits",null,null,"Winter crop","Sorghum","Irrig Cotton","D/L Cotton","Corn","Beans",null,null,null,null,null,null,null,null,null,null,null,null,null,null,null,null,null,null,null,null,null,"2nd consecutive yr of pasture",0,0,0,null,1.5,4,0.8]
[null,null,null,null,null,null,null,null,null,null,null,"Barnyard grass control",null,null,null,null,null,null,null,null,null,null,null,null,null,null,null,null,null,null,null,"3rd consecutive yr of pasture",{"$f":"Q17","v":0},{"$f":"$AG$198*(AL198/$AK$198)","v":0},{"$f":"$AG$198*(AM198/$AK$198)","v":0},null,2,2.4,0.5]
[null,null,"   - following a legume",null,0.12,0.12,0.02,0.02,0.12,null,null,"Plants (in crop or at planting): ",null,null,null,null,null,null,null,null,null,null,null,null,null,null,null,null,null,null,null,null,null,null,null,null,null,null,null,null,"Note:  By default (see 'Calc'), sowing of a pasture occurs:"]
[null,null,"   - due to preceding cover crop",null,0.08,0.08,0.08,0.08,0.08,0.08,null,null,"Planting: Min till method",null,null,null,0.2,null,null,null,null,null,null,null,null,null,null,null,null,null,null,"Production benefit if nothing done the previous year",0.2,null,null,null,null,null,null,null,null,"Cadiz = only in 1st year of a run of cadiz"]
[null,null,"   - for early sowing",null,0.08,0.08,0.08,0.08,0.08,0.08,null,null,"Planting: Conv. till method",null,null,null,0.95,null,null,null,null,null,null,null,null,null,null,null,null,null,null,null,null,null,null,null,null,null,null,null,null,"Clover = only if no clover in past 3 years"]
[null,null,"   - for dryland cotton, following two summer fallows",null,null,null,null,0.6,null,null,null,null,"Topping - Cereals",null,null,null,0.75,null,null,null,null,null,null,null,null,null,null,null,null,null,null,null,null,null,null,null,null,null,null,null,null,"Volunteer = never."]
[null,null,null,null,null,null,null,null,null,null,null,null,"Topping - Cotton/Legumes",null,null,null,0.75]
[null,"Yield penalties",null,null,"Winter crop","Sorghum","Irrig Cotton","D/L Cotton","Corn","Beans"]
[null,null,null,null,null,null,null,null,null,null,null,null,null,null,null,null,null,null,null,null,null,null,null,null,null,null,null,null,null,null,null,null,null,null,null,null,"Frozen, original references"]
[null,null,"   - for late sowing",null,0.05,0.05,0.05,7.1999999999999995E-2,0.01,0.01,null,null,null,null,null,null,null,null,null,null,null,null,null,null,null,null,null,null,null,null,null,null,null,null,null,null,null,"Reference used for ratios"]
[null,null,"   - for crop-topping",null,0.05,0.05,0.05,7.1999999999999995E-2,0.05,0.05,null,"Plants (at time of cover crop sprayout): ",null,null,null,null,null,null,null,null,null,null,null,null,null,null,null,null,null,null,null,null,null,null,null,null,"Sub-clover","Cadiz","Volunteer"]
[null,null,"   - if following another crop",null,0.7,0.5,0.1,0.7,0.5,0.1,null,null,"Sprayout with DK",null,null,null,1]
[null,null,null,null,null,null,null,null,null,null,null,"Seeds (harvest weed seed control in grains):",null,null,null,null,null,null,null,null,null,null,null,null,null,null,null,null,null,null,null,null,null,null,null,null,2.5,3,1.5]
[null,null,"   - on crops, from pre- and post-emergent phytotoxic effects",null,null,null,null,null,0.02,null,null,null,"Catch & chaff tramlining",null,null,null,0.85,null,null,null,null,null,null,null,null,null,null,null,null,null,null,null,null,null,null,null,4,5,2.4]
[null,null,null,null,null,null,null,null,null,null,null,null,"Catch & HSD or BDS",null,null,null,0.85,null,null,null,null,null,null,null,null,null,null,null,null,null,null,null,null,null,null,null,5,6,2.4]
[null,null,"   - on beans if break between beans is only 1 year",null,null,null,null,null,0,null,null,null,"Catch & burn: chaff cart dumps",null,null,null,0.85]
[null,null,null,null,null,null,null,null,null,null,null,null,"Catch & burn: narrow windrows",null,null,null,0.85,null,null,null,null,null,null,null,null,null,null,null,null,null,null,null,null,null,null,null,4,4,3]
[null,null,"   - on dryland Cotton if preceding summer is not fallow",null,null,null,null,null,0.4,null,null,null,"Whole-paddock burning (residues)",null,null,null,0.6,null,null,null,null,null,null,null,null,null,null,null,null,null,null,null,null,null,null,null,5,6,3]
[null,null,null,null,null,null,null,null,null,null,null,null,null,null,null,null,null,null,null,null,null,null,null,null,null,null,null,null,null,null,null,null,null,null,null,null,6,7,3]
[]
[]
[]
[null,null,null,null,null,null,null,null,null,null,null,null,null,null,null,null,null,null,null,null,null,null,null,null,null,null,null,null,null,null,null,null,null,null,null,null,0.5,0.3,0.4]
[null,null,null,null,null,null,null,null,null,null,null,null,null,null,null,null,null,null,null,null,null,null,null,null,null,null,null,null,null,null,null,null,null,null,null,null,0.7,0.5,0.4]
[null,null,null,null,null,null,null,null,null,null,null,null,null,null,null,null,null,null,null,null,null,null,null,null,null,null,null,null,null,null,null,null,null,null,null,null,0.8,0.7,0.4]
[]
[null,null,null,null,null,null,null,null,null,null,null,null,null,null,null,null,null,null,null,null,null,null,null,null,null,null,null,null,null,null,null,null,null,null,null,null,0.87,0.82,0.87]
[null,null,null,null,null,null,null,null,null,null,null,null,null,null,null,null,null,null,null,null,null,null,null,null,null,null,null,null,null,null,null,null,null,null,null,null,0.92,0.85,0.92]
[null,null,null,null,null,null,null,null,null,null,null,null,null,null,null,null,null,null,null,null,null,null,null,null,null,null,null,null,null,null,null,null,null,null,null,null,0.95,0.9,0.95]
[]
[]
[]
[null,null,null,null,null,null,null,null,null,null,null,null,null,null,null,null,null,null,null,null,null,null,null,null,null,null,null,null,null,null,null,null,null,null,null,null,1.5,1.5,0.5]
[null,null,null,null,null,null,null,null,null,null,null,null,null,null,null,null,null,null,null,null,null,null,null,null,null,null,null,null,null,null,null,null,null,null,null,null,3,2.5,1.4]
[null,null,null,null,null,null,null,null,null,null,null,null,null,null,null,null,null,null,null,null,null,null,null,null,null,null,null,null,null,null,null,null,null,null,null,null,4,3,1.4]
[]
[null,null,null,null,null,null,null,null,null,null,null,null,null,null,null,null,null,null,null,null,null,null,null,null,null,null,null,null,null,null,null,null,null,null,null,null,0.5,3,0.5]
[null,null,null,null,null,null,null,null,null,null,null,null,null,null,null,null,null,null,null,null,null,null,null,null,null,null,null,null,null,null,null,null,null,null,null,null,0.6,2.5,0.25]
[null,null,null,null,null,null,null,null,null,null,null,null,null,null,null,null,null,null,null,null,null,null,null,null,null,null,null,null,null,null,null,null,null,null,null,null,0.75,1.5,0.125]

{"sheet":"2.Strategy","index":5,"n_rows":241,"n_cols":48,"rows_kept":241,"cut":false,"hidden":false,"merged":[[5,14,5,16],[12,14,12,15],[13,14,13,15],[7,14,7,15],[8,14,8,15],[9,14,9,15],[10,14,10,15],[11,14,11,15]]}
[null,"2. BUILD Your Strategy",null,null,null,null,null,null,null,{"$f":"'1.Profile'!Q28&\", \"&'1.Profile'!Q27","v":"BYGUM, GR"},null,null,"  "]
[]
[null,null,"Choose enterprise","Sum 1","Wint 1","Sum 2","Wint 2","Sum 3","Wint 3","Sum 4","Wint 4","Sum 5","Wint 5"]
[null,null,"and control options:","Irrig Cotton","Winter fallow","Irrig Cotton","Winter fallow","Irrig Cotton","Winter fallow","Irrig Cotton","Winter fallow","Irrig Cotton","Winter fallow",null,"Save & Load",null,null,null,null,null,null,null,null,null,null,null,null,null,null,null,null,null,null,null,null,null,null,null,null,null,null,null,null,null,null,null,null,"Excluded"]
[13,null,"Time of sowing","Average","Average","Average","Average","Average","V Early","Average","Average","Average","Average"," ","Strategy name: ",null,null,null,null,null,null,null,null,null,null,null,null,null,null,null,null,null,null,null,null,null,null,null,null,null,null,null,null,null,null,null,null,"Winter fallowSummer fallow"]
[10,null,"Soil preparation","Cultivate",null,"Cultivate","Tickle","Cultivate",null,"Cultivate",null,"Tickle",null," ","irrigated cotton"]
[1,null,"Knock-down / Double-knock","Glyphosate","Paraquat","Glyphosate","Glyphosate","Glyphosate",null,"Glyphosate","Paraquat","Glyphosate","Tillage"," "]
[4,null,"Early season residual",null,null,null,"Trifluralin","Pendimethali","s-Metolachlo",null,null,null,"Trifluralin"," ","1 in 1 out"]
[11,null,"Sowing method","Tillage","No-till","No-till","No-till","No-till","No-till",null,"No-till","No-till","No-till"," ","Mixed summer rotation",null,null,null,null,null,null,null,null,null,null,null,null,null,null,null,null,null,null,null,null,null,null,null,null,null,null,null,null,null,null,null,null,"Winter fallowSummer fallow"]
[9,null,"Crop seeding rate","Standard","Standard","Standard","Standard","Standard","Standard","Standard","Standard","Standard","Standard"," ","1 in 1 out CC",null,null,null,null,null,null,null,null,null,null,null,null,null,null,null,null,null,null,null,null,null,null,null,null,null,null,null,null,null,null,null,null,"Winter fallowSummer fallow"]
[15,null,"Weed control 1","Glyphosate",null,"Glyphosate",null,"Glyphosate",null,null,"Group A","Glyphosate","Glyphosate"," ","2+2 resistant"]
[16,null,"Weed control 2",null,null,null,null,"Glyphosate",null,"Glyphosate",null,"Inter-row ti",null," ","irrigated cotton"]
[17,null,"Weed control 3","Glyphosate",null,"Glyphosate",null,"Inter-row ti",null,null,null,"Glyphosate",null," ","2 in 5 test"]
[23,null,"Layby weed control 4","Pendimetha","Diuron",null,null,null,null,null,null,null,null," ","Default",null,null,null,null,null,null,null,null,null,null,null,null,null,null,null,null,null,null,null,null,null,null,null,null,null,null,null,null,null,null,null,null,{"$f":"D62&E62&F62&G62&H62&I62","v":"Winter cropSorghumD/L CottonIrrig CottonCornBeans"}]
[35,null,"Weed control 5",null,"Glyphosate","Inter-row ti",null,null,null,null,null,"Inter-row ti",null," "]
[25,null,"Weed control 6","Glyphosate",null,null,null,"Glyphosate",null,"Glyphosate",null,null,null,null,null,{"$f":"IF(C47=\"Err 1\",E53,IF(COUNTIF(D47:M47,\"Err 4\")>0,E48,IF(COUNTIF(D47:M47,\"Err NS\")>0,E49,IF(COUNTIF(D47:M47,\"Err E\")>0,E50,IF(COUNTIF(D47:M47,\"Err H\")>0,E51,IF(COUNTIF(D47:M47,\"Err 3\")>0,E52,\"\"))))))","v":""},null,null,null,null,null,null,null,null,null,null,null,null,null,null,null,null,null,null,null,null,null,null,null,null,null,null,null,null,null,null,null,{"$f":"K62","v":"Winter fallow"}]
[31,null,"Harvest options - Grains",null,null,"Tram.",null,null,"Narr+B.",null,null,null,null,null,null,{"$f":"IF(C47=\"Err 1\",H53,IF(COUNTIF(D47:M47,\"Err 4\")>0,H48,IF(COUNTIF(D47:M47,\"Err NS\")>0,H49,IF(COUNTIF(D47:M47,\"Err E\")>0,H50,IF(COUNTIF(D47:M47,\"Err H\")>0,H51,IF(COUNTIF(D47:M47,\"Err 3\")>0,H52,\"\"))))))","v":""}]
[35,null,"Harvest options - Other crops","Defol Drop",null,"Defol Drop",null,"Defol Drop",null,"Defol Drop",null,"Defol Drop",null,null,null,{"$f":"IF(C47=\"Err 1\",J53,IF(COUNTIF(D47:M47,\"Err 4\")>0,J48,IF(COUNTIF(D47:M47,\"Err NS\")>0,J49,IF(COUNTIF(D47:M47,\"Err E\")>0,J50,IF(COUNTIF(D47:M47,\"Err H\")>0,J51,IF(COUNTIF(D47:M47,\"Err 3\")>0,J52,\"\"))))))","v":""},null,null,null,null,null,null,null,null,null,null,null,null,null,null,null,null,null,null,null,null,null,null,null," ",null,null,null,null,null,null,null,"D/L CottonIrrig CottonSummer fallowWinter fallow"]
[null,null,"Mature BYG setting seed:",{"$f":"IF('Bio results'!D$8>$O$67,\">\"&$O$67,'Bio results'!D$8)","v":0.34095320399081125},0,{"$f":"IF('Bio results'!F$8>$O$67,\">\"&$O$67,'Bio results'!F$8)","v":0.73262785947278075},0,{"$f":"IF('Bio results'!H$8>$O$67,\">\"&$O$67,'Bio results'!H$8)","v":2.8234340708794323},0,{"$f":"IF('Bio results'!J$8>$O$67,\">\"&$O$67,'Bio results'!J$8)","v":18.763035304421738},0,{"$f":"IF('Bio results'!L$8>$O$67,\">\"&$O$67,'Bio results'!L$8)","v":18.388348057898789},0," "]
[null,null,"Seeds in soil next spring (/m2):",{"$f":"IF('Bio results'!D$22>$O$68,\">\"&$O$68,'Bio results'!D$22)","v":636.93053046890384},0,{"$f":"IF('Bio results'!F$22>$O$68,\">\"&$O$68,'Bio results'!F$22)","v":1268.954835023859},0,{"$f":"IF('Bio results'!H$22>$O$68,\">\"&$O$68,'Bio results'!H$22)","v":3490.0377167547558},0,{"$f":"IF('Bio results'!J$22>$O$68,\">\"&$O$68,'Bio results'!J$22)","v":7314.8587519005696},0,{"$f":"IF('Bio results'!L$22>$O$68,\">\"&$O$68,'Bio results'!L$22)","v":7516.3537049522447},0]
[null,null,"Gross margin ($/ha)",{"$f":"'Eco results'!E51","v":5959.4367899592562},{"$f":"'Eco results'!F51","v":-39},{"$f":"'Eco results'!G51","v":6021.8032884286849},{"$f":"'Eco results'!H51","v":-69.8},{"$f":"'Eco results'!I51","v":5712.980220099611},{"$f":"'Eco results'!J51","v":-46.5},{"$f":"'Eco results'!K51","v":5555.5630317838913},{"$f":"'Eco results'!L51","v":-31.5},{"$f":"'Eco results'!M51","v":4093.8473695739131},{"$f":"'Eco results'!N51","v":-62.5}]
[]
[null,null,null,{"$f":"'Eco results'!E61","v":5226.3234002643867}]
[null,null,null," /ha /year \"on average\""]
[null,null,null,null,null,null,null,null,null,null,null,null,null,null,null,null,null,null,null,null,null,null,null,null,null,null,null,null,null,null,null,null,null,null,null,null,null,null,null,null,null,null,null,null,null,null,false]
[null,null,null,null,null,null,null,null,null,null,null,null,null,null,null,null,null,null,null,null,null,null,null,null,null,null,null,null,null,null,null,null,null,null,null,null,null,null,null,null,null,null,null,null,null,null,1]
[]
[null,null,null,null,null,null,null,null,null,null,null,null,null,null,{"$f":"IF(AND('Eco results'!Q5='Eco results'!Q23,'Eco results'!P5='Eco results'!P23),\"Current\",\"\")","v":"Current"},{"$f":"IF('3. Out Eco'!C10=0,\"\",'3. Out Eco'!C10)","v":5226.3234002643867}]
[null,null,null,null,null,null,null,null,null,null,null,null,null,null,{"$f":"'3. Out Eco'!F10","v":"BYGUM, GR - irrigated cotton"}]
[null,null,null,null,null,null,null,null,null,null,null,null,null,null,null,null,null,null,null,null,null,null,null,null,null,null,null,null,null,null,null,null,null,null,null,null,null,null,null,null,null,null,null,null,null,null,null," "]
[]
[]
[]
[]
[null,null,null,null,null,null,null," ",null,null,null,null,null,null,{"$f":"IF(AND('Eco results'!Q5='Eco results'!Q41,'Eco results'!P5='Eco results'!P41),\"Current\",\"\")","v":"Current"},{"$f":"IF('3. Out Eco'!C25=0,\"\",'3. Out Eco'!C25)","v":5226.3234002643867}]
[null,null,null,null,null,null,null,null,null,null,null,null,null,null,{"$f":"'3. Out Eco'!F25","v":"BYGUM, GR - irrigated cotton"}]
[null,null,null,null,null,null,null,null,null,null,null,null,null,null,null,null,null,null,null,null,null,null,null,null,null,null,null,null,null,null,null,null,null,null,null,null,null,null,null,null,null,null,null,0]
[null,null,null,null,null,null,null,null,null,null,null,null,null,null,null,"Auto"]
[null,null,null,null,null,null,null,null,null,null,null,null,null,null,null,null,null,null,null,null,null,null,null,null,null,null,null,null,null,null,null,null,null,null,null,null,null,null,null,null,null,null,null,{"$f":"P_2S","v":true}]
[]
[]
[]
[]
[]
[null,null,"ERROR"]
[null,null,"Error handling","Yr 1","Yr 2","Yr 3","Yr 4","Yr 5","Yr 6","Yr 7","Yr 8","Yr 9","Yr 10"]
[null,null,{"$f":"IF(OR(COUNTIF(D4:M4,E62)>7,COUNTIF(D4:M4,F62)>7,COUNTIF(D4:M4,G62)>7,COUNTIF(D4:M4,D62)>7),\"Err 1\",\"OK\")","v":"OK"},{"$f":"IF(Calcs!P44>5,\"Err 3\",IF(Calcs!P45>0,\"Err 4\",IF((ISERROR(FIND(D7,$D$54,1))=TRUE),\"Err NS\",IF((ISERROR(FIND(D8,$D$56,1))=TRUE),\"Err E\",IF(OR(ISERROR(FIND(D11,$D$58,1))=TRUE,ISERROR(FIND(D12,$D$58,1))=TRUE,ISERROR(FIND(D13,$D$58,1))=TRUE),\"Err H\",\"OK\")))))","v":"OK"},{"$f":"IF(Calcs!Q44>5,\"Err 3\",IF(Calcs!Q45>0,\"Err 4\",IF((ISERROR(FIND(E7,$D$54,1))=TRUE),\"Err NS\",IF((ISERROR(FIND(E8,$D$56,1))=TRUE),\"Err E\",IF(OR(ISERROR(FIND(E11,$D$58,1))=TRUE,ISERROR(FIND(E12,$D$58,1))=TRUE,ISERROR(FIND(E13,$D$58,1))=TRUE),\"Err H\",\"OK\")))))","v":"OK"},{"$f":"IF(Calcs!R44>5,\"Err 3\",IF(Calcs!R45>0,\"Err 4\",IF((ISERROR(FIND(F7,$D$54,1))=TRUE),\"Err NS\",IF((ISERROR(FIND(F8,$D$56,1))=TRUE),\"Err E\",IF(OR(ISERROR(FIND(F11,$D$58,1))=TRUE,ISERROR(FIND(F12,$D$58,1))=TRUE,ISERROR(FIND(F13,$D$58,1))=TRUE),\"Err H\",\"OK\")))))","v":"OK"},{"$f":"IF(Calcs!S44>5,\"Err 3\",IF(Calcs!S45>0,\"Err 4\",IF((ISERROR(FIND(G7,$D$54,1))=TRUE),\"Err NS\",IF((ISERROR(FIND(G8,$D$56,1))=TRUE),\"Err E\",IF(OR(ISERROR(FIND(G11,$D$58,1))=TRUE,ISERROR(FIND(G12,$D$58,1))=TRUE,ISERROR(FIND(G13,$D$58,1))=TRUE),\"Err H\",\"OK\")))))","v":"OK"},{"$f":"IF(Calcs!T44>5,\"Err 3\",IF(Calcs!T45>0,\"Err 4\",IF((ISERROR(FIND(H7,$D$54,1))=TRUE),\"Err NS\",IF((ISERROR(FIND(H8,$D$56,1))=TRUE),\"Err E\",IF(OR(ISERROR(FIND(H11,$D$58,1))=TRUE,ISERROR(FIND(H12,$D$58,1))=TRUE,ISERROR(FIND(H13,$D$58,1))=TRUE),\"Err H\",\"OK\")))))","v":"OK"},{"$f":"IF(Calcs!U44>5,\"Err 3\",IF(Calcs!U45>0,\"Err 4\",IF((ISERROR(FIND(I7,$D$54,1))=TRUE),\"Err NS\",IF((ISERROR(FIND(I8,$D$56,1))=TRUE),\"Err E\",IF(OR(ISERROR(FIND(I11,$D$58,1))=TRUE,ISERROR(FIND(I12,$D$58,1))=TRUE,ISERROR(FIND(I13,$D$58,1))=TRUE),\"Err H\",\"OK\")))))","v":"OK"},{"$f":"IF(Calcs!V44>5,\"Err 3\",IF(Calcs!V45>0,\"Err 4\",IF((ISERROR(FIND(J7,$D$54,1))=TRUE),\"Err NS\",IF((ISERROR(FIND(J8,$D$56,1))=TRUE),\"Err E\",IF(OR(ISERROR(FIND(J11,$D$58,1))=TRUE,ISERROR(FIND(J12,$D$58,1))=TRUE,ISERROR(FIND(J13,$D$58,1))=TRUE),\"Err H\",\"OK\")))))","v":"OK"},{"$f":"IF(Calcs!W44>5,\"Err 3\",IF(Calcs!W45>0,\"Err 4\",IF((ISERROR(FIND(K7,$D$54,1))=TRUE),\"Err NS\",IF((ISERROR(FIND(K8,$D$56,1))=TRUE),\"Err E\",IF(OR(ISERROR(FIND(K11,$D$58,1))=TRUE,ISERROR(FIND(K12,$D$58,1))=TRUE,ISERROR(FIND(K13,$D$58,1))=TRUE),\"Err H\",\"OK\")))))","v":"OK"},{"$f":"IF(Calcs!X44>5,\"Err 3\",IF(Calcs!X45>0,\"Err 4\",IF((ISERROR(FIND(L7,$D$54,1))=TRUE),\"Err NS\",IF((ISERROR(FIND(L8,$D$56,1))=TRUE),\"Err E\",IF(OR(ISERROR(FIND(L11,$D$58,1))=TRUE,ISERROR(FIND(L12,$D$58,1))=TRUE,ISERROR(FIND(L13,$D$58,1))=TRUE),\"Err H\",\"OK\")))))","v":"OK"},{"$f":"IF(Calcs!Y44>5,\"Err 3\",IF(Calcs!Y45>0,\"Err 4\",IF((ISERROR(FIND(M7,$D$54,1))=TRUE),\"Err NS\",IF((ISERROR(FIND(M8,$D$56,1))=TRUE),\"Err E\",IF(OR(ISERROR(FIND(M11,$D$58,1))=TRUE,ISERROR(FIND(M12,$D$58,1))=TRUE,ISERROR(FIND(M13,$D$58,1))=TRUE),\"Err H\",\"OK\")))))","v":"OK"},null,null," "]
[null,null,null,4,"Error! Two consecutive years",null,null,"of Cotton or legumes",null,"(high disease risk)",null,"Error! Two consecutive years of Cotton or legumes (high disease risk)"]
[null,null,null,"NS","Error! A non-selective",null,null,"herbicide has not been",null,"updated",null,"Error! A non-selective herbicide has not been updated"]
[null,null,null,"E","Error! A pre-emergent ",null,null,"herbicide has not been",null,"updated",null,"Error! A pre-emergent herbicide has not been updated"]
[null,null,"Error messages","H","Error! A post-emergent",null,null,"herbicide has not been",null,"updated",null,"Error! A post-emergent herbicide has not been updated"]
[null,null,null,3,"Error! Too many Spring",null,null,"and/or Harvest options",null," ",null,"Error! Too many Spring and/or Harvest options"]
[null,null,null,1,"Error! Please set a rotation",null,null,"which reflects your",null,"long-term yield averages",null,"Error! Please set a rotation which reflects your "]
[null,null,null,{"$f":"CONCATENATE(P75,P76,P77,P78,P79)","v":"GlyphosateParaquatGroup ATillageGlyphosate/P"}]
[null,null,null,{"$f":"IF((ISERROR(FIND(D7,$D$54,1))=TRUE),\"Err NS\",\"Found it\")","v":"Found it"},"Found it","Found it","Found it","Found it","Found it","Found it","Found it","Found it","Found it"]
[null,null,"Formulas for Err NS, E and H",{"$f":"CONCATENATE('2.Strategy'!P85,'2.Strategy'!P86,'2.Strategy'!P87,'2.Strategy'!P88,'2.Strategy'!P89)","v":"TrifluralinDiuronPendimethalis-MetolachloFluometuron+"}]
[null,null,null,{"$f":"IF((ISERROR(FIND(D8,$D$56,1))=TRUE),\"Err E\",\"Found it\")","v":"Found it"},"Found it","Found it","Found it","Found it","Found it","Found it","Found it","Found it","Found it"]
[null,null,null,{"$f":"CONCATENATE('2.Strategy'!P93,'2.Strategy'!P94,'2.Strategy'!P95,'2.Strategy'!P96,'2.Strategy'!P97)","v":"GlyphosateGlufosinateParaquat (shInter-row tiGroup A"}]
[null,null,null,{"$f":"IF(OR(ISERROR(FIND(D11,$D$58,1))=TRUE,ISERROR(FIND(D12,$D$58,1))=TRUE,ISERROR(FIND(D13,$D$58,1))=TRUE),\"Err H\",\"Found it\")","v":"Found it"},{"$f":"IF(OR(ISERROR(FIND(E11,$D$58,1))=TRUE,ISERROR(FIND(E12,$D$58,1))=TRUE,ISERROR(FIND(E13,$D$58,1))=TRUE),\"Nope\",\"Found it\")","v":"Found it"},"Found it","Found it","Found it","Found it","Found it","Found it","Found it","Found it"]
[]
[null,null,"VARIOUS"]
[null,null,"Choice of enterprises","Winter crop","Sorghum","D/L Cotton","Irrig Cotton","Corn","Beans","Cover crop","Winter fallow","Summer fallow"]
[null,null,"Enterprise+year for graphs",{"$f":"VLOOKUP(Calcs!U251,Calcs!$Q256:$S303,2)&\"   1\"","v":"Irrig cotton   1"},{"$f":"VLOOKUP(Calcs!V251,Calcs!$Q256:$S303,2)&\"   2\"","v":"Winter fallow   2"},{"$f":"VLOOKUP(Calcs!W251,Calcs!$Q256:$S303,2)&\"   3\"","v":"Irrig cotton   3"},{"$f":"VLOOKUP(Calcs!X251,Calcs!$Q256:$S303,2)&\"   4\"","v":"Winter fallow   4"},{"$f":"VLOOKUP(Calcs!Y251,Calcs!$Q256:$S303,2)&\"   5\"","v":"Irrig cotton   5"},{"$f":"VLOOKUP(Calcs!Z251,Calcs!$Q256:$S303,2)&\"   6\"","v":"Winter fallow   6"},{"$f":"VLOOKUP(Calcs!AA251,Calcs!$Q256:$S303,2)&\"   7\"","v":"Irrig cotton   7"},{"$f":"VLOOKUP(Calcs!AB251,Calcs!$Q256:$S303,2)&\"   8\"","v":"Winter fallow   8"},{"$f":"VLOOKUP(Calcs!AC251,Calcs!$Q256:$S303,2)&\"   9\"","v":"Irrig cotton   9"},{"$f":"VLOOKUP(Calcs!AD251,Calcs!$Q256:$S303,2)&\"   10\"","v":"Winter fallow   10"}]
[null,null,"Earliest weed control available? (for conditional formatting)",{"$f":"IF(D65=\"no\",\"yes\",IF(OR(D5=\"\",D5=$D$77,D5=$D$78),\"no\",\"yes\"))","v":"yes"},"yes","yes","yes","yes","yes","yes","yes","yes","yes"]
[null,null,"Need to plant? (for conditional formatting)",{"$f":"IF(Calcs!U246<8,\"yes\",\"no\")","v":"yes"},{"$f":"IF(Calcs!V246<8,\"yes\",\"no\")","v":"no"},{"$f":"IF(Calcs!W246<8,\"yes\",\"no\")","v":"yes"},{"$f":"IF(Calcs!X246<8,\"yes\",\"no\")","v":"no"},{"$f":"IF(Calcs!Y246<8,\"yes\",\"no\")","v":"yes"},{"$f":"IF(Calcs!Z246<8,\"yes\",\"no\")","v":"no"},{"$f":"IF(Calcs!AA246<8,\"yes\",\"no\")","v":"yes"},{"$f":"IF(Calcs!AB246<8,\"yes\",\"no\")","v":"no"},{"$f":"IF(Calcs!AC246<8,\"yes\",\"no\")","v":"yes"},{"$f":"IF(Calcs!AD246<8,\"yes\",\"no\")","v":"no"},null,"Critical densities"]
[null,null,"BYG setting seed, March. (per m2)",{"$f":"'Bio results'!D8","v":0.34095320399081125},{"$f":"'Bio results'!E8","v":0},{"$f":"'Bio results'!F8","v":0.73262785947278075},{"$f":"'Bio results'!G8","v":0},{"$f":"'Bio results'!H8","v":2.8234340708794323},{"$f":"'Bio results'!I8","v":0},{"$f":"'Bio results'!J8","v":18.763035304421738},{"$f":"'Bio results'!K8","v":0},{"$f":"'Bio results'!L8","v":18.388348057898789},{"$f":"'Bio results'!M8","v":0},null,"for warnings"]
[null,null,"BYG seeds in soil next Sept (per m2)",{"$f":"'Bio results'!D$22","v":636.93053046890384},{"$f":"'Bio results'!E$22","v":0},{"$f":"'Bio results'!F$22","v":1268.954835023859},{"$f":"'Bio results'!G$22","v":0},{"$f":"'Bio results'!H$22","v":3490.0377167547558},{"$f":"'Bio results'!I$22","v":0},{"$f":"'Bio results'!J$22","v":7314.8587519005696},{"$f":"'Bio results'!K$22","v":0},{"$f":"'Bio results'!L$22","v":7516.3537049522447},{"$f":"'Bio results'!M$22","v":0},null,500]
[null,null,null,null,null,null,null,null,null,null,null,null,null,null,20000]
[null,null,"CATEGORIES"]
[null,null,"Soil preparation",null,null,"None"]
[null,null,null,"Tickle",null,"Tickle - shallow cultivation"]
[null,null,null,"Cultivate",null,"Standard cultivation - no stimulation, kills 99% of weeds and some seeds."]
[null,null,null,null,null,null,null,null,null,null,null,null,null,null,null,"KD / DK"]
[null,null,"Planting system","No-till",null,"No till = any style of min till planter. Default"]
[null,null,null,"Tillage",null,"Full-disturbance cultivation at planting.",null,null,null,null,null,null,null,null,null,{"$f":"LEFT('1.Profile'!C15,12)","v":"Glyphosate"}]
[null,null,null,null,null,null,null,null,null,null,null,null,null,null,null,{"$f":"LEFT('1.Profile'!C16,12)","v":"Paraquat"}]
[null,null,"Time of sowing","V Early",null,"Competition boost. No opportunity to pre-plant knockdown (no emergence yet)",null,null,null,null,null,null,null,null,null,{"$f":"LEFT('1.Profile'!C17,12)","v":"Group A"}]
[null,null,null,"Early",null,"Small competition boost. Can do one knockdown.",null,null,null,null,null,null,null,null,null,{"$f":"LEFT('1.Profile'!C18,12)","v":"Tillage"}]
[null,null,null,"Average",null,"formerly: 'Wait 10 days'. Default.",null,null,null,null,null,null,null,null,null,{"$f":"LEFT('1.Profile'!C19,12)","v":"Glyphosate/P"}]
[null,null,null,"Late",null,"formerly: 'Wait 20 days'. Yield penalty from possibly not finishing."]
[]
[null,null,"Crop seeding rate","Standard",null,"Default"]
[null,null,null,"High",null,"Use high crop seeding rate",null,null,null,null,null,null,null,null,null,"Pre-E"]
[]
[null,null,null,"Graz1",null,"(Grazing options removed from here)",null,null,null,null,null,null,null,null,null,{"$f":"LEFT('1.Profile'!C21,12)","v":"Trifluralin"}]
[null,null,null,"Graz2",null,null,null,null,null,null,null,null,null,null,null,{"$f":"LEFT('1.Profile'!C22,12)","v":"Diuron"}]
[null,null,null,"Graz3",null,null,null,null,null,null,null,null,null,null,null,{"$f":"LEFT('1.Profile'!C23,12)","v":"Pendimethali"}]
[null,null,null,null,null,null,null,null,null,null,null,null,null,null,null,{"$f":"LEFT('1.Profile'!C24,12)","v":"s-Metolachlo"}]
[null,null,"Layby options",null,null,"none",null,null,null,null,null,null,null,null,null,{"$f":"LEFT('1.Profile'!C25,12)","v":"Fluometuron+"}]
[null,null,"in chrono order",{"$f":"LEFT('1.Profile'!C33,10)","v":"Diuron"}]
[null,null,null,{"$f":"LEFT('1.Profile'!C34,10)","v":"Pendimetha"},null,null,null,null,null,null,null,null,null,null,null,"Post-E","<-- Weed Control 1-3"]
[null,null,null,"Topping",null,"Crop/pasture topping (using an average of paraquat and glyphosate for price)"]
[null,null,null,null,null,"add spring option here",null,null,null,null,null,null,null,null,null,{"$f":"LEFT('1.Profile'!C27,12)","v":"Glyphosate"}]
[null,null,null,null,null,null,null,null,null,null,null,null,null,null,null,{"$f":"LEFT('1.Profile'!C28,12)","v":"Glufosinate"}]
[null,null,"Late season options - 1",null,null,"These appear under 'Weed control 5' -- could add some specific late-season options to",null,null,null,null,null,null,null,null,null,{"$f":"LEFT('1.Profile'!C29,12)","v":"Paraquat (sh"}]
[null,null,null,{"$f":"LEFT('1.Profile'!C27,12)","v":"Glyphosate"},null,"the user-defined list here",null,null,null,null,null,null,null,null,null,{"$f":"LEFT('1.Profile'!C30,12)","v":"Inter-row ti"}]
[null,null,null,{"$f":"LEFT('1.Profile'!C28,12)","v":"Glufosinate"},null,null,null,null,null,null,null,null,null,null,null,{"$f":"LEFT('1.Profile'!C31,12)","v":"Group A"}]
[null,null,null,{"$f":"LEFT('1.Profile'!C29,12)","v":"Paraquat (sh"}]
[null,null,null,{"$f":"LEFT('1.Profile'!C30,12)","v":"Inter-row ti"}]
[null,null,null,{"$f":"LEFT('1.Profile'!C31,12)","v":"Group A"}]
[]
[null,null,"Late season options - 2",null,null,"These appear under 'Weed control 6' -- could add some specific late-season options to"]
[null,null,null,{"$f":"LEFT('1.Profile'!C27,12)","v":"Glyphosate"},null,"the user-defined list here"]
[null,null,null,{"$f":"LEFT('1.Profile'!C28,12)","v":"Glufosinate"}]
[null,null,null,{"$f":"LEFT('1.Profile'!C29,12)","v":"Paraquat (sh"}]
[null,null,null,{"$f":"LEFT('1.Profile'!C30,12)","v":"Inter-row ti"}]
[null,null,null,{"$f":"LEFT('1.Profile'!C31,12)","v":"Group A"}]
[]
[null,null,"Harvest options - grains",null,null,"No harvest weed seed management, no burning"]
[null,null,"applies to grain crops only","Cart+B.",null,"Chaff cart system, burning dumps"]
[null,null,null,"Narr+B.",null,"Narrow windrows burning system"]
[null,null,null,"HSD",null,"HSD - Harrington seed destructor"]
[null,null,null,"Tram.",null,"Chaff-tramlining"]
[null,null,null,"BDS+E.",null,"BDS - Bale direct system, exporting bales"]
[null,null,null,null,null,"add harvest option here"]
[]
[null,null,"Harvest options - others"]
[null,null,"applies to all","Burn",null,"Burn whole paddock (crop stubble or pasture residues)"]
[null,null,null,{"$f":"LEFT('1.Profile'!C36,10)","v":"Defol glyp"},null,"B1 (Harvest)"]
[null,null,null,{"$f":"LEFT('1.Profile'!C37,10)","v":"Defol Drop"},null,"B2 (Harvest)"]
[]
[]
[]
[null,null,null,null,null,null,null,null,null,null,null,null,null,null,null,null,null,"Note: careful with deleting/inserting lines, could stuff up the saving/loading macros"]
[null,null,"Strategy_0","D/L Cotton","Winter fallow","Summer fallow","Winter fallow","D/L Cotton","Winter fallow","Cover crop","Winter fallow","D/L Cotton","Winter fallow"]
[null,null,null,"V Early","Average","Average","Average","Average","V Early","V Early","Average","Average","Average",null,null,"no volunteer over east"]
[null,null,"Standard","Tickle","Cultivate","Tickle","Tickle",null,null,"Tickle"]
[null,null,"/current practice","Glyphosate","Paraquat","Group A","Glyphosate","Glyphosate/P",null,"Glyphosate","Paraquat","Glyphosate/P","Tillage"]
[null,null,null,"Diuron",null,"Trifluralin","Trifluralin",null,"s-Metolachlo","Trifluralin",null,null,"Trifluralin"]
[null,null,null,"Tillage","No-till","No-till","No-till","No-till","No-till",null,"No-till","No-till","No-till"]
[null,null,null,"Standard","Standard","Standard","Standard","Standard","Standard",null,"Standard","Standard","Standard"]
[null,null,null,"Group A","Glufosinate","Group A",null,"Group A","Group A",null,"Group A","Glyphosate","Glyphosate"]
[null,null,null,null,"Glufosinate","Glyphosate",null,null,null,null,null,"Glyphosate"]
[null,null,null,"Glyphosate","Glufosinate","Paraquat (sh",null,null,null,null,null,"Inter-row ti"]
[null,null,null,null,"Diuron","Pendimetha","Topping",null,"Topping","Pendimetha",null,"Pendimetha"]
[null,null,null,"Glufosinate","Glyphosate","Paraquat (sh"]
[null,null,null,"Group A","Inter-row ti","Group A",null,null,null,"Paraquat (sh"]
[null,null,null,null,null,"Tram.",null,null,"Narr+B."]
[null,null,null,"Defol Drop",null,null,null,null,null,null,null,"Defol Drop"]
[]
[]
[null,null,"Strategy_1","D/L Cotton","Winter fallow","Summer fallow","Winter fallow","D/L Cotton","Winter fallow","Summer fallow","Winter fallow","D/L Cotton","Winter fallow"]
[null,null,null,"Average","Average","Average","Average","Average","V Early","V Early","Average","Average","Average"]
[null,null,"1 in 1 out",null,null,null,"Tickle"]
[null,null,null,"Glyphosate","Paraquat","Glyphosate","Glyphosate","Glyphosate",null,"Glyphosate","Paraquat","Glyphosate","Tillage"]
[null,null,null,null,null,"Trifluralin","Trifluralin","s-Metolachlo","s-Metolachlo","Trifluralin",null,null,"Trifluralin"]
[null,null,null,"No-till","No-till","No-till","No-till","No-till","No-till",null,"No-till","No-till","No-till"]
[null,null,null,"Standard","Standard","Standard","Standard","Standard","Standard",null,"Standard","Standard","Standard"]
[null,null,null,"Glyphosate",null,"Glyphosate",null,"Glyphosate",null,null,"Group A","Glyphosate","Glyphosate"]
[null,null,null,null,null,null,null,"Glyphosate",null,"Glyphosate",null,"Inter-row ti"]
[null,null,null,"Glyphosate",null,"Glyphosate",null,null,null,null,null,"Glyphosate"]
[null,null,null,null,"Diuron",null,null,"Diuron"]
[null,null,null,null,"Glyphosate",null,null,null,null,null,null,"Inter-row ti"]
[null,null,null,"Glyphosate",null,null,null,"Glyphosate",null,"Glyphosate"]
[null,null,null,null,null,"Tram.",null,null,"Narr+B."]
[null,null,null,"Defol Drop",null,null,null,"Defol Drop",null,null,null,"Defol Drop"]
[]
[]
[null,null,"Strategy_2","D/L Cotton","Winter fallow","Sorghum","Winter fallow","Beans","Winter fallow","Cover crop","Winter fallow","D/L Cotton","Winter fallow"]
[null,null,null,"V Early","Average","Average","Average","Average","V Early","V Early","Average","Average","Average"]
[null,null,"Mixed summer rotation","Tickle","Cultivate","Tickle","Tickle",null,null,"Tickle"]
[null,null,null,"Glyphosate","Paraquat","Group A","Glyphosate","Glyphosate/P",null,"Glyphosate","Paraquat","Glyphosate/P","Tillage"]
[null,null,null,"Diuron",null,null,"Trifluralin",null,"s-Metolachlo","Trifluralin",null,null,"Trifluralin"]
[null,null,null,"Tillage","No-till","No-till","No-till","No-till","No-till",null,"No-till","No-till","No-till"]
[null,null,null,"Standard","Standard","Standard","Standard","Standard","Standard",null,"Standard","Standard","Standard"]
[null,null,null,"Group A","Glufosinate",null,null,"Group A","Group A",null,"Group A","Glyphosate","Glyphosate"]
[null,null,null,null,"Glufosinate","Glyphosate",null,null,null,null,null,"Glyphosate"]
[null,null,null,"Glyphosate","Glufosinate",null,null,null,null,null,null,"Inter-row ti"]
[null,null,null,null,"Diuron",null,"Topping",null,"Topping","Pendimetha",null,"Pendimetha"]
[null,null,null,"Glufosinate","Glyphosate","Paraquat (sh"]
[null,null,null,"Group A","Inter-row ti",null,null,null,null,"Paraquat (sh"]
[null,null,null,null,null,"BDS+E.",null,null,"Narr+B."]
[null,null,null,"Defol Drop",null,null,null,null,null,null,null,"Defol Drop"]
[]
[]
[null,null,"Strategy_3","D/L Cotton","Winter fallow","Summer fallow","Winter fallow","D/L Cotton","Winter fallow","Cover crop","Winter fallow","D/L Cotton","Winter fallow"]
[null,null,null,"Average","Average","Average","Average","Average","V Early","V Early","Average","Average","Average"]
[null,null,"1 in 1 out CC","Tickle",null,null,"Tickle",null,null,"Tickle"]
[null,null,null,"Glyphosate","Paraquat",null,"Glyphosate","Glyphosate",null,"Glyphosate","Paraquat","Glyphosate","Tillage"]
[null,null,null,"s-Metolachlo",null,"Trifluralin","Trifluralin","s-Metolachlo","s-Metolachlo","Trifluralin",null,null,"Trifluralin"]
[null,null,null,"No-till","No-till","No-till","No-till","No-till","No-till",null,"No-till","No-till","No-till"]
[null,null,null,"Standard","Standard","Standard","Standard","Standard","Standard",null,"Standard","Standard","Standard"]
[null,null,null,"Glyphosate",null,"Glyphosate",null,"Glyphosate",null,null,"Group A","Glyphosate","Glyphosate"]
[null,null,null,"Glyphosate",null,"Group A",null,"Glyphosate",null,null,null,"Inter-row ti"]
[null,null,null,"Glyphosate",null,"Glyphosate",null,"Inter-row ti",null,null,null,"Glyphosate"]
[null,null,null,"Pendimetha","Diuron",null,null,"Diuron",null,"Pendimetha"]
[null,null,null,null,"Glyphosate","Inter-row ti",null,null,null,null,null,"Inter-row ti"]
[null,null,null,"Glyphosate",null,null,null,"Glyphosate",null,"Paraquat (sh"]
[null,null,null,null,null,"Tram.",null,null,"Narr+B."]
[null,null,null,"Defol Drop",null,null,null,"Defol Drop",null,null,null,"Defol Drop"]
[]
[]
[null,null,"Strategy_4","D/L Cotton","Winter fallow","Summer fallow","Winter fallow","D/L Cotton","Winter fallow","Summer fallow","Winter fallow","D/L Cotton","Winter fallow"]
[null,null,null,"Average","Average","Average","Average","Average","V Early","V Early","Average","Average","Average"]
[null,null,"2+2 resistant",null,null,null,"Tickle"]
[null,null,null,"Glyphosate","Paraquat","Glyphosate/P","Glyphosate","Glyphosate",null,"Glyphosate/P","Paraquat","Glyphosate","Tillage"]
[null,null,null,"s-Metolachlo",null,"Trifluralin","Trifluralin",null,"s-Metolachlo","Trifluralin",null,null,"Trifluralin"]
[null,null,null,"No-till","No-till","No-till","No-till","No-till","No-till",null,"No-till","No-till","No-till"]
[null,null,null,"Standard","Standard","Standard","Standard","Standard","Standard",null,"Standard","Standard","Standard"]
[null,null,null,"Glyphosate",null,"Glyphosate",null,"Glyphosate",null,"Paraquat (sh","Group A","Glyphosate","Glyphosate"]
[null,null,null,"Glyphosate",null,"Group A",null,"Glyphosate",null,"Glyphosate",null,"Inter-row ti"]
[null,null,null,"Glyphosate",null,"Glyphosate",null,"Inter-row ti",null,"Glyphosate",null,"Glyphosate"]
[null,null,null,"Pendimetha","Diuron",null,null,"Diuron"]
[null,null,null,null,"Glyphosate","Inter-row ti",null,null,null,null,null,"Inter-row ti"]
[null,null,null,"Glyphosate",null,null,null,"Glyphosate",null,"Glyphosate"]
[null,null,null,null,null,"Tram.",null,null,"Narr+B."]
[null,null,null,"Defol Drop",null,null,null,"Defol Drop",null,null,null,"Defol Drop"]
[]
[]
[null,null,"Strategy_5","Irrig Cotton","Winter fallow","Irrig Cotton","Winter fallow","Irrig Cotton","Winter fallow","Irrig Cotton","Winter fallow","Irrig Cotton","Winter fallow"]
[null,null,null,"Average","Average","Average","Average","Average","V Early","Average","Average","Average","Average"]
[null,null,"irrigated cotton","Cultivate",null,"Cultivate","Tickle","Cultivate",null,"Cultivate",null,"Tickle"]
[null,null,null,"Glyphosate","Paraquat","Glyphosate","Glyphosate","Glyphosate",null,"Glyphosate","Paraquat","Glyphosate","Tillage"]
[null,null,null,"s-Metolachlo",null,"Trifluralin","Trifluralin","s-Metolachlo","s-Metolachlo",null,null,null,"Trifluralin"]
[null,null,null,"Tillage","No-till","No-till","No-till","No-till","No-till",null,"No-till","No-till","No-till"]
[null,null,null,"Standard","Standard","Standard","Standard","Standard","Standard","Standard","Standard","Standard","Standard"]
[null,null,null,"Glyphosate",null,"Glyphosate",null,"Glyphosate",null,null,"Group A","Glyphosate","Glyphosate"]
[null,null,null,null,null,null,null,"Glyphosate",null,"Glyphosate",null,"Inter-row ti"]
[null,null,null,"Glyphosate",null,"Glyphosate",null,"Inter-row ti",null,null,null,"Glyphosate"]
[null,null,null,"Pendimetha","Diuron"]
[null,null,null,null,"Glyphosate","Inter-row ti",null,null,null,null,null,"Inter-row ti"]
[null,null,null,"Glyphosate",null,null,null,"Glyphosate",null,"Glyphosate"]
[null,null,null,null,null,"Tram.",null,null,"Narr+B."]
[null,null,null,"Defol Drop",null,"Defol Drop",null,"Defol Drop",null,"Defol Drop",null,"Defol Drop"]
[]
[]
[null,null,"Strategy_6","D/L Cotton","Winter fallow","Summer fallow","Winter fallow","Summer fallow","Winter fallow","Cover crop","Winter fallow","D/L Cotton","Winter fallow"]
[null,null,null,"Average","Average","Average","Average","Average","V Early","V Early","Average","Average","Average"]
[null,null,"2 in 5 test","Cultivate",null,null,"Tickle","Cultivate",null,"Tickle"]
[null,null,null,"Gly fb Para",null,null,"Glyphosate","Gly fb Para",null,"Glyphosate","Paraquat","Glyphosate","Tillage"]
[null,null,null,"s-Metolachlo",null,null,null,"Diuron","s-Metolachlo","Trifluralin",null,null,"Trifluralin"]
[null,null,null,"No-till","No-till","No-till","No-till","No-till","No-till",null,"No-till","No-till","No-till"]
[null,null,null,"Standard","Standard","Standard","Standard","Standard","Standard",null,"Standard","Standard","Standard"]
[null,null,null,null,null,null,null,"Group A",null,null,"Group A","Glyphosate","Glyphosate"]
[null,null,null,null,null,null,null,"Pquat (shiel",null,null,null,"Inter-row ti"]
[null,null,null,"Pquat (shiel",null,null,null,"Inter-row ti",null,null,null,"Glyphosate"]
[null,null,null,"Pendimetha",null,null,null,"Diuron",null,"Pendimetha"]
[null,null,null,null,null,null,null,"Pquat (shiel",null,null,null,"Inter-row ti"]
[null,null,null,null,null,null,null,"Pquat (shiel",null,"Pquat (shiel"]
[]
[null,null,null,"Defol Drop",null,null,null,"Defol Drop",null,null,null,"Defol Drop"]

{"sheet":"Calcs","index":6,"n_rows":447,"n_cols":36,"rows_kept":447,"cut":false,"hidden":false,"merged":[]}
[null,"Phase",{"$f":"'2.Strategy'!D63","v":"Irrig cotton   1"},{"$f":"'2.Strategy'!E63","v":"Winter fallow   2"},{"$f":"'2.Strategy'!F63","v":"Irrig cotton   3"},{"$f":"'2.Strategy'!G63","v":"Winter fallow   4"},{"$f":"'2.Strategy'!H63","v":"Irrig cotton   5"},{"$f":"'2.Strategy'!I63","v":"Winter fallow   6"},{"$f":"'2.Strategy'!J63","v":"Irrig cotton   7"},{"$f":"'2.Strategy'!K63","v":"Winter fallow   8"},{"$f":"'2.Strategy'!L63","v":"Irrig cotton   9"},{"$f":"'2.Strategy'!M63","v":"Winter fallow   10"}]
[]
[null,null,null,null,null,null,null,null,null,null,null,null,null,"SUMMARY - 'CALC' PAGE",null,null,null,null,null,null,"SUMMARY - OTHER PAGES"]
[null,"Table 1. Selected options & enterprises","First table behind the chosen strategy: displays the enterprise code for each option. Their labels are",null,null,null,null,null,null,null,null,null,null,null,{"$f":"B4","v":"Table 1. Selected options & enterprises"}]
[null,null,"sourced from under the strategy table, feeding into the drop-down lists and into the labels of this table.",null,null,null,null,null,null,null,null,null,null,null,{"$f":"N32","v":"Table 1a. Non-selective herbicides counts"},null,null,null,null,null,"DEV",null,"Tutorial templates"]
[null,null,"Codes #1: 1=wc, 2=Sorghum, 3=corn, 4=beans, 5=d/l cotton, 6=irri cotton, 7=cover crop, 8=wf, 9=sf",null,null,null,null,null,null,null,null,null,null,null,{"$f":"N42","v":"Table 1b. Error and sowing handling, herbicides type counts"}]
[1,{"$f":"\"KD/DK: \"&'1.Profile'!C15","v":"KD/DK: Glyphosate"},{"$f":"IF(AND('2.Strategy'!D64=\"yes\",'2.Strategy'!D7='2.Strategy'!$P$75,'2.Strategy'!$P$75<>\"\"),U$246,\"\")","v":6},{"$f":"IF(AND('2.Strategy'!E64=\"yes\",'2.Strategy'!E7='2.Strategy'!$P$75,'2.Strategy'!$P$75<>\"\"),V$246,\"\")","v":""},{"$f":"IF(AND('2.Strategy'!F64=\"yes\",'2.Strategy'!F7='2.Strategy'!$P$75,'2.Strategy'!$P$75<>\"\"),W$246,\"\")","v":6},{"$f":"IF(AND('2.Strategy'!G64=\"yes\",'2.Strategy'!G7='2.Strategy'!$P$75,'2.Strategy'!$P$75<>\"\"),X$246,\"\")","v":8},{"$f":"IF(AND('2.Strategy'!H64=\"yes\",'2.Strategy'!H7='2.Strategy'!$P$75,'2.Strategy'!$P$75<>\"\"),Y$246,\"\")","v":6},{"$f":"IF(AND('2.Strategy'!I64=\"yes\",'2.Strategy'!I7='2.Strategy'!$P$75,'2.Strategy'!$P$75<>\"\"),Z$246,\"\")","v":""},{"$f":"IF(AND('2.Strategy'!J64=\"yes\",'2.Strategy'!J7='2.Strategy'!$P$75,'2.Strategy'!$P$75<>\"\"),AA$246,\"\")","v":6},{"$f":"IF(AND('2.Strategy'!K64=\"yes\",'2.Strategy'!K7='2.Strategy'!$P$75,'2.Strategy'!$P$75<>\"\"),AB$246,\"\")","v":""},{"$f":"IF(AND('2.Strategy'!L64=\"yes\",'2.Strategy'!L7='2.Strategy'!$P$75,'2.Strategy'!$P$75<>\"\"),AC$246,\"\")","v":6},{"$f":"IF(AND('2.Strategy'!M64=\"yes\",'2.Strategy'!M7='2.Strategy'!$P$75,'2.Strategy'!$P$75<>\"\"),AD$246,\"\")","v":""}]
[2,{"$f":"\"KD/DK: \"&'1.Profile'!C16","v":"KD/DK: Paraquat"},{"$f":"IF(AND('2.Strategy'!D64=\"yes\",'2.Strategy'!D7='2.Strategy'!$P$76,'2.Strategy'!$P$76<>\"\"),U$246,\"\")","v":""},{"$f":"IF(AND('2.Strategy'!E64=\"yes\",'2.Strategy'!E7='2.Strategy'!$P$75,'2.Strategy'!$P$75<>\"\"),V$246,\"\")","v":""},{"$f":"IF(AND('2.Strategy'!F64=\"yes\",'2.Strategy'!F7='2.Strategy'!$P$75,'2.Strategy'!$P$75<>\"\"),W$246,\"\")","v":6},{"$f":"IF(AND('2.Strategy'!G64=\"yes\",'2.Strategy'!G7='2.Strategy'!$P$75,'2.Strategy'!$P$75<>\"\"),X$246,\"\")","v":8},{"$f":"IF(AND('2.Strategy'!H64=\"yes\",'2.Strategy'!H7='2.Strategy'!$P$75,'2.Strategy'!$P$75<>\"\"),Y$246,\"\")","v":6},{"$f":"IF(AND('2.Strategy'!I64=\"yes\",'2.Strategy'!I7='2.Strategy'!$P$75,'2.Strategy'!$P$75<>\"\"),Z$246,\"\")","v":""},{"$f":"IF(AND('2.Strategy'!J64=\"yes\",'2.Strategy'!J7='2.Strategy'!$P$75,'2.Strategy'!$P$75<>\"\"),AA$246,\"\")","v":6},{"$f":"IF(AND('2.Strategy'!K64=\"yes\",'2.Strategy'!K7='2.Strategy'!$P$75,'2.Strategy'!$P$75<>\"\"),AB$246,\"\")","v":""},{"$f":"IF(AND('2.Strategy'!L64=\"yes\",'2.Strategy'!L7='2.Strategy'!$P$75,'2.Strategy'!$P$75<>\"\"),AC$246,\"\")","v":6},{"$f":"IF(AND('2.Strategy'!M64=\"yes\",'2.Strategy'!M7='2.Strategy'!$P$75,'2.Strategy'!$P$75<>\"\"),AD$246,\"\")","v":""},null,"Go to",{"$f":"B63","v":"Table 2. Selected RG control (%)"},null,null,null,null,null,"PRICES"]
[3,{"$f":"\"KD/DK: \"&'1.Profile'!C17","v":"KD/DK: Group A"},{"$f":"IF(AND('2.Strategy'!D64=\"yes\",'2.Strategy'!D7='2.Strategy'!$P$77,'2.Strategy'!$P$77<>\"\"),U$246,\"\")","v":""},{"$f":"IF(AND('2.Strategy'!E64=\"yes\",'2.Strategy'!E7='2.Strategy'!$P$77,'2.Strategy'!$P$77<>\"\"),V$246,\"\")","v":""},{"$f":"IF(AND('2.Strategy'!F64=\"yes\",'2.Strategy'!F7='2.Strategy'!$P$77,'2.Strategy'!$P$77<>\"\"),W$246,\"\")","v":""},{"$f":"IF(AND('2.Strategy'!G64=\"yes\",'2.Strategy'!G7='2.Strategy'!$P$77,'2.Strategy'!$P$77<>\"\"),X$246,\"\")","v":""},{"$f":"IF(AND('2.Strategy'!H64=\"yes\",'2.Strategy'!H7='2.Strategy'!$P$77,'2.Strategy'!$P$77<>\"\"),Y$246,\"\")","v":""},{"$f":"IF(AND('2.Strategy'!I64=\"yes\",'2.Strategy'!I7='2.Strategy'!$P$77,'2.Strategy'!$P$77<>\"\"),Z$246,\"\")","v":""},{"$f":"IF(AND('2.Strategy'!J64=\"yes\",'2.Strategy'!J7='2.Strategy'!$P$77,'2.Strategy'!$P$77<>\"\"),AA$246,\"\")","v":""},{"$f":"IF(AND('2.Strategy'!K64=\"yes\",'2.Strategy'!K7='2.Strategy'!$P$77,'2.Strategy'!$P$77<>\"\"),AB$246,\"\")","v":""},{"$f":"IF(AND('2.Strategy'!L64=\"yes\",'2.Strategy'!L7='2.Strategy'!$P$77,'2.Strategy'!$P$77<>\"\"),AC$246,\"\")","v":""},{"$f":"IF(AND('2.Strategy'!M64=\"yes\",'2.Strategy'!M7='2.Strategy'!$P$77,'2.Strategy'!$P$77<>\"\"),AD$246,\"\")","v":""},null,null,{"$f":"N62","v":"Table 2a. BYG control (%)"},null,null,null,null,null,null,"Establishment costs - Machinery"]
[4,{"$f":"\"KD/DK: \"&'1.Profile'!C18","v":"KD/DK: Tillage"},{"$f":"IF(AND('2.Strategy'!D64=\"yes\",'2.Strategy'!D7='2.Strategy'!$P$78,'2.Strategy'!$P$78<>\"\"),U$246,\"\")","v":""},{"$f":"IF(AND('2.Strategy'!E64=\"yes\",'2.Strategy'!E7='2.Strategy'!$P$78,'2.Strategy'!$P$78<>\"\"),V$246,\"\")","v":""},{"$f":"IF(AND('2.Strategy'!F64=\"yes\",'2.Strategy'!F7='2.Strategy'!$P$78,'2.Strategy'!$P$78<>\"\"),W$246,\"\")","v":""},{"$f":"IF(AND('2.Strategy'!G64=\"yes\",'2.Strategy'!G7='2.Strategy'!$P$78,'2.Strategy'!$P$78<>\"\"),X$246,\"\")","v":""},{"$f":"IF(AND('2.Strategy'!H64=\"yes\",'2.Strategy'!H7='2.Strategy'!$P$78,'2.Strategy'!$P$78<>\"\"),Y$246,\"\")","v":""},{"$f":"IF(AND('2.Strategy'!I64=\"yes\",'2.Strategy'!I7='2.Strategy'!$P$78,'2.Strategy'!$P$78<>\"\"),Z$246,\"\")","v":""},{"$f":"IF(AND('2.Strategy'!J64=\"yes\",'2.Strategy'!J7='2.Strategy'!$P$78,'2.Strategy'!$P$78<>\"\"),AA$246,\"\")","v":""},{"$f":"IF(AND('2.Strategy'!K64=\"yes\",'2.Strategy'!K7='2.Strategy'!$P$78,'2.Strategy'!$P$78<>\"\"),AB$246,\"\")","v":""},{"$f":"IF(AND('2.Strategy'!L64=\"yes\",'2.Strategy'!L7='2.Strategy'!$P$78,'2.Strategy'!$P$78<>\"\"),AC$246,\"\")","v":""},{"$f":"IF(AND('2.Strategy'!M64=\"yes\",'2.Strategy'!M7='2.Strategy'!$P$78,'2.Strategy'!$P$78<>\"\"),AD$246,\"\")","v":8},null,null,null,null,null,null,null,null,null,"Establishment costs - Crops"]
[5,{"$f":"\"KD/DK: \"&'1.Profile'!C19","v":"KD/DK: Glyphosate/Paraquat"},{"$f":"IF(AND('2.Strategy'!D64=\"yes\",'2.Strategy'!D7='2.Strategy'!$P$79,'2.Strategy'!$P$79<>\"\"),U$246,\"\")","v":""},{"$f":"IF(AND('2.Strategy'!E64=\"yes\",'2.Strategy'!E7='2.Strategy'!$P$79,'2.Strategy'!$P$79<>\"\"),V$246,\"\")","v":""},{"$f":"IF(AND('2.Strategy'!F64=\"yes\",'2.Strategy'!F7='2.Strategy'!$P$79,'2.Strategy'!$P$79<>\"\"),W$246,\"\")","v":""},{"$f":"IF(AND('2.Strategy'!G64=\"yes\",'2.Strategy'!G7='2.Strategy'!$P$79,'2.Strategy'!$P$79<>\"\"),X$246,\"\")","v":""},{"$f":"IF(AND('2.Strategy'!H64=\"yes\",'2.Strategy'!H7='2.Strategy'!$P$79,'2.Strategy'!$P$79<>\"\"),Y$246,\"\")","v":""},{"$f":"IF(AND('2.Strategy'!I64=\"yes\",'2.Strategy'!I7='2.Strategy'!$P$79,'2.Strategy'!$P$79<>\"\"),Z$246,\"\")","v":""},{"$f":"IF(AND('2.Strategy'!J64=\"yes\",'2.Strategy'!J7='2.Strategy'!$P$79,'2.Strategy'!$P$79<>\"\"),AA$246,\"\")","v":""},{"$f":"IF(AND('2.Strategy'!K64=\"yes\",'2.Strategy'!K7='2.Strategy'!$P$79,'2.Strategy'!$P$79<>\"\"),AB$246,\"\")","v":""},{"$f":"IF(AND('2.Strategy'!L64=\"yes\",'2.Strategy'!L7='2.Strategy'!$P$79,'2.Strategy'!$P$79<>\"\"),AC$246,\"\")","v":""},{"$f":"IF(AND('2.Strategy'!M64=\"yes\",'2.Strategy'!M7='2.Strategy'!$P$79,'2.Strategy'!$P$79<>\"\"),AD$246,\"\")","v":""},null,"Go to",{"$f":"B124","v":"Table 3. Selected costs ($/ha)"},null,null,null,null,null,null,"Establishment costs - Pastures"]
[6,{"$f":"\"Pre-E: \"&'1.Profile'!C21","v":"Pre-E: Trifluralin"},{"$f":"IF(AND('2.Strategy'!D8='2.Strategy'!$P$85,'1.Profile'!$C$21<>\"\"),U$246,\"\")","v":""},{"$f":"IF(AND('2.Strategy'!E8='2.Strategy'!$P$85,'1.Profile'!$C$21<>\"\"),V$246,\"\")","v":""},{"$f":"IF(AND('2.Strategy'!F8='2.Strategy'!$P$85,'1.Profile'!$C$21<>\"\"),W$246,\"\")","v":""},{"$f":"IF(AND('2.Strategy'!G8='2.Strategy'!$P$85,'1.Profile'!$C$21<>\"\"),X$246,\"\")","v":8},{"$f":"IF(AND('2.Strategy'!H8='2.Strategy'!$P$85,'1.Profile'!$C$21<>\"\"),Y$246,\"\")","v":""},{"$f":"IF(AND('2.Strategy'!I8='2.Strategy'!$P$85,'1.Profile'!$C$21<>\"\"),Z$246,\"\")","v":""},{"$f":"IF(AND('2.Strategy'!J8='2.Strategy'!$P$85,'1.Profile'!$C$21<>\"\"),AA$246,\"\")","v":""},{"$f":"IF(AND('2.Strategy'!K8='2.Strategy'!$P$85,'1.Profile'!$C$21<>\"\"),AB$246,\"\")","v":""},{"$f":"IF(AND('2.Strategy'!L8='2.Strategy'!$P$85,'1.Profile'!$C$21<>\"\"),AC$246,\"\")","v":""},{"$f":"IF(AND('2.Strategy'!M8='2.Strategy'!$P$85,'1.Profile'!$C$21<>\"\"),AD$246,\"\")","v":8},null,null,null,null,null,null,null,null,null,"Financial values: quality, inflation, tax, etc."]
[7,{"$f":"\"Pre-E: \"&'1.Profile'!C22","v":"Pre-E: Diuron"},{"$f":"IF(AND('2.Strategy'!D8='2.Strategy'!$P$86,'1.Profile'!$C$22<>\"\"),U$246,\"\")","v":""},{"$f":"IF(AND('2.Strategy'!E8='2.Strategy'!$P$86,'1.Profile'!$C$22<>\"\"),V$246,\"\")","v":""},{"$f":"IF(AND('2.Strategy'!F8='2.Strategy'!$P$86,'1.Profile'!$C$22<>\"\"),W$246,\"\")","v":""},{"$f":"IF(AND('2.Strategy'!G8='2.Strategy'!$P$86,'1.Profile'!$C$22<>\"\"),X$246,\"\")","v":""},{"$f":"IF(AND('2.Strategy'!H8='2.Strategy'!$P$86,'1.Profile'!$C$22<>\"\"),Y$246,\"\")","v":""},{"$f":"IF(AND('2.Strategy'!I8='2.Strategy'!$P$86,'1.Profile'!$C$22<>\"\"),Z$246,\"\")","v":""},{"$f":"IF(AND('2.Strategy'!J8='2.Strategy'!$P$86,'1.Profile'!$C$22<>\"\"),AA$246,\"\")","v":""},{"$f":"IF(AND('2.Strategy'!K8='2.Strategy'!$P$86,'1.Profile'!$C$22<>\"\"),AB$246,\"\")","v":""},{"$f":"IF(AND('2.Strategy'!L8='2.Strategy'!$P$86,'1.Profile'!$C$22<>\"\"),AC$246,\"\")","v":""},{"$f":"IF(AND('2.Strategy'!M8='2.Strategy'!$P$86,'1.Profile'!$C$22<>\"\"),AD$246,\"\")","v":""},null,"Go to",{"$f":"B183","v":"Table 4.  BYG germination"}]
[8,{"$f":"\"Pre-E: \"&'1.Profile'!C23","v":"Pre-E: Pendimethalin"},{"$f":"IF(AND('2.Strategy'!D8='2.Strategy'!$P$87,'1.Profile'!$C$23<>\"\"),U$246,\"\")","v":""},{"$f":"IF(AND('2.Strategy'!E8='2.Strategy'!$P$87,'1.Profile'!$C$23<>\"\"),V$246,\"\")","v":""},{"$f":"IF(AND('2.Strategy'!F8='2.Strategy'!$P$87,'1.Profile'!$C$23<>\"\"),W$246,\"\")","v":""},{"$f":"IF(AND('2.Strategy'!G8='2.Strategy'!$P$87,'1.Profile'!$C$23<>\"\"),X$246,\"\")","v":""},{"$f":"IF(AND('2.Strategy'!H8='2.Strategy'!$P$87,'1.Profile'!$C$23<>\"\"),Y$246,\"\")","v":6},{"$f":"IF(AND('2.Strategy'!I8='2.Strategy'!$P$87,'1.Profile'!$C$23<>\"\"),Z$246,\"\")","v":""},{"$f":"IF(AND('2.Strategy'!J8='2.Strategy'!$P$87,'1.Profile'!$C$23<>\"\"),AA$246,\"\")","v":""},{"$f":"IF(AND('2.Strategy'!K8='2.Strategy'!$P$87,'1.Profile'!$C$23<>\"\"),AB$246,\"\")","v":""},{"$f":"IF(AND('2.Strategy'!L8='2.Strategy'!$P$87,'1.Profile'!$C$23<>\"\"),AC$246,\"\")","v":""},{"$f":"IF(AND('2.Strategy'!M8='2.Strategy'!$P$87,'1.Profile'!$C$23<>\"\"),AD$246,\"\")","v":""},null,null,{"$f":"B191","v":"Table 5a.  BYG seed control"},null,null,null,null,null,"OPTIONS"]
[9,{"$f":"\"Pre-E: \"&'1.Profile'!C24","v":"Pre-E: s-Metolachlor"},{"$f":"IF(AND('2.Strategy'!D8='2.Strategy'!$P$88,'1.Profile'!$C$24<>\"\"),U$246,\"\")","v":""},{"$f":"IF(AND('2.Strategy'!E8='2.Strategy'!$P$88,'1.Profile'!$C$24<>\"\"),V$246,\"\")","v":""},{"$f":"IF(AND('2.Strategy'!F8='2.Strategy'!$P$88,'1.Profile'!$C$24<>\"\"),W$246,\"\")","v":""},{"$f":"IF(AND('2.Strategy'!G8='2.Strategy'!$P$88,'1.Profile'!$C$24<>\"\"),X$246,\"\")","v":""},{"$f":"IF(AND('2.Strategy'!H8='2.Strategy'!$P$88,'1.Profile'!$C$24<>\"\"),Y$246,\"\")","v":""},{"$f":"IF(AND('2.Strategy'!I8='2.Strategy'!$P$88,'1.Profile'!$C$24<>\"\"),Z$246,\"\")","v":8},{"$f":"IF(AND('2.Strategy'!J8='2.Strategy'!$P$88,'1.Profile'!$C$24<>\"\"),AA$246,\"\")","v":""},{"$f":"IF(AND('2.Strategy'!K8='2.Strategy'!$P$88,'1.Profile'!$C$24<>\"\"),AB$246,\"\")","v":""},{"$f":"IF(AND('2.Strategy'!L8='2.Strategy'!$P$88,'1.Profile'!$C$24<>\"\"),AC$246,\"\")","v":""},{"$f":"IF(AND('2.Strategy'!M8='2.Strategy'!$P$88,'1.Profile'!$C$24<>\"\"),AD$246,\"\")","v":""},null,null,{"$f":"B196","v":"Table 5b.  BYG control per period"},null,null,null,null,null,null,"Crops: variables, yield benefits, penalties"]
[10,{"$f":"\"Pre-E: \"&'1.Profile'!C25","v":"Pre-E: Fluometuron+Prometryn"},{"$f":"IF(AND('2.Strategy'!D8='2.Strategy'!$P$89,'1.Profile'!$C$25<>\"\"),U$246,\"\")","v":""},{"$f":"IF(AND('2.Strategy'!E8='2.Strategy'!$P$89,'1.Profile'!$C$25<>\"\"),V$246,\"\")","v":""},{"$f":"IF(AND('2.Strategy'!F8='2.Strategy'!$P$89,'1.Profile'!$C$25<>\"\"),W$246,\"\")","v":""},{"$f":"IF(AND('2.Strategy'!G8='2.Strategy'!$P$89,'1.Profile'!$C$25<>\"\"),X$246,\"\")","v":""},{"$f":"IF(AND('2.Strategy'!H8='2.Strategy'!$P$89,'1.Profile'!$C$25<>\"\"),Y$246,\"\")","v":""},{"$f":"IF(AND('2.Strategy'!I8='2.Strategy'!$P$89,'1.Profile'!$C$25<>\"\"),Z$246,\"\")","v":""},{"$f":"IF(AND('2.Strategy'!J8='2.Strategy'!$P$89,'1.Profile'!$C$25<>\"\"),AA$246,\"\")","v":""},{"$f":"IF(AND('2.Strategy'!K8='2.Strategy'!$P$89,'1.Profile'!$C$25<>\"\"),AB$246,\"\")","v":""},{"$f":"IF(AND('2.Strategy'!L8='2.Strategy'!$P$89,'1.Profile'!$C$25<>\"\"),AC$246,\"\")","v":""},{"$f":"IF(AND('2.Strategy'!M8='2.Strategy'!$P$89,'1.Profile'!$C$25<>\"\"),AD$246,\"\")","v":""},null,null,{"$f":"B206","v":"Table 6.  Healthy equivalent weeds/m2"},null,null,null,null,null,null,"Ryegrass: germination, variables"]
[11,"High crop seeding rate selected",{"$f":"IF('2.Strategy'!D10='2.Strategy'!$D$83,U$246,\"\")","v":""},{"$f":"IF('2.Strategy'!E10='2.Strategy'!$D$83,V$246,\"\")","v":""},{"$f":"IF('2.Strategy'!F10='2.Strategy'!$D$83,W$246,\"\")","v":""},{"$f":"IF('2.Strategy'!G10='2.Strategy'!$D$83,X$246,\"\")","v":""},{"$f":"IF('2.Strategy'!H10='2.Strategy'!$D$83,Y$246,\"\")","v":""},{"$f":"IF('2.Strategy'!I10='2.Strategy'!$D$83,Z$246,\"\")","v":""},{"$f":"IF('2.Strategy'!J10='2.Strategy'!$D$83,AA$246,\"\")","v":""},{"$f":"IF('2.Strategy'!K10='2.Strategy'!$D$83,AB$246,\"\")","v":""},{"$f":"IF('2.Strategy'!L10='2.Strategy'!$D$83,AC$246,\"\")","v":""},{"$f":"IF('2.Strategy'!M10='2.Strategy'!$D$83,AD$246,\"\")","v":""},null,null,null,null,null,null,null,null,null,"Pastures: stocking rates, N savings"]
[12,"Tickle selected",{"$f":"IF('2.Strategy'!D64=\"yes\",IF('2.Strategy'!D6='2.Strategy'!$D$71,U$246,\"\"),\"\")","v":""},{"$f":"IF('2.Strategy'!E64=\"yes\",IF('2.Strategy'!E6='2.Strategy'!$D$71,V$246,\"\"),\"\")","v":""},{"$f":"IF('2.Strategy'!F64=\"yes\",IF('2.Strategy'!F6='2.Strategy'!$D$71,W$246,\"\"),\"\")","v":""},{"$f":"IF('2.Strategy'!G64=\"yes\",IF('2.Strategy'!G6='2.Strategy'!$D$71,X$246,\"\"),\"\")","v":8},{"$f":"IF('2.Strategy'!H64=\"yes\",IF('2.Strategy'!H6='2.Strategy'!$D$71,Y$246,\"\"),\"\")","v":""},{"$f":"IF('2.Strategy'!I64=\"yes\",IF('2.Strategy'!I6='2.Strategy'!$D$71,Z$246,\"\"),\"\")","v":""},{"$f":"IF('2.Strategy'!J64=\"yes\",IF('2.Strategy'!J6='2.Strategy'!$D$71,AA$246,\"\"),\"\")","v":""},{"$f":"IF('2.Strategy'!K64=\"yes\",IF('2.Strategy'!K6='2.Strategy'!$D$71,AB$246,\"\"),\"\")","v":""},{"$f":"IF('2.Strategy'!L64=\"yes\",IF('2.Strategy'!L6='2.Strategy'!$D$71,AC$246,\"\"),\"\")","v":6},{"$f":"IF('2.Strategy'!M64=\"yes\",IF('2.Strategy'!M6='2.Strategy'!$D$71,AD$246,\"\"),\"\")","v":""},null,"Go to",{"$f":"B214","v":"Table 7. Rotation codes"}]
[13,"Cultivate selected",{"$f":"IF('2.Strategy'!D64=\"yes\",IF('2.Strategy'!D6='2.Strategy'!$D$72,U$246,\"\"),\"\")","v":6},{"$f":"IF('2.Strategy'!E64=\"yes\",IF('2.Strategy'!E6='2.Strategy'!$D$72,V$246,\"\"),\"\")","v":""},{"$f":"IF('2.Strategy'!F64=\"yes\",IF('2.Strategy'!F6='2.Strategy'!$D$72,W$246,\"\"),\"\")","v":6},{"$f":"IF('2.Strategy'!G64=\"yes\",IF('2.Strategy'!G6='2.Strategy'!$D$72,X$246,\"\"),\"\")","v":""},{"$f":"IF('2.Strategy'!H64=\"yes\",IF('2.Strategy'!H6='2.Strategy'!$D$72,Y$246,\"\"),\"\")","v":6},{"$f":"IF('2.Strategy'!I64=\"yes\",IF('2.Strategy'!I6='2.Strategy'!$D$72,Z$246,\"\"),\"\")","v":""},{"$f":"IF('2.Strategy'!J64=\"yes\",IF('2.Strategy'!J6='2.Strategy'!$D$72,AA$246,\"\"),\"\")","v":6},{"$f":"IF('2.Strategy'!K64=\"yes\",IF('2.Strategy'!K6='2.Strategy'!$D$72,AB$246,\"\"),\"\")","v":""},{"$f":"IF('2.Strategy'!L64=\"yes\",IF('2.Strategy'!L6='2.Strategy'!$D$72,AC$246,\"\"),\"\")","v":""},{"$f":"IF('2.Strategy'!M64=\"yes\",IF('2.Strategy'!M6='2.Strategy'!$D$72,AD$246,\"\"),\"\")","v":""},null,null,{"$f":"B225","v":"Table 8. Rotation values"}]
[14,"Full disturbance tillage",{"$f":"IF(AND('2.Strategy'!D65=\"yes\",'2.Strategy'!D9='2.Strategy'!$D$75),U$246,\"\")","v":6},{"$f":"IF(AND('2.Strategy'!E65=\"yes\",'2.Strategy'!E9='2.Strategy'!$D$75),V$246,\"\")","v":""},{"$f":"IF(AND('2.Strategy'!F65=\"yes\",'2.Strategy'!F9='2.Strategy'!$D$75),W$246,\"\")","v":""},{"$f":"IF(AND('2.Strategy'!G65=\"yes\",'2.Strategy'!G9='2.Strategy'!$D$75),X$246,\"\")","v":""},{"$f":"IF(AND('2.Strategy'!H65=\"yes\",'2.Strategy'!H9='2.Strategy'!$D$75),Y$246,\"\")","v":""},{"$f":"IF(AND('2.Strategy'!I65=\"yes\",'2.Strategy'!I9='2.Strategy'!$D$75),Z$246,\"\")","v":""},{"$f":"IF(AND('2.Strategy'!J65=\"yes\",'2.Strategy'!J9='2.Strategy'!$D$75),AA$246,\"\")","v":""},{"$f":"IF(AND('2.Strategy'!K65=\"yes\",'2.Strategy'!K9='2.Strategy'!$D$75),AB$246,\"\")","v":""},{"$f":"IF(AND('2.Strategy'!L65=\"yes\",'2.Strategy'!L9='2.Strategy'!$D$75),AC$246,\"\")","v":""},{"$f":"IF(AND('2.Strategy'!M65=\"yes\",'2.Strategy'!M9='2.Strategy'!$D$75),AD$246,\"\")","v":""},null,null,null,null,null,null,null,null,"BIO RESULTS"]
[15,"Very early sowing",{"$f":"IF('2.Strategy'!D65=\"yes\",IF('2.Strategy'!D5='2.Strategy'!$D$77,U$246,\"\"),\"\")","v":""},{"$f":"IF('2.Strategy'!E65=\"yes\",IF('2.Strategy'!E5='2.Strategy'!$D$77,V$246,\"\"),\"\")","v":""},{"$f":"IF('2.Strategy'!F65=\"yes\",IF('2.Strategy'!F5='2.Strategy'!$D$77,W$246,\"\"),\"\")","v":""},{"$f":"IF('2.Strategy'!G65=\"yes\",IF('2.Strategy'!G5='2.Strategy'!$D$77,X$246,\"\"),\"\")","v":""},{"$f":"IF('2.Strategy'!H65=\"yes\",IF('2.Strategy'!H5='2.Strategy'!$D$77,Y$246,\"\"),\"\")","v":""},{"$f":"IF('2.Strategy'!I65=\"yes\",IF('2.Strategy'!I5='2.Strategy'!$D$77,Z$246,\"\"),\"\")","v":""},{"$f":"IF('2.Strategy'!J65=\"yes\",IF('2.Strategy'!J5='2.Strategy'!$D$77,AA$246,\"\"),\"\")","v":""},{"$f":"IF('2.Strategy'!K65=\"yes\",IF('2.Strategy'!K5='2.Strategy'!$D$77,AB$246,\"\"),\"\")","v":""},{"$f":"IF('2.Strategy'!L65=\"yes\",IF('2.Strategy'!L5='2.Strategy'!$D$77,AC$246,\"\"),\"\")","v":""},{"$f":"IF('2.Strategy'!M65=\"yes\",IF('2.Strategy'!M5='2.Strategy'!$D$77,AD$246,\"\"),\"\")","v":""},null,"Go to",{"$f":"B329","v":"Table 9. Production costs ($/ha)"},null,null,null,null,null,null,"Ryegrass: plants/m2, seeds/m2"]
[16,"Early sowing",{"$f":"IF('2.Strategy'!D65=\"yes\",IF('2.Strategy'!D5='2.Strategy'!$D$78,U$246,\"\"),\"\")","v":""},{"$f":"IF('2.Strategy'!E65=\"yes\",IF('2.Strategy'!E5='2.Strategy'!$D$78,V$246,\"\"),\"\")","v":""},{"$f":"IF('2.Strategy'!F65=\"yes\",IF('2.Strategy'!F5='2.Strategy'!$D$78,W$246,\"\"),\"\")","v":""},{"$f":"IF('2.Strategy'!G65=\"yes\",IF('2.Strategy'!G5='2.Strategy'!$D$78,X$246,\"\"),\"\")","v":""},{"$f":"IF('2.Strategy'!H65=\"yes\",IF('2.Strategy'!H5='2.Strategy'!$D$78,Y$246,\"\"),\"\")","v":""},{"$f":"IF('2.Strategy'!I65=\"yes\",IF('2.Strategy'!I5='2.Strategy'!$D$78,Z$246,\"\"),\"\")","v":""},{"$f":"IF('2.Strategy'!J65=\"yes\",IF('2.Strategy'!J5='2.Strategy'!$D$78,AA$246,\"\"),\"\")","v":""},{"$f":"IF('2.Strategy'!K65=\"yes\",IF('2.Strategy'!K5='2.Strategy'!$D$78,AB$246,\"\"),\"\")","v":""},{"$f":"IF('2.Strategy'!L65=\"yes\",IF('2.Strategy'!L5='2.Strategy'!$D$78,AC$246,\"\"),\"\")","v":""},{"$f":"IF('2.Strategy'!M65=\"yes\",IF('2.Strategy'!M5='2.Strategy'!$D$78,AD$246,\"\"),\"\")","v":""},null,null,{"$f":"B342","v":"Table 10. RG control after grazing"},null,null,null,null,null,null,"Impacts on yields"]
[17,"Average sowing time",{"$f":"IF('2.Strategy'!D65=\"yes\",IF('2.Strategy'!D5='2.Strategy'!$D$79,U$246,\"\"),\"\")","v":6},{"$f":"IF('2.Strategy'!E65=\"yes\",IF('2.Strategy'!E5='2.Strategy'!$D$79,V$246,\"\"),\"\")","v":""},{"$f":"IF('2.Strategy'!F65=\"yes\",IF('2.Strategy'!F5='2.Strategy'!$D$79,W$246,\"\"),\"\")","v":6},{"$f":"IF('2.Strategy'!G65=\"yes\",IF('2.Strategy'!G5='2.Strategy'!$D$79,X$246,\"\"),\"\")","v":""},{"$f":"IF('2.Strategy'!H65=\"yes\",IF('2.Strategy'!H5='2.Strategy'!$D$79,Y$246,\"\"),\"\")","v":6},{"$f":"IF('2.Strategy'!I65=\"yes\",IF('2.Strategy'!I5='2.Strategy'!$D$79,Z$246,\"\"),\"\")","v":""},{"$f":"IF('2.Strategy'!J65=\"yes\",IF('2.Strategy'!J5='2.Strategy'!$D$79,AA$246,\"\"),\"\")","v":6},{"$f":"IF('2.Strategy'!K65=\"yes\",IF('2.Strategy'!K5='2.Strategy'!$D$79,AB$246,\"\"),\"\")","v":""},{"$f":"IF('2.Strategy'!L65=\"yes\",IF('2.Strategy'!L5='2.Strategy'!$D$79,AC$246,\"\"),\"\")","v":6},{"$f":"IF('2.Strategy'!M65=\"yes\",IF('2.Strategy'!M5='2.Strategy'!$D$79,AD$246,\"\"),\"\")","v":""},null,null,{"$f":"B350","v":"Table 11.  Returns from pastures ($/ha)"},null,null,null,null,null,null,"Ryegrass and yields for outputs"]
[18,"Sow late",{"$f":"IF('2.Strategy'!D65=\"yes\",IF('2.Strategy'!D5='2.Strategy'!$D$80,U$246,\"\"),\"\")","v":""},{"$f":"IF('2.Strategy'!E65=\"yes\",IF('2.Strategy'!E5='2.Strategy'!$D$80,V$246,\"\"),\"\")","v":""},{"$f":"IF('2.Strategy'!F65=\"yes\",IF('2.Strategy'!F5='2.Strategy'!$D$80,W$246,\"\"),\"\")","v":""},{"$f":"IF('2.Strategy'!G65=\"yes\",IF('2.Strategy'!G5='2.Strategy'!$D$80,X$246,\"\"),\"\")","v":""},{"$f":"IF('2.Strategy'!H65=\"yes\",IF('2.Strategy'!H5='2.Strategy'!$D$80,Y$246,\"\"),\"\")","v":""},{"$f":"IF('2.Strategy'!I65=\"yes\",IF('2.Strategy'!I5='2.Strategy'!$D$80,Z$246,\"\"),\"\")","v":""},{"$f":"IF('2.Strategy'!J65=\"yes\",IF('2.Strategy'!J5='2.Strategy'!$D$80,AA$246,\"\"),\"\")","v":""},{"$f":"IF('2.Strategy'!K65=\"yes\",IF('2.Strategy'!K5='2.Strategy'!$D$80,AB$246,\"\"),\"\")","v":""},{"$f":"IF('2.Strategy'!L65=\"yes\",IF('2.Strategy'!L5='2.Strategy'!$D$80,AC$246,\"\"),\"\")","v":""},{"$f":"IF('2.Strategy'!M65=\"yes\",IF('2.Strategy'!M5='2.Strategy'!$D$80,AD$246,\"\"),\"\")","v":""},null,null,{"$f":"B364","v":"Table 12. Pasture fodder produced (t/ha)"}]
[19,{"$f":"\"Post-E 1: \"&'1.Profile'!C27","v":"Post-E 1: Glyphosate"},{"$f":"IF(AND('2.Strategy'!D$11='2.Strategy'!$P93,'1.Profile'!$C27<>\"\"),U$246,\"\")","v":6},{"$f":"IF(AND('2.Strategy'!E$11='2.Strategy'!$P93,'1.Profile'!$C27<>\"\"),V$246,\"\")","v":""},{"$f":"IF(AND('2.Strategy'!F$11='2.Strategy'!$P93,'1.Profile'!$C27<>\"\"),W$246,\"\")","v":6},{"$f":"IF(AND('2.Strategy'!G$11='2.Strategy'!$P93,'1.Profile'!$C27<>\"\"),X$246,\"\")","v":""},{"$f":"IF(AND('2.Strategy'!H$11='2.Strategy'!$P93,'1.Profile'!$C27<>\"\"),Y$246,\"\")","v":6},{"$f":"IF(AND('2.Strategy'!I$11='2.Strategy'!$P93,'1.Profile'!$C27<>\"\"),Z$246,\"\")","v":""},{"$f":"IF(AND('2.Strategy'!J$11='2.Strategy'!$P93,'1.Profile'!$C27<>\"\"),AA$246,\"\")","v":""},{"$f":"IF(AND('2.Strategy'!K$11='2.Strategy'!$P93,'1.Profile'!$C27<>\"\"),AB$246,\"\")","v":""},{"$f":"IF(AND('2.Strategy'!L$11='2.Strategy'!$P93,'1.Profile'!$C27<>\"\"),AC$246,\"\")","v":6},{"$f":"IF(AND('2.Strategy'!M$11='2.Strategy'!$P93,'1.Profile'!$C27<>\"\"),AD$246,\"\")","v":8},null,null,null,null,null,null,null,null,"ECO RESULTS"]
[20,{"$f":"\"Post-E 1: \"&'1.Profile'!C28","v":"Post-E 1: Glufosinate"},{"$f":"IF(AND('2.Strategy'!D$11='2.Strategy'!$P94,'1.Profile'!$C28<>\"\"),U$246,\"\")","v":""},{"$f":"IF(AND('2.Strategy'!E$11='2.Strategy'!$P94,'1.Profile'!$C28<>\"\"),V$246,\"\")","v":""},{"$f":"IF(AND('2.Strategy'!F$11='2.Strategy'!$P94,'1.Profile'!$C28<>\"\"),W$246,\"\")","v":""},{"$f":"IF(AND('2.Strategy'!G$11='2.Strategy'!$P94,'1.Profile'!$C28<>\"\"),X$246,\"\")","v":""},{"$f":"IF(AND('2.Strategy'!H$11='2.Strategy'!$P94,'1.Profile'!$C28<>\"\"),Y$246,\"\")","v":""},{"$f":"IF(AND('2.Strategy'!I$11='2.Strategy'!$P94,'1.Profile'!$C28<>\"\"),Z$246,\"\")","v":""},{"$f":"IF(AND('2.Strategy'!J$11='2.Strategy'!$P94,'1.Profile'!$C28<>\"\"),AA$246,\"\")","v":""},{"$f":"IF(AND('2.Strategy'!K$11='2.Strategy'!$P94,'1.Profile'!$C28<>\"\"),AB$246,\"\")","v":""},{"$f":"IF(AND('2.Strategy'!L$11='2.Strategy'!$P94,'1.Profile'!$C28<>\"\"),AC$246,\"\")","v":""},{"$f":"IF(AND('2.Strategy'!M$11='2.Strategy'!$P94,'1.Profile'!$C28<>\"\"),AD$246,\"\")","v":""},null,"Go to",{"$f":"B378","v":"Table 13. HWSM Machinery repayments"},null,null,null,null,null,null,"Receipts & expenses"]
[21,{"$f":"\"Post-E 1: \"&'1.Profile'!C29","v":"Post-E 1: Paraquat (shielded)"},{"$f":"IF(AND('2.Strategy'!D$11='2.Strategy'!$P95,'1.Profile'!$C29<>\"\"),U$246,\"\")","v":""},{"$f":"IF(AND('2.Strategy'!E$11='2.Strategy'!$P95,'1.Profile'!$C29<>\"\"),V$246,\"\")","v":""},{"$f":"IF(AND('2.Strategy'!F$11='2.Strategy'!$P95,'1.Profile'!$C29<>\"\"),W$246,\"\")","v":""},{"$f":"IF(AND('2.Strategy'!G$11='2.Strategy'!$P95,'1.Profile'!$C29<>\"\"),X$246,\"\")","v":""},{"$f":"IF(AND('2.Strategy'!H$11='2.Strategy'!$P95,'1.Profile'!$C29<>\"\"),Y$246,\"\")","v":""},{"$f":"IF(AND('2.Strategy'!I$11='2.Strategy'!$P95,'1.Profile'!$C29<>\"\"),Z$246,\"\")","v":""},{"$f":"IF(AND('2.Strategy'!J$11='2.Strategy'!$P95,'1.Profile'!$C29<>\"\"),AA$246,\"\")","v":""},{"$f":"IF(AND('2.Strategy'!K$11='2.Strategy'!$P95,'1.Profile'!$C29<>\"\"),AB$246,\"\")","v":""},{"$f":"IF(AND('2.Strategy'!L$11='2.Strategy'!$P95,'1.Profile'!$C29<>\"\"),AC$246,\"\")","v":""},{"$f":"IF(AND('2.Strategy'!M$11='2.Strategy'!$P95,'1.Profile'!$C29<>\"\"),AD$246,\"\")","v":""},null,null,{"$f":"B394","v":"Table 14. Inflation factors"},null,null,null,null,null,null,"Gross margins"]
[22,{"$f":"\"Post-E 1: \"&'1.Profile'!C30","v":"Post-E 1: Inter-row tillage"},{"$f":"IF(AND('2.Strategy'!D$11='2.Strategy'!$P96,'1.Profile'!$C30<>\"\"),U$246,\"\")","v":""},{"$f":"IF(AND('2.Strategy'!E$11='2.Strategy'!$P96,'1.Profile'!$C30<>\"\"),V$246,\"\")","v":""},{"$f":"IF(AND('2.Strategy'!F$11='2.Strategy'!$P96,'1.Profile'!$C30<>\"\"),W$246,\"\")","v":""},{"$f":"IF(AND('2.Strategy'!G$11='2.Strategy'!$P96,'1.Profile'!$C30<>\"\"),X$246,\"\")","v":""},{"$f":"IF(AND('2.Strategy'!H$11='2.Strategy'!$P96,'1.Profile'!$C30<>\"\"),Y$246,\"\")","v":""},{"$f":"IF(AND('2.Strategy'!I$11='2.Strategy'!$P96,'1.Profile'!$C30<>\"\"),Z$246,\"\")","v":""},{"$f":"IF(AND('2.Strategy'!J$11='2.Strategy'!$P96,'1.Profile'!$C30<>\"\"),AA$246,\"\")","v":""},{"$f":"IF(AND('2.Strategy'!K$11='2.Strategy'!$P96,'1.Profile'!$C30<>\"\"),AB$246,\"\")","v":""},{"$f":"IF(AND('2.Strategy'!L$11='2.Strategy'!$P96,'1.Profile'!$C30<>\"\"),AC$246,\"\")","v":""},{"$f":"IF(AND('2.Strategy'!M$11='2.Strategy'!$P96,'1.Profile'!$C30<>\"\"),AD$246,\"\")","v":""},null,null,null,null,null,null,null,null,null,"Results for outputs"]
[23,{"$f":"\"Post-E 1: \"&'1.Profile'!C31","v":"Post-E 1: Group A"},{"$f":"IF(AND('2.Strategy'!D$11='2.Strategy'!$P97,'1.Profile'!$C31<>\"\"),U$246,\"\")","v":""},{"$f":"IF(AND('2.Strategy'!E$11='2.Strategy'!$P97,'1.Profile'!$C31<>\"\"),V$246,\"\")","v":""},{"$f":"IF(AND('2.Strategy'!F$11='2.Strategy'!$P97,'1.Profile'!$C31<>\"\"),W$246,\"\")","v":""},{"$f":"IF(AND('2.Strategy'!G$11='2.Strategy'!$P97,'1.Profile'!$C31<>\"\"),X$246,\"\")","v":""},{"$f":"IF(AND('2.Strategy'!H$11='2.Strategy'!$P97,'1.Profile'!$C31<>\"\"),Y$246,\"\")","v":""},{"$f":"IF(AND('2.Strategy'!I$11='2.Strategy'!$P97,'1.Profile'!$C31<>\"\"),Z$246,\"\")","v":""},{"$f":"IF(AND('2.Strategy'!J$11='2.Strategy'!$P97,'1.Profile'!$C31<>\"\"),AA$246,\"\")","v":""},{"$f":"IF(AND('2.Strategy'!K$11='2.Strategy'!$P97,'1.Profile'!$C31<>\"\"),AB$246,\"\")","v":8},{"$f":"IF(AND('2.Strategy'!L$11='2.Strategy'!$P97,'1.Profile'!$C31<>\"\"),AC$246,\"\")","v":""},{"$f":"IF(AND('2.Strategy'!M$11='2.Strategy'!$P97,'1.Profile'!$C31<>\"\"),AD$246,\"\")","v":""},null,"Go to",{"$f":"B402","v":"Table 15. Competition functions"}]
[24,{"$f":"\"Post-E 2: \"&'1.Profile'!C27","v":"Post-E 2: Glyphosate"},{"$f":"IF(AND('2.Strategy'!D$12='2.Strategy'!$P93,'1.Profile'!$C27<>\"\"),U$246,\"\")","v":""},{"$f":"IF(AND('2.Strategy'!E$12='2.Strategy'!$P93,'1.Profile'!$C27<>\"\"),V$246,\"\")","v":""},{"$f":"IF(AND('2.Strategy'!F$12='2.Strategy'!$P93,'1.Profile'!$C27<>\"\"),W$246,\"\")","v":""},{"$f":"IF(AND('2.Strategy'!G$12='2.Strategy'!$P93,'1.Profile'!$C27<>\"\"),X$246,\"\")","v":""},{"$f":"IF(AND('2.Strategy'!H$12='2.Strategy'!$P93,'1.Profile'!$C27<>\"\"),Y$246,\"\")","v":6},{"$f":"IF(AND('2.Strategy'!I$12='2.Strategy'!$P93,'1.Profile'!$C27<>\"\"),Z$246,\"\")","v":""},{"$f":"IF(AND('2.Strategy'!J$12='2.Strategy'!$P93,'1.Profile'!$C27<>\"\"),AA$246,\"\")","v":6},{"$f":"IF(AND('2.Strategy'!K$12='2.Strategy'!$P93,'1.Profile'!$C27<>\"\"),AB$246,\"\")","v":""},{"$f":"IF(AND('2.Strategy'!L$12='2.Strategy'!$P93,'1.Profile'!$C27<>\"\"),AC$246,\"\")","v":""},{"$f":"IF(AND('2.Strategy'!M$12='2.Strategy'!$P93,'1.Profile'!$C27<>\"\"),AD$246,\"\")","v":""}]
[25,{"$f":"\"Post-E 2: \"&'1.Profile'!C28","v":"Post-E 2: Glufosinate"},{"$f":"IF(AND('2.Strategy'!D$12='2.Strategy'!$P94,'1.Profile'!$C28<>\"\"),U$246,\"\")","v":""},{"$f":"IF(AND('2.Strategy'!E$12='2.Strategy'!$P94,'1.Profile'!$C28<>\"\"),V$246,\"\")","v":""},{"$f":"IF(AND('2.Strategy'!F$12='2.Strategy'!$P94,'1.Profile'!$C28<>\"\"),W$246,\"\")","v":""},{"$f":"IF(AND('2.Strategy'!G$12='2.Strategy'!$P94,'1.Profile'!$C28<>\"\"),X$246,\"\")","v":""},{"$f":"IF(AND('2.Strategy'!H$12='2.Strategy'!$P94,'1.Profile'!$C28<>\"\"),Y$246,\"\")","v":""},{"$f":"IF(AND('2.Strategy'!I$12='2.Strategy'!$P94,'1.Profile'!$C28<>\"\"),Z$246,\"\")","v":""},{"$f":"IF(AND('2.Strategy'!J$12='2.Strategy'!$P94,'1.Profile'!$C28<>\"\"),AA$246,\"\")","v":""},{"$f":"IF(AND('2.Strategy'!K$12='2.Strategy'!$P94,'1.Profile'!$C28<>\"\"),AB$246,\"\")","v":""},{"$f":"IF(AND('2.Strategy'!L$12='2.Strategy'!$P94,'1.Profile'!$C28<>\"\"),AC$246,\"\")","v":""},{"$f":"IF(AND('2.Strategy'!M$12='2.Strategy'!$P94,'1.Profile'!$C28<>\"\"),AD$246,\"\")","v":""}]
[26,{"$f":"\"Post-E 2: \"&'1.Profile'!C29","v":"Post-E 2: Paraquat (shielded)"},{"$f":"IF(AND('2.Strategy'!D$12='2.Strategy'!$P95,'1.Profile'!$C29<>\"\"),U$246,\"\")","v":""},{"$f":"IF(AND('2.Strategy'!E$12='2.Strategy'!$P95,'1.Profile'!$C29<>\"\"),V$246,\"\")","v":""},{"$f":"IF(AND('2.Strategy'!F$12='2.Strategy'!$P95,'1.Profile'!$C29<>\"\"),W$246,\"\")","v":""},{"$f":"IF(AND('2.Strategy'!G$12='2.Strategy'!$P95,'1.Profile'!$C29<>\"\"),X$246,\"\")","v":""},{"$f":"IF(AND('2.Strategy'!H$12='2.Strategy'!$P95,'1.Profile'!$C29<>\"\"),Y$246,\"\")","v":""},{"$f":"IF(AND('2.Strategy'!I$12='2.Strategy'!$P95,'1.Profile'!$C29<>\"\"),Z$246,\"\")","v":""},{"$f":"IF(AND('2.Strategy'!J$12='2.Strategy'!$P95,'1.Profile'!$C29<>\"\"),AA$246,\"\")","v":""},{"$f":"IF(AND('2.Strategy'!K$12='2.Strategy'!$P95,'1.Profile'!$C29<>\"\"),AB$246,\"\")","v":""},{"$f":"IF(AND('2.Strategy'!L$12='2.Strategy'!$P95,'1.Profile'!$C29<>\"\"),AC$246,\"\")","v":""},{"$f":"IF(AND('2.Strategy'!M$12='2.Strategy'!$P95,'1.Profile'!$C29<>\"\"),AD$246,\"\")","v":""},null,"Table 1a. Non-selective herbicides counts"]
[27,{"$f":"\"Post-E 2: \"&'1.Profile'!C30","v":"Post-E 2: Inter-row tillage"},{"$f":"IF(AND('2.Strategy'!D$12='2.Strategy'!$P96,'1.Profile'!$C30<>\"\"),U$246,\"\")","v":""},{"$f":"IF(AND('2.Strategy'!E$12='2.Strategy'!$P96,'1.Profile'!$C30<>\"\"),V$246,\"\")","v":""},{"$f":"IF(AND('2.Strategy'!F$12='2.Strategy'!$P96,'1.Profile'!$C30<>\"\"),W$246,\"\")","v":""},{"$f":"IF(AND('2.Strategy'!G$12='2.Strategy'!$P96,'1.Profile'!$C30<>\"\"),X$246,\"\")","v":""},{"$f":"IF(AND('2.Strategy'!H$12='2.Strategy'!$P96,'1.Profile'!$C30<>\"\"),Y$246,\"\")","v":""},{"$f":"IF(AND('2.Strategy'!I$12='2.Strategy'!$P96,'1.Profile'!$C30<>\"\"),Z$246,\"\")","v":""},{"$f":"IF(AND('2.Strategy'!J$12='2.Strategy'!$P96,'1.Profile'!$C30<>\"\"),AA$246,\"\")","v":""},{"$f":"IF(AND('2.Strategy'!K$12='2.Strategy'!$P96,'1.Profile'!$C30<>\"\"),AB$246,\"\")","v":""},{"$f":"IF(AND('2.Strategy'!L$12='2.Strategy'!$P96,'1.Profile'!$C30<>\"\"),AC$246,\"\")","v":6},{"$f":"IF(AND('2.Strategy'!M$12='2.Strategy'!$P96,'1.Profile'!$C30<>\"\"),AD$246,\"\")","v":""},null,"Feeds into the weed control table below, and for phytotoxicity effects in Bio results."]
[28,{"$f":"\"Post-E 2: \"&'1.Profile'!C31","v":"Post-E 2: Group A"},{"$f":"IF(AND('2.Strategy'!D$12='2.Strategy'!$P97,'1.Profile'!$C31<>\"\"),U$246,\"\")","v":""},{"$f":"IF(AND('2.Strategy'!E$12='2.Strategy'!$P97,'1.Profile'!$C31<>\"\"),V$246,\"\")","v":""},{"$f":"IF(AND('2.Strategy'!F$12='2.Strategy'!$P97,'1.Profile'!$C31<>\"\"),W$246,\"\")","v":""},{"$f":"IF(AND('2.Strategy'!G$12='2.Strategy'!$P97,'1.Profile'!$C31<>\"\"),X$246,\"\")","v":""},{"$f":"IF(AND('2.Strategy'!H$12='2.Strategy'!$P97,'1.Profile'!$C31<>\"\"),Y$246,\"\")","v":""},{"$f":"IF(AND('2.Strategy'!I$12='2.Strategy'!$P97,'1.Profile'!$C31<>\"\"),Z$246,\"\")","v":""},{"$f":"IF(AND('2.Strategy'!J$12='2.Strategy'!$P97,'1.Profile'!$C31<>\"\"),AA$246,\"\")","v":""},{"$f":"IF(AND('2.Strategy'!K$12='2.Strategy'!$P97,'1.Profile'!$C31<>\"\"),AB$246,\"\")","v":""},{"$f":"IF(AND('2.Strategy'!L$12='2.Strategy'!$P97,'1.Profile'!$C31<>\"\"),AC$246,\"\")","v":""},{"$f":"IF(AND('2.Strategy'!M$12='2.Strategy'!$P97,'1.Profile'!$C31<>\"\"),AD$246,\"\")","v":""},null,"Nb of times used",null,{"$f":"C1","v":"Irrig cotton   1"},"Winter fallow   2","Irrig cotton   3","Winter fallow   4","Irrig cotton   5","Winter fallow   6","Irrig cotton   7","Winter fallow   8","Irrig cotton   9","Winter fallow   10"]
[29,{"$f":"\"Post-E 3: \"&'1.Profile'!C27","v":"Post-E 3: Glyphosate"},{"$f":"IF(AND('2.Strategy'!D$13='2.Strategy'!$P93,'1.Profile'!$C27<>\"\"),U$246,\"\")","v":6},{"$f":"IF(AND('2.Strategy'!E$13='2.Strategy'!$P93,'1.Profile'!$C27<>\"\"),V$246,\"\")","v":""},{"$f":"IF(AND('2.Strategy'!F$13='2.Strategy'!$P93,'1.Profile'!$C27<>\"\"),W$246,\"\")","v":6},{"$f":"IF(AND('2.Strategy'!G$13='2.Strategy'!$P93,'1.Profile'!$C27<>\"\"),X$246,\"\")","v":""},{"$f":"IF(AND('2.Strategy'!H$13='2.Strategy'!$P93,'1.Profile'!$C27<>\"\"),Y$246,\"\")","v":""},{"$f":"IF(AND('2.Strategy'!I$13='2.Strategy'!$P93,'1.Profile'!$C27<>\"\"),Z$246,\"\")","v":""},{"$f":"IF(AND('2.Strategy'!J$13='2.Strategy'!$P93,'1.Profile'!$C27<>\"\"),AA$246,\"\")","v":""},{"$f":"IF(AND('2.Strategy'!K$13='2.Strategy'!$P93,'1.Profile'!$C27<>\"\"),AB$246,\"\")","v":""},{"$f":"IF(AND('2.Strategy'!L$13='2.Strategy'!$P93,'1.Profile'!$C27<>\"\"),AC$246,\"\")","v":6},{"$f":"IF(AND('2.Strategy'!M$13='2.Strategy'!$P93,'1.Profile'!$C27<>\"\"),AD$246,\"\")","v":""},null,"Pre-ems",null,{"$f":"COUNT(C12:C16)","v":0},{"$f":"COUNT(D12:D16)","v":0},0,1,1,1,0,0,0,1]
[30,{"$f":"\"Post-E 3: \"&'1.Profile'!C28","v":"Post-E 3: Glufosinate"},{"$f":"IF(AND('2.Strategy'!D$13='2.Strategy'!$P94,'1.Profile'!$C28<>\"\"),U$246,\"\")","v":""},{"$f":"IF(AND('2.Strategy'!E$13='2.Strategy'!$P94,'1.Profile'!$C28<>\"\"),V$246,\"\")","v":""},{"$f":"IF(AND('2.Strategy'!F$13='2.Strategy'!$P94,'1.Profile'!$C28<>\"\"),W$246,\"\")","v":""},{"$f":"IF(AND('2.Strategy'!G$13='2.Strategy'!$P94,'1.Profile'!$C28<>\"\"),X$246,\"\")","v":""},{"$f":"IF(AND('2.Strategy'!H$13='2.Strategy'!$P94,'1.Profile'!$C28<>\"\"),Y$246,\"\")","v":""},{"$f":"IF(AND('2.Strategy'!I$13='2.Strategy'!$P94,'1.Profile'!$C28<>\"\"),Z$246,\"\")","v":""},{"$f":"IF(AND('2.Strategy'!J$13='2.Strategy'!$P94,'1.Profile'!$C28<>\"\"),AA$246,\"\")","v":""},{"$f":"IF(AND('2.Strategy'!K$13='2.Strategy'!$P94,'1.Profile'!$C28<>\"\"),AB$246,\"\")","v":""},{"$f":"IF(AND('2.Strategy'!L$13='2.Strategy'!$P94,'1.Profile'!$C28<>\"\"),AC$246,\"\")","v":""},{"$f":"IF(AND('2.Strategy'!M$13='2.Strategy'!$P94,'1.Profile'!$C28<>\"\"),AD$246,\"\")","v":""},null,"IRT",null,{"$f":"COUNT(C19,C20,C28,C38,C46,C51)","v":2},{"$f":"COUNT(D19,D20,D28,D38,D46,D51)","v":0},2,0,2,0,1,0,1,0]
[31,{"$f":"\"Post-E 3: \"&'1.Profile'!C29","v":"Post-E 3: Paraquat (shielded)"},{"$f":"IF(AND('2.Strategy'!D$13='2.Strategy'!$P95,'1.Profile'!$C29<>\"\"),U$246,\"\")","v":""},{"$f":"IF(AND('2.Strategy'!E$13='2.Strategy'!$P95,'1.Profile'!$C29<>\"\"),V$246,\"\")","v":""},{"$f":"IF(AND('2.Strategy'!F$13='2.Strategy'!$P95,'1.Profile'!$C29<>\"\"),W$246,\"\")","v":""},{"$f":"IF(AND('2.Strategy'!G$13='2.Strategy'!$P95,'1.Profile'!$C29<>\"\"),X$246,\"\")","v":""},{"$f":"IF(AND('2.Strategy'!H$13='2.Strategy'!$P95,'1.Profile'!$C29<>\"\"),Y$246,\"\")","v":""},{"$f":"IF(AND('2.Strategy'!I$13='2.Strategy'!$P95,'1.Profile'!$C29<>\"\"),Z$246,\"\")","v":""},{"$f":"IF(AND('2.Strategy'!J$13='2.Strategy'!$P95,'1.Profile'!$C29<>\"\"),AA$246,\"\")","v":""},{"$f":"IF(AND('2.Strategy'!K$13='2.Strategy'!$P95,'1.Profile'!$C29<>\"\"),AB$246,\"\")","v":""},{"$f":"IF(AND('2.Strategy'!L$13='2.Strategy'!$P95,'1.Profile'!$C29<>\"\"),AC$246,\"\")","v":""},{"$f":"IF(AND('2.Strategy'!M$13='2.Strategy'!$P95,'1.Profile'!$C29<>\"\"),AD$246,\"\")","v":""},null,"Layby options",null,{"$f":"COUNT(C40:C42)","v":1},{"$f":"COUNT(D40:D42)","v":1},0,0,0,0,0,0,0,0]
[32,{"$f":"\"Post-E 3: \"&'1.Profile'!C30","v":"Post-E 3: Inter-row tillage"},{"$f":"IF(AND('2.Strategy'!D$13='2.Strategy'!$P96,'1.Profile'!$C30<>\"\"),U$246,\"\")","v":""},{"$f":"IF(AND('2.Strategy'!E$13='2.Strategy'!$P96,'1.Profile'!$C30<>\"\"),V$246,\"\")","v":""},{"$f":"IF(AND('2.Strategy'!F$13='2.Strategy'!$P96,'1.Profile'!$C30<>\"\"),W$246,\"\")","v":""},{"$f":"IF(AND('2.Strategy'!G$13='2.Strategy'!$P96,'1.Profile'!$C30<>\"\"),X$246,\"\")","v":""},{"$f":"IF(AND('2.Strategy'!H$13='2.Strategy'!$P96,'1.Profile'!$C30<>\"\"),Y$246,\"\")","v":6},{"$f":"IF(AND('2.Strategy'!I$13='2.Strategy'!$P96,'1.Profile'!$C30<>\"\"),Z$246,\"\")","v":""},{"$f":"IF(AND('2.Strategy'!J$13='2.Strategy'!$P96,'1.Profile'!$C30<>\"\"),AA$246,\"\")","v":""},{"$f":"IF(AND('2.Strategy'!K$13='2.Strategy'!$P96,'1.Profile'!$C30<>\"\"),AB$246,\"\")","v":""},{"$f":"IF(AND('2.Strategy'!L$13='2.Strategy'!$P96,'1.Profile'!$C30<>\"\"),AC$246,\"\")","v":""},{"$f":"IF(AND('2.Strategy'!M$13='2.Strategy'!$P96,'1.Profile'!$C30<>\"\"),AD$246,\"\")","v":""}]
[33,{"$f":"\"Post-E 3: \"&'1.Profile'!C31","v":"Post-E 3: Group A"},{"$f":"IF(AND('2.Strategy'!D$13='2.Strategy'!$P97,'1.Profile'!$C31<>\"\"),U$246,\"\")","v":""},{"$f":"IF(AND('2.Strategy'!E$13='2.Strategy'!$P97,'1.Profile'!$C31<>\"\"),V$246,\"\")","v":""},{"$f":"IF(AND('2.Strategy'!F$13='2.Strategy'!$P97,'1.Profile'!$C31<>\"\"),W$246,\"\")","v":""},{"$f":"IF(AND('2.Strategy'!G$13='2.Strategy'!$P97,'1.Profile'!$C31<>\"\"),X$246,\"\")","v":""},{"$f":"IF(AND('2.Strategy'!H$13='2.Strategy'!$P97,'1.Profile'!$C31<>\"\"),Y$246,\"\")","v":""},{"$f":"IF(AND('2.Strategy'!I$13='2.Strategy'!$P97,'1.Profile'!$C31<>\"\"),Z$246,\"\")","v":""},{"$f":"IF(AND('2.Strategy'!J$13='2.Strategy'!$P97,'1.Profile'!$C31<>\"\"),AA$246,\"\")","v":""},{"$f":"IF(AND('2.Strategy'!K$13='2.Strategy'!$P97,'1.Profile'!$C31<>\"\"),AB$246,\"\")","v":""},{"$f":"IF(AND('2.Strategy'!L$13='2.Strategy'!$P97,'1.Profile'!$C31<>\"\"),AC$246,\"\")","v":""},{"$f":"IF(AND('2.Strategy'!M$13='2.Strategy'!$P97,'1.Profile'!$C31<>\"\"),AD$246,\"\")","v":""}]
[34,{"$f":"\"Layby: \"&'2.Strategy'!$D92","v":"Layby: Topping"},{"$f":"IF('2.Strategy'!D$14='2.Strategy'!$D$92,U$246,\"\")","v":""},{"$f":"IF('2.Strategy'!E$14='2.Strategy'!$D$92,V$246,\"\")","v":""},{"$f":"IF('2.Strategy'!F$14='2.Strategy'!$D$92,W$246,\"\")","v":""},{"$f":"IF('2.Strategy'!G$14='2.Strategy'!$D$92,X$246,\"\")","v":""},{"$f":"IF('2.Strategy'!H$14='2.Strategy'!$D$92,Y$246,\"\")","v":""},{"$f":"IF('2.Strategy'!I$14='2.Strategy'!$D$92,Z$246,\"\")","v":""},{"$f":"IF('2.Strategy'!J$14='2.Strategy'!$D$92,AA$246,\"\")","v":""},{"$f":"IF('2.Strategy'!K$14='2.Strategy'!$D$92,AB$246,\"\")","v":""},{"$f":"IF('2.Strategy'!L$14='2.Strategy'!$D$92,AC$246,\"\")","v":""},{"$f":"IF('2.Strategy'!M$14='2.Strategy'!$D$92,AD$246,\"\")","v":""},null,"Total, phyto-causing herbicides",null,{"$f":"SUM(P35:P39)+COUNT(C12:C16)","v":3},1,2,2,4,2,1,0,1,2]
[35,{"$f":"\"Layby: \"&'2.Strategy'!$D90","v":"Layby: Diuron"},{"$f":"IF('2.Strategy'!D$14='2.Strategy'!$D$90,U$246,\"\")","v":""},{"$f":"IF('2.Strategy'!E$14='2.Strategy'!$D$90,V$246,\"\")","v":8},{"$f":"IF('2.Strategy'!F$14='2.Strategy'!$D$90,W$246,\"\")","v":""},{"$f":"IF('2.Strategy'!G$14='2.Strategy'!$D$90,X$246,\"\")","v":""},{"$f":"IF('2.Strategy'!H$14='2.Strategy'!$D$90,Y$246,\"\")","v":""},{"$f":"IF('2.Strategy'!I$14='2.Strategy'!$D$90,Z$246,\"\")","v":""},{"$f":"IF('2.Strategy'!J$14='2.Strategy'!$D$90,AA$246,\"\")","v":""},{"$f":"IF('2.Strategy'!K$14='2.Strategy'!$D$90,AB$246,\"\")","v":""},{"$f":"IF('2.Strategy'!L$14='2.Strategy'!$D$90,AC$246,\"\")","v":""},{"$f":"IF('2.Strategy'!M$14='2.Strategy'!$D$90,AD$246,\"\")","v":""}]
[36,{"$f":"\"Layby: \"&'2.Strategy'!$D91","v":"Layby: Pendimetha"},{"$f":"IF('2.Strategy'!D14='2.Strategy'!$D$91,U$246,\"\")","v":6},{"$f":"IF('2.Strategy'!E14='2.Strategy'!$D$91,V$246,\"\")","v":""},{"$f":"IF('2.Strategy'!F14='2.Strategy'!$D$91,W$246,\"\")","v":""},{"$f":"IF('2.Strategy'!G14='2.Strategy'!$D$91,X$246,\"\")","v":""},{"$f":"IF('2.Strategy'!H14='2.Strategy'!$D$91,Y$246,\"\")","v":""},{"$f":"IF('2.Strategy'!I14='2.Strategy'!$D$91,Z$246,\"\")","v":""},{"$f":"IF('2.Strategy'!J14='2.Strategy'!$D$91,AA$246,\"\")","v":""},{"$f":"IF('2.Strategy'!K14='2.Strategy'!$D$91,AB$246,\"\")","v":""},{"$f":"IF('2.Strategy'!L14='2.Strategy'!$D$91,AC$246,\"\")","v":""},{"$f":"IF('2.Strategy'!M14='2.Strategy'!$D$91,AD$246,\"\")","v":""},null,"Table 1b. Error and sowing handling, herbicides type counts"]
[37,{"$f":"\"Post-E 5: \"&'1.Profile'!C27","v":"Post-E 5: Glyphosate"},{"$f":"IF(AND('2.Strategy'!D$15='2.Strategy'!$P93,'1.Profile'!$C27<>\"\"),U$246,\"\")","v":""},{"$f":"IF(AND('2.Strategy'!E$15='2.Strategy'!$P93,'1.Profile'!$C27<>\"\"),V$246,\"\")","v":8},{"$f":"IF(AND('2.Strategy'!F$15='2.Strategy'!$P93,'1.Profile'!$C27<>\"\"),W$246,\"\")","v":""},{"$f":"IF(AND('2.Strategy'!G$15='2.Strategy'!$P93,'1.Profile'!$C27<>\"\"),X$246,\"\")","v":""},{"$f":"IF(AND('2.Strategy'!H$15='2.Strategy'!$P93,'1.Profile'!$C27<>\"\"),Y$246,\"\")","v":""},{"$f":"IF(AND('2.Strategy'!I$15='2.Strategy'!$P93,'1.Profile'!$C27<>\"\"),Z$246,\"\")","v":""},{"$f":"IF(AND('2.Strategy'!J$15='2.Strategy'!$P93,'1.Profile'!$C27<>\"\"),AA$246,\"\")","v":""},{"$f":"IF(AND('2.Strategy'!K$15='2.Strategy'!$P93,'1.Profile'!$C27<>\"\"),AB$246,\"\")","v":""},{"$f":"IF(AND('2.Strategy'!L$15='2.Strategy'!$P93,'1.Profile'!$C27<>\"\"),AC$246,\"\")","v":""},{"$f":"IF(AND('2.Strategy'!M$15='2.Strategy'!$P93,'1.Profile'!$C27<>\"\"),AD$246,\"\")","v":""},null,"Adjust the tables in the middle of the strategy page, that controls the error messages and the white cells within the strategy table"]
[38,{"$f":"\"Post-E 5: \"&'1.Profile'!C28","v":"Post-E 5: Glufosinate"},{"$f":"IF(AND('2.Strategy'!D$15='2.Strategy'!$P94,'1.Profile'!$C28<>\"\"),U$246,\"\")","v":""},{"$f":"IF(AND('2.Strategy'!E$15='2.Strategy'!$P94,'1.Profile'!$C28<>\"\"),V$246,\"\")","v":""},{"$f":"IF(AND('2.Strategy'!F$15='2.Strategy'!$P94,'1.Profile'!$C28<>\"\"),W$246,\"\")","v":""},{"$f":"IF(AND('2.Strategy'!G$15='2.Strategy'!$P94,'1.Profile'!$C28<>\"\"),X$246,\"\")","v":""},{"$f":"IF(AND('2.Strategy'!H$15='2.Strategy'!$P94,'1.Profile'!$C28<>\"\"),Y$246,\"\")","v":""},{"$f":"IF(AND('2.Strategy'!I$15='2.Strategy'!$P94,'1.Profile'!$C28<>\"\"),Z$246,\"\")","v":""},{"$f":"IF(AND('2.Strategy'!J$15='2.Strategy'!$P94,'1.Profile'!$C28<>\"\"),AA$246,\"\")","v":""},{"$f":"IF(AND('2.Strategy'!K$15='2.Strategy'!$P94,'1.Profile'!$C28<>\"\"),AB$246,\"\")","v":""},{"$f":"IF(AND('2.Strategy'!L$15='2.Strategy'!$P94,'1.Profile'!$C28<>\"\"),AC$246,\"\")","v":""},{"$f":"IF(AND('2.Strategy'!M$15='2.Strategy'!$P94,'1.Profile'!$C28<>\"\"),AD$246,\"\")","v":""},null,"Nb of spring/harvest options",null,{"$f":"COUNTIF(C41:C52,\">=0\")+(IF((ISERROR(FIND('2.Strategy'!D4,'2.Strategy'!$AV$18,1))=TRUE),COUNTIF(C53:C58,\">=0\"),0))","v":2},{"$f":"COUNTIF(D41:D52,\">=0\")+(IF((ISERROR(FIND('2.Strategy'!E4,'2.Strategy'!$AV$18,1))=TRUE),COUNTIF(D53:D58,\">=0\"),0))","v":2},{"$f":"COUNTIF(E41:E52,\">=0\")+(IF((ISERROR(FIND('2.Strategy'!F4,'2.Strategy'!$AV$18,1))=TRUE),COUNTIF(E53:E58,\">=0\"),0))","v":1},{"$f":"COUNTIF(F41:F52,\">=0\")+(IF((ISERROR(FIND('2.Strategy'!G4,'2.Strategy'!$AV$18,1))=TRUE),COUNTIF(F53:F58,\">=0\"),0))","v":0},{"$f":"COUNTIF(G41:G52,\">=0\")+(IF((ISERROR(FIND('2.Strategy'!H4,'2.Strategy'!$AV$18,1))=TRUE),COUNTIF(G53:G58,\">=0\"),0))","v":1},{"$f":"COUNTIF(H41:H52,\">=0\")+(IF((ISERROR(FIND('2.Strategy'!I4,'2.Strategy'!$AV$18,1))=TRUE),COUNTIF(H53:H58,\">=0\"),0))","v":0},{"$f":"COUNTIF(I41:I52,\">=0\")+(IF((ISERROR(FIND('2.Strategy'!J4,'2.Strategy'!$AV$18,1))=TRUE),COUNTIF(I53:I58,\">=0\"),0))","v":1},{"$f":"COUNTIF(J41:J52,\">=0\")+(IF((ISERROR(FIND('2.Strategy'!K4,'2.Strategy'!$AV$18,1))=TRUE),COUNTIF(J53:J58,\">=0\"),0))","v":0},{"$f":"COUNTIF(K41:K52,\">=0\")+(IF((ISERROR(FIND('2.Strategy'!L4,'2.Strategy'!$AV$18,1))=TRUE),COUNTIF(K53:K58,\">=0\"),0))","v":1},{"$f":"COUNTIF(L41:L52,\">=0\")+(IF((ISERROR(FIND('2.Strategy'!M4,'2.Strategy'!$AV$18,1))=TRUE),COUNTIF(L53:L58,\">=0\"),0))","v":0}]
[39,{"$f":"\"Post-E 5: \"&'1.Profile'!C29","v":"Post-E 5: Paraquat (shielded)"},{"$f":"IF(AND('2.Strategy'!D$15='2.Strategy'!$P95,'1.Profile'!$C29<>\"\"),U$246,\"\")","v":""},{"$f":"IF(AND('2.Strategy'!E$15='2.Strategy'!$P95,'1.Profile'!$C29<>\"\"),V$246,\"\")","v":""},{"$f":"IF(AND('2.Strategy'!F$15='2.Strategy'!$P95,'1.Profile'!$C29<>\"\"),W$246,\"\")","v":""},{"$f":"IF(AND('2.Strategy'!G$15='2.Strategy'!$P95,'1.Profile'!$C29<>\"\"),X$246,\"\")","v":""},{"$f":"IF(AND('2.Strategy'!H$15='2.Strategy'!$P95,'1.Profile'!$C29<>\"\"),Y$246,\"\")","v":""},{"$f":"IF(AND('2.Strategy'!I$15='2.Strategy'!$P95,'1.Profile'!$C29<>\"\"),Z$246,\"\")","v":""},{"$f":"IF(AND('2.Strategy'!J$15='2.Strategy'!$P95,'1.Profile'!$C29<>\"\"),AA$246,\"\")","v":""},{"$f":"IF(AND('2.Strategy'!K$15='2.Strategy'!$P95,'1.Profile'!$C29<>\"\"),AB$246,\"\")","v":""},{"$f":"IF(AND('2.Strategy'!L$15='2.Strategy'!$P95,'1.Profile'!$C29<>\"\"),AC$246,\"\")","v":""},{"$f":"IF(AND('2.Strategy'!M$15='2.Strategy'!$P95,'1.Profile'!$C29<>\"\"),AD$246,\"\")","v":""},null,"Cotton or legumes consecutively (Err 4)",null,{"$f":"IF(OR(AND(D217=2, E217=2),AND(D217=3,E217=3)),1,0)","v":0},0,0,0,0,0,0,0,{"$f":"IF(OR(AND(L217=2, M217=2),AND(L217=3,M217=3)),1,0)","v":0},{"$f":"IF(OR(AND(M217=2, N217=2),AND(M217=3,N217=3)),1,0)","v":0}]
[40,{"$f":"\"Post-E 5: \"&'1.Profile'!C30","v":"Post-E 5: Inter-row tillage"},{"$f":"IF(AND('2.Strategy'!D$15='2.Strategy'!$P96,'1.Profile'!$C30<>\"\"),U$246,\"\")","v":""},{"$f":"IF(AND('2.Strategy'!E$15='2.Strategy'!$P96,'1.Profile'!$C30<>\"\"),V$246,\"\")","v":""},{"$f":"IF(AND('2.Strategy'!F$15='2.Strategy'!$P96,'1.Profile'!$C30<>\"\"),W$246,\"\")","v":6},{"$f":"IF(AND('2.Strategy'!G$15='2.Strategy'!$P96,'1.Profile'!$C30<>\"\"),X$246,\"\")","v":""},{"$f":"IF(AND('2.Strategy'!H$15='2.Strategy'!$P96,'1.Profile'!$C30<>\"\"),Y$246,\"\")","v":""},{"$f":"IF(AND('2.Strategy'!I$15='2.Strategy'!$P96,'1.Profile'!$C30<>\"\"),Z$246,\"\")","v":""},{"$f":"IF(AND('2.Strategy'!J$15='2.Strategy'!$P96,'1.Profile'!$C30<>\"\"),AA$246,\"\")","v":""},{"$f":"IF(AND('2.Strategy'!K$15='2.Strategy'!$P96,'1.Profile'!$C30<>\"\"),AB$246,\"\")","v":""},{"$f":"IF(AND('2.Strategy'!L$15='2.Strategy'!$P96,'1.Profile'!$C30<>\"\"),AC$246,\"\")","v":6},{"$f":"IF(AND('2.Strategy'!M$15='2.Strategy'!$P96,'1.Profile'!$C30<>\"\"),AD$246,\"\")","v":""},null,null,null,null,null,null,null,null,null,null,null,null,null,"only in first year of a run of Cadiz, but also is previous year=GM, BM, high intensity grazing, and if Hay/Sil in the past two years"]
[41,{"$f":"\"Post-E 5: \"&'1.Profile'!C31","v":"Post-E 5: Group A"},{"$f":"IF(AND('2.Strategy'!D$15='2.Strategy'!$P97,'1.Profile'!$C31<>\"\"),U$246,\"\")","v":""},{"$f":"IF(AND('2.Strategy'!E$15='2.Strategy'!$P97,'1.Profile'!$C31<>\"\"),V$246,\"\")","v":""},{"$f":"IF(AND('2.Strategy'!F$15='2.Strategy'!$P97,'1.Profile'!$C31<>\"\"),W$246,\"\")","v":""},{"$f":"IF(AND('2.Strategy'!G$15='2.Strategy'!$P97,'1.Profile'!$C31<>\"\"),X$246,\"\")","v":""},{"$f":"IF(AND('2.Strategy'!H$15='2.Strategy'!$P97,'1.Profile'!$C31<>\"\"),Y$246,\"\")","v":""},{"$f":"IF(AND('2.Strategy'!I$15='2.Strategy'!$P97,'1.Profile'!$C31<>\"\"),Z$246,\"\")","v":""},{"$f":"IF(AND('2.Strategy'!J$15='2.Strategy'!$P97,'1.Profile'!$C31<>\"\"),AA$246,\"\")","v":""},{"$f":"IF(AND('2.Strategy'!K$15='2.Strategy'!$P97,'1.Profile'!$C31<>\"\"),AB$246,\"\")","v":""},{"$f":"IF(AND('2.Strategy'!L$15='2.Strategy'!$P97,'1.Profile'!$C31<>\"\"),AC$246,\"\")","v":""},{"$f":"IF(AND('2.Strategy'!M$15='2.Strategy'!$P97,'1.Profile'!$C31<>\"\"),AD$246,\"\")","v":""},null,null,null,null,null,null,null,null,null,null,null,null,null,"only if no clover in the past 3 years"]
[42,{"$f":"\"Post-E 6: \"&'1.Profile'!C27","v":"Post-E 6: Glyphosate"},{"$f":"IF(AND('2.Strategy'!D$16='2.Strategy'!$P93,'1.Profile'!$C27<>\"\"),U$246,\"\")","v":6},{"$f":"IF(AND('2.Strategy'!E$16='2.Strategy'!$P93,'1.Profile'!$C27<>\"\"),V$246,\"\")","v":""},{"$f":"IF(AND('2.Strategy'!F$16='2.Strategy'!$P93,'1.Profile'!$C27<>\"\"),W$246,\"\")","v":""},{"$f":"IF(AND('2.Strategy'!G$16='2.Strategy'!$P93,'1.Profile'!$C27<>\"\"),X$246,\"\")","v":""},{"$f":"IF(AND('2.Strategy'!H$16='2.Strategy'!$P93,'1.Profile'!$C27<>\"\"),Y$246,\"\")","v":6},{"$f":"IF(AND('2.Strategy'!I$16='2.Strategy'!$P93,'1.Profile'!$C27<>\"\"),Z$246,\"\")","v":""},{"$f":"IF(AND('2.Strategy'!J$16='2.Strategy'!$P93,'1.Profile'!$C27<>\"\"),AA$246,\"\")","v":6},{"$f":"IF(AND('2.Strategy'!K$16='2.Strategy'!$P93,'1.Profile'!$C27<>\"\"),AB$246,\"\")","v":""},{"$f":"IF(AND('2.Strategy'!L$16='2.Strategy'!$P93,'1.Profile'!$C27<>\"\"),AC$246,\"\")","v":""},{"$f":"IF(AND('2.Strategy'!M$16='2.Strategy'!$P93,'1.Profile'!$C27<>\"\"),AD$246,\"\")","v":""},null,null,null,null,null,null,null,null,null,null,null,null,null,"only important if 0 or 1+ (then sub-lethal effect of selective on RG seed, spring)"]
[43,{"$f":"\"Post-E 6: \"&'1.Profile'!C28","v":"Post-E 6: Glufosinate"},{"$f":"IF(AND('2.Strategy'!D$16='2.Strategy'!$P94,'1.Profile'!$C28<>\"\"),U$246,\"\")","v":""},{"$f":"IF(AND('2.Strategy'!E$16='2.Strategy'!$P94,'1.Profile'!$C28<>\"\"),V$246,\"\")","v":""},{"$f":"IF(AND('2.Strategy'!F$16='2.Strategy'!$P94,'1.Profile'!$C28<>\"\"),W$246,\"\")","v":""},{"$f":"IF(AND('2.Strategy'!G$16='2.Strategy'!$P94,'1.Profile'!$C28<>\"\"),X$246,\"\")","v":""},{"$f":"IF(AND('2.Strategy'!H$16='2.Strategy'!$P94,'1.Profile'!$C28<>\"\"),Y$246,\"\")","v":""},{"$f":"IF(AND('2.Strategy'!I$16='2.Strategy'!$P94,'1.Profile'!$C28<>\"\"),Z$246,\"\")","v":""},{"$f":"IF(AND('2.Strategy'!J$16='2.Strategy'!$P94,'1.Profile'!$C28<>\"\"),AA$246,\"\")","v":""},{"$f":"IF(AND('2.Strategy'!K$16='2.Strategy'!$P94,'1.Profile'!$C28<>\"\"),AB$246,\"\")","v":""},{"$f":"IF(AND('2.Strategy'!L$16='2.Strategy'!$P94,'1.Profile'!$C28<>\"\"),AC$246,\"\")","v":""},{"$f":"IF(AND('2.Strategy'!M$16='2.Strategy'!$P94,'1.Profile'!$C28<>\"\"),AD$246,\"\")","v":""},null,"Number of late non-selective application",null,{"$f":"COUNTIF(C43:C52,\">=0\")","v":1},{"$f":"COUNTIF(D43:D52,\">=0\")","v":1},1,0,1,0,1,0,1,0,"only important if 0 or 1+ (then sub-lethal effect of selective on RG seed, spring)"]
[44,{"$f":"\"Post-E 6: \"&'1.Profile'!C29","v":"Post-E 6: Paraquat (shielded)"},{"$f":"IF(AND('2.Strategy'!D$16='2.Strategy'!$P95,'1.Profile'!$C29<>\"\"),U$246,\"\")","v":""},{"$f":"IF(AND('2.Strategy'!E$16='2.Strategy'!$P95,'1.Profile'!$C29<>\"\"),V$246,\"\")","v":""},{"$f":"IF(AND('2.Strategy'!F$16='2.Strategy'!$P95,'1.Profile'!$C29<>\"\"),W$246,\"\")","v":""},{"$f":"IF(AND('2.Strategy'!G$16='2.Strategy'!$P95,'1.Profile'!$C29<>\"\"),X$246,\"\")","v":""},{"$f":"IF(AND('2.Strategy'!H$16='2.Strategy'!$P95,'1.Profile'!$C29<>\"\"),Y$246,\"\")","v":""},{"$f":"IF(AND('2.Strategy'!I$16='2.Strategy'!$P95,'1.Profile'!$C29<>\"\"),Z$246,\"\")","v":""},{"$f":"IF(AND('2.Strategy'!J$16='2.Strategy'!$P95,'1.Profile'!$C29<>\"\"),AA$246,\"\")","v":""},{"$f":"IF(AND('2.Strategy'!K$16='2.Strategy'!$P95,'1.Profile'!$C29<>\"\"),AB$246,\"\")","v":""},{"$f":"IF(AND('2.Strategy'!L$16='2.Strategy'!$P95,'1.Profile'!$C29<>\"\"),AC$246,\"\")","v":""},{"$f":"IF(AND('2.Strategy'!M$16='2.Strategy'!$P95,'1.Profile'!$C29<>\"\"),AD$246,\"\")","v":""}]
[45,{"$f":"\"Post-E 6: \"&'1.Profile'!C30","v":"Post-E 6: Inter-row tillage"},{"$f":"IF(AND('2.Strategy'!D$16='2.Strategy'!$P96,'1.Profile'!$C30<>\"\"),U$246,\"\")","v":""},{"$f":"IF(AND('2.Strategy'!E$16='2.Strategy'!$P96,'1.Profile'!$C30<>\"\"),V$246,\"\")","v":""},{"$f":"IF(AND('2.Strategy'!F$16='2.Strategy'!$P96,'1.Profile'!$C30<>\"\"),W$246,\"\")","v":""},{"$f":"IF(AND('2.Strategy'!G$16='2.Strategy'!$P96,'1.Profile'!$C30<>\"\"),X$246,\"\")","v":""},{"$f":"IF(AND('2.Strategy'!H$16='2.Strategy'!$P96,'1.Profile'!$C30<>\"\"),Y$246,\"\")","v":""},{"$f":"IF(AND('2.Strategy'!I$16='2.Strategy'!$P96,'1.Profile'!$C30<>\"\"),Z$246,\"\")","v":""},{"$f":"IF(AND('2.Strategy'!J$16='2.Strategy'!$P96,'1.Profile'!$C30<>\"\"),AA$246,\"\")","v":""},{"$f":"IF(AND('2.Strategy'!K$16='2.Strategy'!$P96,'1.Profile'!$C30<>\"\"),AB$246,\"\")","v":""},{"$f":"IF(AND('2.Strategy'!L$16='2.Strategy'!$P96,'1.Profile'!$C30<>\"\"),AC$246,\"\")","v":""},{"$f":"IF(AND('2.Strategy'!M$16='2.Strategy'!$P96,'1.Profile'!$C30<>\"\"),AD$246,\"\")","v":""}]
[46,{"$f":"\"Post-E 6: \"&'1.Profile'!C31","v":"Post-E 6: Group A"},{"$f":"IF(AND('2.Strategy'!D$16='2.Strategy'!$P97,'1.Profile'!$C31<>\"\"),U$246,\"\")","v":""},{"$f":"IF(AND('2.Strategy'!E$16='2.Strategy'!$P97,'1.Profile'!$C31<>\"\"),V$246,\"\")","v":""},{"$f":"IF(AND('2.Strategy'!F$16='2.Strategy'!$P97,'1.Profile'!$C31<>\"\"),W$246,\"\")","v":""},{"$f":"IF(AND('2.Strategy'!G$16='2.Strategy'!$P97,'1.Profile'!$C31<>\"\"),X$246,\"\")","v":""},{"$f":"IF(AND('2.Strategy'!H$16='2.Strategy'!$P97,'1.Profile'!$C31<>\"\"),Y$246,\"\")","v":""},{"$f":"IF(AND('2.Strategy'!I$16='2.Strategy'!$P97,'1.Profile'!$C31<>\"\"),Z$246,\"\")","v":""},{"$f":"IF(AND('2.Strategy'!J$16='2.Strategy'!$P97,'1.Profile'!$C31<>\"\"),AA$246,\"\")","v":""},{"$f":"IF(AND('2.Strategy'!K$16='2.Strategy'!$P97,'1.Profile'!$C31<>\"\"),AB$246,\"\")","v":""},{"$f":"IF(AND('2.Strategy'!L$16='2.Strategy'!$P97,'1.Profile'!$C31<>\"\"),AC$246,\"\")","v":""},{"$f":"IF(AND('2.Strategy'!M$16='2.Strategy'!$P97,'1.Profile'!$C31<>\"\"),AD$246,\"\")","v":""}]
[47,{"$f":"\"Harvest: \"&'2.Strategy'!D110","v":"Harvest: Cart+B."},{"$f":"IF('2.Strategy'!D$17='2.Strategy'!$D110,U246,\"\")","v":""},{"$f":"IF('2.Strategy'!E$17='2.Strategy'!$D110,V246,\"\")","v":""},{"$f":"IF('2.Strategy'!F$17='2.Strategy'!$D110,W246,\"\")","v":""},{"$f":"IF('2.Strategy'!G$17='2.Strategy'!$D110,X246,\"\")","v":""},{"$f":"IF('2.Strategy'!H$17='2.Strategy'!$D110,Y246,\"\")","v":""},{"$f":"IF('2.Strategy'!I$17='2.Strategy'!$D110,Z246,\"\")","v":""},{"$f":"IF('2.Strategy'!J$17='2.Strategy'!$D110,AA246,\"\")","v":""},{"$f":"IF('2.Strategy'!K$17='2.Strategy'!$D110,AB246,\"\")","v":""},{"$f":"IF('2.Strategy'!L$17='2.Strategy'!$D110,AC246,\"\")","v":""},{"$f":"IF('2.Strategy'!M$17='2.Strategy'!$D110,AD246,\"\")","v":""}]
[48,{"$f":"\"Harvest: \"&'2.Strategy'!D111","v":"Harvest: Narr+B."},{"$f":"IF('2.Strategy'!D$17='2.Strategy'!$D111,U246,\"\")","v":""},{"$f":"IF('2.Strategy'!E$17='2.Strategy'!$D111,V246,\"\")","v":""},{"$f":"IF('2.Strategy'!F$17='2.Strategy'!$D111,W246,\"\")","v":""},{"$f":"IF('2.Strategy'!G$17='2.Strategy'!$D111,X246,\"\")","v":""},{"$f":"IF('2.Strategy'!H$17='2.Strategy'!$D111,Y246,\"\")","v":""},{"$f":"IF('2.Strategy'!I$17='2.Strategy'!$D111,Z246,\"\")","v":8},{"$f":"IF('2.Strategy'!J$17='2.Strategy'!$D111,AA246,\"\")","v":""},{"$f":"IF('2.Strategy'!K$17='2.Strategy'!$D111,AB246,\"\")","v":""},{"$f":"IF('2.Strategy'!L$17='2.Strategy'!$D111,AC246,\"\")","v":""},{"$f":"IF('2.Strategy'!M$17='2.Strategy'!$D111,AD246,\"\")","v":""}]
[49,{"$f":"\"Harvest: \"&'2.Strategy'!D112","v":"Harvest: HSD"},{"$f":"IF('2.Strategy'!D$17='2.Strategy'!$D112,U246,\"\")","v":""},{"$f":"IF('2.Strategy'!E$17='2.Strategy'!$D112,V246,\"\")","v":""},{"$f":"IF('2.Strategy'!F$17='2.Strategy'!$D112,W246,\"\")","v":""},{"$f":"IF('2.Strategy'!G$17='2.Strategy'!$D112,X246,\"\")","v":""},{"$f":"IF('2.Strategy'!H$17='2.Strategy'!$D112,Y246,\"\")","v":""},{"$f":"IF('2.Strategy'!I$17='2.Strategy'!$D112,Z246,\"\")","v":""},{"$f":"IF('2.Strategy'!J$17='2.Strategy'!$D112,AA246,\"\")","v":""},{"$f":"IF('2.Strategy'!K$17='2.Strategy'!$D112,AB246,\"\")","v":""},{"$f":"IF('2.Strategy'!L$17='2.Strategy'!$D112,AC246,\"\")","v":""},{"$f":"IF('2.Strategy'!M$17='2.Strategy'!$D112,AD246,\"\")","v":""}]
[50,{"$f":"\"Harvest: \"&'2.Strategy'!D113","v":"Harvest: Tram."},{"$f":"IF('2.Strategy'!D$17='2.Strategy'!$D113,U246,\"\")","v":""},{"$f":"IF('2.Strategy'!E$17='2.Strategy'!$D113,V246,\"\")","v":""},{"$f":"IF('2.Strategy'!F$17='2.Strategy'!$D113,W246,\"\")","v":6},{"$f":"IF('2.Strategy'!G$17='2.Strategy'!$D113,X246,\"\")","v":""},{"$f":"IF('2.Strategy'!H$17='2.Strategy'!$D113,Y246,\"\")","v":""},{"$f":"IF('2.Strategy'!I$17='2.Strategy'!$D113,Z246,\"\")","v":""},{"$f":"IF('2.Strategy'!J$17='2.Strategy'!$D113,AA246,\"\")","v":""},{"$f":"IF('2.Strategy'!K$17='2.Strategy'!$D113,AB246,\"\")","v":""},{"$f":"IF('2.Strategy'!L$17='2.Strategy'!$D113,AC246,\"\")","v":""},{"$f":"IF('2.Strategy'!M$17='2.Strategy'!$D113,AD246,\"\")","v":""}]
[51,"      empty slot for adding a harvest option, configured for bales",null,null,null,null,null,null,null,null,null,null,null,null,null,null,null,null,null,null,null,null,"Legend to the Control and Costs tables:"]
[52,{"$f":"\"Harvest: \"&'2.Strategy'!D114","v":"Harvest: BDS+E."},{"$f":"IF('2.Strategy'!D$17='2.Strategy'!$D114,U246,\"\")","v":""},{"$f":"IF('2.Strategy'!E$17='2.Strategy'!$D114,V246,\"\")","v":""},{"$f":"IF('2.Strategy'!F$17='2.Strategy'!$D114,W246,\"\")","v":""},{"$f":"IF('2.Strategy'!G$17='2.Strategy'!$D114,X246,\"\")","v":""},{"$f":"IF('2.Strategy'!H$17='2.Strategy'!$D114,Y246,\"\")","v":""},{"$f":"IF('2.Strategy'!I$17='2.Strategy'!$D114,Z246,\"\")","v":""},{"$f":"IF('2.Strategy'!J$17='2.Strategy'!$D114,AA246,\"\")","v":""},{"$f":"IF('2.Strategy'!K$17='2.Strategy'!$D114,AB246,\"\")","v":""},{"$f":"IF('2.Strategy'!L$17='2.Strategy'!$D114,AC246,\"\")","v":""},{"$f":"IF('2.Strategy'!M$17='2.Strategy'!$D114,AD246,\"\")","v":""}]
[53,{"$f":"\"Harvest: \"&'2.Strategy'!D118","v":"Harvest: Burn"},{"$f":"IF('2.Strategy'!D$18='2.Strategy'!$D118,U$246,\"\")","v":""},{"$f":"IF('2.Strategy'!E$18='2.Strategy'!$D118,V$246,\"\")","v":""},{"$f":"IF('2.Strategy'!F$18='2.Strategy'!$D118,W$246,\"\")","v":""},{"$f":"IF('2.Strategy'!G$18='2.Strategy'!$D118,X$246,\"\")","v":""},{"$f":"IF('2.Strategy'!H$18='2.Strategy'!$D118,Y$246,\"\")","v":""},{"$f":"IF('2.Strategy'!I$18='2.Strategy'!$D118,Z$246,\"\")","v":""},{"$f":"IF('2.Strategy'!J$18='2.Strategy'!$D118,AA$246,\"\")","v":""},{"$f":"IF('2.Strategy'!K$18='2.Strategy'!$D118,AB$246,\"\")","v":""},{"$f":"IF('2.Strategy'!L$18='2.Strategy'!$D118,AC$246,\"\")","v":""},{"$f":"IF('2.Strategy'!M$18='2.Strategy'!$D118,AD$246,\"\")","v":""},null,null,null,null,null,null,null,null,null,null,22,"results from calculations"]
[54,{"$f":"\"Harvest B1: \"&'2.Strategy'!D119","v":"Harvest B1: Defol glyp"},{"$f":"IF('2.Strategy'!D$18='2.Strategy'!$D119,U$246,\"\")","v":""},{"$f":"IF('2.Strategy'!E$18='2.Strategy'!$D119,V$246,\"\")","v":""},{"$f":"IF('2.Strategy'!F$18='2.Strategy'!$D119,W$246,\"\")","v":""},{"$f":"IF('2.Strategy'!G$18='2.Strategy'!$D119,X$246,\"\")","v":""},{"$f":"IF('2.Strategy'!H$18='2.Strategy'!$D119,Y$246,\"\")","v":""},{"$f":"IF('2.Strategy'!I$18='2.Strategy'!$D119,Z$246,\"\")","v":""},{"$f":"IF('2.Strategy'!J$18='2.Strategy'!$D119,AA$246,\"\")","v":""},{"$f":"IF('2.Strategy'!K$18='2.Strategy'!$D119,AB$246,\"\")","v":""},{"$f":"IF('2.Strategy'!L$18='2.Strategy'!$D119,AC$246,\"\")","v":""},{"$f":"IF('2.Strategy'!M$18='2.Strategy'!$D119,AD$246,\"\")","v":""},null,null,null,null,null,null,null,null,null,null,22,"linked to either Profile, Prices, Option pages"]
[55,{"$f":"\"Harvest B2: \"&'2.Strategy'!D120","v":"Harvest B2: Defol Drop"},{"$f":"IF('2.Strategy'!D$18='2.Strategy'!$D120,U$246,\"\")","v":6},{"$f":"IF('2.Strategy'!E$18='2.Strategy'!$D120,V$246,\"\")","v":""},{"$f":"IF('2.Strategy'!F$18='2.Strategy'!$D120,W$246,\"\")","v":6},{"$f":"IF('2.Strategy'!G$18='2.Strategy'!$D120,X$246,\"\")","v":""},{"$f":"IF('2.Strategy'!H$18='2.Strategy'!$D120,Y$246,\"\")","v":6},{"$f":"IF('2.Strategy'!I$18='2.Strategy'!$D120,Z$246,\"\")","v":""},{"$f":"IF('2.Strategy'!J$18='2.Strategy'!$D120,AA$246,\"\")","v":6},{"$f":"IF('2.Strategy'!K$18='2.Strategy'!$D120,AB$246,\"\")","v":""},{"$f":"IF('2.Strategy'!L$18='2.Strategy'!$D120,AC$246,\"\")","v":6},{"$f":"IF('2.Strategy'!M$18='2.Strategy'!$D120,AD$246,\"\")","v":""},null,"Codes #1: 1=wc, 2=Sorghum, 3=corn, 4=beans, 5=d/l cotton, 6=irri cotton, 7=cover crop, 8=wf, 9=sf",null,null,null,null,null,null,null,null,null,"(interface or background calculations)"]
[null,null,null,null,null,null,null,null,null,null,null,null,null,"Table 2a. BYG control (%)"]
[null,"Table 2. Selected RG control (%)","Proportions of weeds or seeds surviving each selected option.",null,null,null,null,null,null,null,null,null,null,"Sorghum","Corn","Beans","DL Cotton","Irri Cotton","Cov Crop","SF"]
[null,null," =1-Control % as specified in Table 2.a on the right.",null,null,null,null,null,null,null,null,null,null,2,3,4,5,6,7,9,"from"]
[1,{"$f":"B7","v":"KD/DK: Glyphosate"},{"$f":"IF(C7<>\"\",1-(HLOOKUP(C7,$N$64:$T$119,$A65+1)),1)","v":0.8},1,{"$f":"IF(E7<>\"\",1-(HLOOKUP(E7,$N$64:$T$119,$A65+1)),1)","v":0.8},1,0.8,1,0.8,1,0.8,1,null,{"$f":"'1.Profile'!K15","v":0.2},{"$f":"'1.Profile'!K15","v":0.2},{"$f":"'1.Profile'!J15","v":0.2},{"$f":"'1.Profile'!J15","v":0.2},{"$f":"'1.Profile'!I15","v":0.2},{"$f":"'1.Profile'!K15","v":0.2},{"$f":"'1.Profile'!L15","v":0.2},"Profile",null,"References for ryegrass control values"]
[2,"KD/DK: Paraquat",{"$f":"IF(C8<>\"\",1-(HLOOKUP(C8,$N$64:$T$119,$A66+1)),1)","v":1},1,5.0000000000000044E-2,1,5.0000000000000044E-2,1,5.0000000000000044E-2,1,5.0000000000000044E-2,1,null,{"$f":"'1.Profile'!K16","v":0.95},{"$f":"'1.Profile'!K16","v":0.95},{"$f":"'1.Profile'!J16","v":0.95},{"$f":"'1.Profile'!J16","v":0.95},{"$f":"'1.Profile'!I16","v":0.95},{"$f":"'1.Profile'!K16","v":0.95},{"$f":"'1.Profile'!L16","v":0.95},null,null,"Many people have had input to these control percentages. In reality they vary widely from year to year and from farm to farm and are hence left to the user to define."]
[3,"KD/DK: Group A",{"$f":"IF(C9<>\"\",1-(HLOOKUP(C9,$N$64:$T$119,$A67+1)),1)","v":1},1,1,1,1,1,1,1,1,1,null,{"$f":"'1.Profile'!K17","v":0.95},{"$f":"'1.Profile'!K17","v":0.95},{"$f":"'1.Profile'!J17","v":0.95},{"$f":"'1.Profile'!J17","v":0.95},{"$f":"'1.Profile'!I17","v":0.95},{"$f":"'1.Profile'!K17","v":0.95},{"$f":"'1.Profile'!L17","v":0.95},null,null,"A number of those weed control options and their parameters are reviewed in:"]
[4,"KD/DK: Tillage",{"$f":"IF(C10<>\"\",1-(HLOOKUP(C10,$N$64:$T$119,$A68+1)),1)","v":1},1,1,1,1,1,1,1,1,1,null,{"$f":"'1.Profile'!K18","v":0.96},{"$f":"'1.Profile'!K18","v":0.96},{"$f":"'1.Profile'!J18","v":0.96},{"$f":"'1.Profile'!J18","v":0.96},{"$f":"'1.Profile'!I18","v":0.96},{"$f":"'1.Profile'!K18","v":0.96},{"$f":"'1.Profile'!L18","v":0.96},"Profile"]
[5,"KD/DK: Glyphosate/Paraquat",{"$f":"IF(C11<>\"\",1-(HLOOKUP(C11,$N$64:$T$119,$A69+1)),1)","v":1},1,1,1,1,1,1,1,1,1,null,{"$f":"'1.Profile'!K19","v":1},{"$f":"'1.Profile'!K19","v":1},{"$f":"'1.Profile'!J19","v":1},{"$f":"'1.Profile'!J19","v":1},{"$f":"'1.Profile'!I19","v":1},{"$f":"'1.Profile'!K19","v":1},{"$f":"'1.Profile'!L19","v":1},null,null,"Walsh, M. and Powles, S. (2007) Management Strategies for Herbicide-Resistant Weed Populations in Australian Dryland Crop Production Systems. Weed Technology 21:332–338"]
[6,"Pre-E: Trifluralin",{"$f":"IF(C12<>\"\",1-(HLOOKUP(C12,$N$64:$T$119,$A70+1)),1)","v":1},1,{"$f":"IF(E12<>\"\",1-(HLOOKUP(E12,$N$64:$T$119,$A70+1)),1)","v":1},1,1,1,1,1,1,1,null,{"$f":"'1.Profile'!K21","v":0.85},{"$f":"'1.Profile'!K21","v":0.85},{"$f":"'1.Profile'!J21","v":0.85},{"$f":"'1.Profile'!J21","v":0.85},{"$f":"'1.Profile'!I21","v":0.85},{"$f":"'1.Profile'!K21","v":0.85},{"$f":"'1.Profile'!L21","v":0.85},null,null,"Goggin, D.E., Powles, S.B. and Steadman, K,J. (2012) Understanding Lolium rigidum Seeds: The Key to Managing a Problem Weed? Agronomy 2:222-239"]
[7,"Pre-E: Diuron",{"$f":"IF(C13<>\"\",1-(HLOOKUP(C13,$N$64:$T$119,$A71+1)),1)","v":1},1,1,1,1,1,1,1,1,1,null,{"$f":"'1.Profile'!K22","v":0.85},{"$f":"'1.Profile'!K22","v":0.85},{"$f":"'1.Profile'!J22","v":0.85},{"$f":"'1.Profile'!J22","v":0.85},{"$f":"'1.Profile'!I22","v":0.85},{"$f":"'1.Profile'!K22","v":0.85},{"$f":"'1.Profile'!L22","v":0.85},null,null,"Walsh, M. and P. Newman (2007) Burning narrow windrows for weed seed destruction. Field Crops Research 104:24–30."]
[8,"Pre-E: Pendimethalin",{"$f":"IF(C14<>\"\",1-(HLOOKUP(C14,$N$64:$T$119,$A72+1)),1)","v":1},1,1,1,0.18000000000000005,1,1,1,1,1,null,{"$f":"'1.Profile'!K23","v":0.8},{"$f":"'1.Profile'!K23","v":0.8},{"$f":"'1.Profile'!J23","v":0.8},{"$f":"'1.Profile'!J23","v":0.8},{"$f":"'1.Profile'!I23","v":0.82},{"$f":"'1.Profile'!K23","v":0.8},{"$f":"'1.Profile'!L23","v":0.8},null,null,"Walsh, M., Harrington, R. and Powles, S (2012) Harrington Seed Destructor: a new non-chemical weed control tool for global grain crops. Crop Science (2012) 52:1343-1347"]
[9,"Pre-E: s-Metolachlor",{"$f":"IF(C15<>\"\",1-(HLOOKUP(C15,$N$64:$T$119,$A73+1)),1)","v":1},1,1,1,1,1,1,1,1,1,null,{"$f":"'1.Profile'!K24","v":0.9},{"$f":"'1.Profile'!K24","v":0.9},{"$f":"'1.Profile'!J24","v":0.9},{"$f":"'1.Profile'!J24","v":0.9},{"$f":"'1.Profile'!I24","v":0.92},{"$f":"'1.Profile'!K24","v":0.9},{"$f":"'1.Profile'!L24","v":0.9},null,null,{"$f":"'1.Profile'!E50","v":"Additional references for the default Profile, Options and Prices (2012): Stephen Powles (AHRI, UWA), Vanessa Stewart (DAFWA), Abul Ashem (DAFWA), David Pfeiffer (Synergy Consulting), Alistair Drapper, Bevan Addison."}]
[10,"Pre-E: Fluometuron+Prometryn",{"$f":"IF(C16<>\"\",1-(HLOOKUP(C16,$N$64:$T$119,$A74+1)),1)","v":1},1,1,1,1,1,1,1,1,1,null,{"$f":"'1.Profile'!K25","v":0.85},{"$f":"'1.Profile'!K25","v":0.85},{"$f":"'1.Profile'!J25","v":0.85},{"$f":"'1.Profile'!J25","v":0.85},{"$f":"'1.Profile'!I25","v":0.86},{"$f":"'1.Profile'!K25","v":0.85},{"$f":"'1.Profile'!L25","v":0.85}]
[11,"High crop seeding rate selected",null,"Dealt with in Bio results.",null,null,null,null,null,null,null,null,null,null,null,null,null,null,null,null,null,null,"Knock-down:",null,0.95]
[12,"Tickle selected",null,"Changes the RG emergence patterns, but does not control.",null,null,null,null,null,null,null,null,null,null,null,null,null,null,null,null,null,null,"Double-knock:",null,1]
[13,"Cultivate selected",{"$f":"IF(C19<>\"\",1-HLOOKUP(C19,$N$64:$T$119,$A77+1),1)","v":5.0000000000000044E-2},1,{"$f":"IF(E19<>\"\",1-HLOOKUP(E19,$N$64:$T$119,$A77+1),1)","v":5.0000000000000044E-2},1,5.0000000000000044E-2,1,5.0000000000000044E-2,1,1,1,null,{"$f":"'+Options'!$Q$22","v":0.95},{"$f":"'+Options'!$Q$22","v":0.95},{"$f":"'+Options'!$Q$22","v":0.95},{"$f":"'+Options'!$Q$22","v":0.95},{"$f":"'+Options'!$Q$22","v":0.95},{"$f":"'+Options'!$Q$22","v":0.95},{"$f":"'+Options'!$Q$22","v":0.95}]
[14,"Full disturbance tillage",null,"The control % is applied to the  'time of seeding' options, below.",null,null,null,null,null,null,null,null,null,null,"Seeding timing & type","No-till","Full disturb",null,null,null,null,null,"Tickle:",null,0]
[15,{"$f":"B21","v":"Very early sowing"},null,"No weed control",null,1,null,null,null,null,null,null,null,null,{"$f":"B79","v":"Very early sowing"},{"$f":"'+Options'!Q21","v":0.2},{"$f":"'+Options'!Q22","v":0.95},"Same control for",null,null,"Options",null,"Mouldboard plough",null,1]
[16,"Early sowing",{"$f":"IF(C22<>\"\",1-IF(C$20<>\"\",$Q79,$P79),1)","v":1},1,{"$f":"IF(E22<>\"\",1-IF(E$20<>\"\",$Q79,$P79),1)","v":1},1,1,1,1,1,1,1,null,null,{"$f":"B80","v":"Early sowing"},{"$f":"P79","v":0.2},0.95,"all crops and pastures",null,null,null,null,"No-till:",null,0.05,"same if delayed"]
[17,"Average sowing time",{"$f":"IF(C23<>\"\",1-IF(C$20<>\"\",$Q80,$P80),1)","v":5.0000000000000044E-2},1,{"$f":"IF(E23<>\"\",1-IF(E$20<>\"\",$Q80,$P80),1)","v":0.8},1,0.8,1,0.8,1,0.8,1,null,null,{"$f":"B81","v":"Average sowing time"},0.2,0.95,null,null,null,null,null,"Full-cut:",null,0.8,"same if delayed"]
[18,"Sow late",{"$f":"IF(C24<>\"\",1-IF(C$20<>\"\",$Q81,$P81),1)","v":1},1,{"$f":"IF(E24<>\"\",1-IF(E$20<>\"\",$Q81,$P81),1)","v":1},1,1,1,1,1,1,1,null,null,{"$f":"B82","v":"Sow late"},0.2,0.95]
[19,"Post-E 1: Glyphosate",{"$f":"IF(C25<>\"\",1-(HLOOKUP(C25,$N$64:$T$119,$A83+1)),1)","v":0.85},1,{"$f":"IF(E25<>\"\",1-(HLOOKUP(E25,$N$64:$T$119,$A83+1)),1)","v":0.85},1,0.85,1,1,1,0.85,1,null,{"$f":"'1.Profile'!K27","v":0.2},{"$f":"'1.Profile'!K27","v":0.2},{"$f":"'1.Profile'!J27","v":0.2},{"$f":"'1.Profile'!J27","v":0.2},{"$f":"'1.Profile'!I27","v":0.15},{"$f":"'1.Profile'!L27","v":0.2},{"$f":"'1.Profile'!L27","v":0.2},"Profile",null,"Sacrifice + spray:",null,1,null,"0% if no no-selectives"]
[20,"Post-E 1: Glufosinate",{"$f":"IF(C26<>\"\",1-(HLOOKUP(C26,$N$64:$T$119,$A84+1)),1)","v":1},1,{"$f":"IF(E26<>\"\",1-(HLOOKUP(E26,$N$64:$T$119,$A84+1)),1)","v":1},1,{"$f":"IF(G26<>\"\",1-(HLOOKUP(G26,$N$64:$T$119,$A84+1)),1)","v":1},1,{"$f":"IF(I26<>\"\",1-(HLOOKUP(I26,$N$64:$T$119,$A84+1)),1)","v":1},1,{"$f":"IF(K26<>\"\",1-(HLOOKUP(K26,$N$64:$T$119,$A84+1)),1)","v":1},1,null,{"$f":"'1.Profile'!K28","v":0.7},{"$f":"'1.Profile'!K28","v":0.7},{"$f":"'1.Profile'!J28","v":0.7},{"$f":"'1.Profile'!J28","v":0.7},{"$f":"'1.Profile'!I28","v":0.65},{"$f":"'1.Profile'!L28","v":0.7},{"$f":"'1.Profile'!L28","v":0.7},null,null,"Topping: crops: 75%   pastures: 90%"]
[21,"Post-E 1: Paraquat (shielded)",{"$f":"IF(C27<>\"\",1-(HLOOKUP(C27,$N$64:$T$119,$A85+1)),1)","v":1},1,{"$f":"IF(E27<>\"\",1-(HLOOKUP(E27,$N$64:$T$119,$A85+1)),1)","v":1},1,{"$f":"IF(G27<>\"\",1-(HLOOKUP(G27,$N$64:$T$119,$A85+1)),1)","v":1},1,{"$f":"IF(I27<>\"\",1-(HLOOKUP(I27,$N$64:$T$119,$A85+1)),1)","v":1},1,{"$f":"IF(K27<>\"\",1-(HLOOKUP(K27,$N$64:$T$119,$A85+1)),1)","v":1},1,null,{"$f":"'1.Profile'!K29","v":0.8},{"$f":"'1.Profile'!K29","v":0.8},{"$f":"'1.Profile'!J29","v":0.8},{"$f":"'1.Profile'!J29","v":0.8},{"$f":"'1.Profile'!I29","v":0.8},{"$f":"'1.Profile'!L29","v":0.95},{"$f":"'1.Profile'!L29","v":0.95},null,null,"n.a."]
[22,"Post-E 1: Inter-row tillage",{"$f":"IF(C28<>\"\",1-(HLOOKUP(C28,$N$64:$T$119,$A86+1)),1)","v":1},1,{"$f":"IF(E28<>\"\",1-(HLOOKUP(E28,$N$64:$T$119,$A86+1)),1)","v":1},1,{"$f":"IF(G28<>\"\",1-(HLOOKUP(G28,$N$64:$T$119,$A86+1)),1)","v":1},1,{"$f":"IF(I28<>\"\",1-(HLOOKUP(I28,$N$64:$T$119,$A86+1)),1)","v":1},1,{"$f":"IF(K28<>\"\",1-(HLOOKUP(K28,$N$64:$T$119,$A86+1)),1)","v":1},1,null,{"$f":"'1.Profile'!K30","v":0.85},{"$f":"'1.Profile'!K30","v":0.85},{"$f":"'1.Profile'!J30","v":0.85},{"$f":"'1.Profile'!J30","v":0.85},{"$f":"'1.Profile'!I30","v":0.8},{"$f":"'1.Profile'!L30","v":0.95},{"$f":"'1.Profile'!L30","v":0.95},null,null,"Sacrifice + spray:",null,1]
[23,"Post-E 1: Group A",{"$f":"IF(C29<>\"\",1-(HLOOKUP(C29,$N$64:$T$119,$A87+1)),1)","v":1},1,{"$f":"IF(E29<>\"\",1-(HLOOKUP(E29,$N$64:$T$119,$A87+1)),1)","v":1},1,1,1,1,1,1,1,null,{"$f":"'1.Profile'!K31","v":0.92},{"$f":"'1.Profile'!K31","v":0.92},{"$f":"'1.Profile'!J31","v":0.92},{"$f":"'1.Profile'!J31","v":0.92},{"$f":"'1.Profile'!I31","v":0.9},{"$f":"'1.Profile'!K31","v":0.92},{"$f":"'1.Profile'!L31","v":0.95},null,null,"Sacrifice + spray:",null,1,null,"60% if no no-selectives"]
[24,"Post-E 2: Glyphosate",{"$f":"IF(C30<>\"\",1-(HLOOKUP(C30,$N$64:$T$119,$A88+1)),1)","v":1},1,1,1,0.85,1,0.85,1,1,1,null,{"$f":"N83","v":0.2},0.2,0.2,0.2,0.15,0.2,0.2,null,null,"Hay + spray",null,1]
[25,"Post-E 2: Glufosinate",{"$f":"IF(C31<>\"\",1-(HLOOKUP(C31,$N$64:$T$119,$A89+1)),1)","v":1},1,1,1,1,1,1,1,1,1,null,{"$f":"N84","v":0.7},0.7,{"$f":"P84","v":0.7},0.7,0.65,0.7,0.7,null,null,"Silage: higher than hay"]
[26,"Post-E 2: Paraquat (shielded)",{"$f":"IF(C32<>\"\",1-(HLOOKUP(C32,$N$64:$T$119,$A90+1)),1)","v":1},1,1,1,1,1,1,1,1,1,null,0.8,0.8,0.8,0.8,0.8,0.95,0.95]
[27,"Post-E 2: Inter-row tillage",{"$f":"IF(C33<>\"\",1-(HLOOKUP(C33,$N$64:$T$119,$A91+1)),1)","v":1},1,1,1,1,1,1,1,0.19999999999999996,1,null,0.85,0.85,0.85,0.85,0.8,0.95,0.95,"Options"]
[28,"Post-E 2: Group A",{"$f":"IF(C34<>\"\",1-(HLOOKUP(C34,$N$64:$T$119,$A92+1)),1)","v":1},1,1,1,1,1,1,1,1,1,null,0.92,0.92,0.92,0.92,0.9,0.92,0.95,null,null,"Swathe: legumes & Cotton: 35%   cereals: 45%"]
[29,"Post-E 3: Glyphosate",{"$f":"IF(C35<>\"\",1-(HLOOKUP(C35,$N$64:$T$119,$A93+1)),1)","v":0.85},1,0.85,1,1,1,1,1,0.85,1,null,{"$f":"N83","v":0.2},{"$f":"O83","v":0.2},0.2,0.2,0.15,0.2,0.2,null,null,"Swathe + spray:",null,0.9]
[30,"Post-E 3: Glufosinate",{"$f":"IF(C36<>\"\",1-(HLOOKUP(C36,$N$64:$T$119,$A94+1)),1)","v":1},1,1,1,1,1,1,1,1,1,null,{"$f":"N84","v":0.7},0.7,0.7,0.7,0.65,0.7,0.7,null,null,0.85,"--> RG controlled ~ 85% (+/- 20%), from:"]
[31,"Post-E 3: Paraquat (shielded)",{"$f":"IF(C37<>\"\",1-(HLOOKUP(C37,$N$64:$T$119,$A95+1)),1)","v":1},1,1,1,1,1,1,1,1,1,null,{"$f":"N85","v":0.8},0.8,0.8,0.8,0.8,0.95,0.95,"Options",null,0.85,"Ryegrass captured at harvest 88% (75-100%)."]
[32,"Post-E 3: Inter-row tillage",{"$f":"IF(C38<>\"\",1-(HLOOKUP(C38,$N$64:$T$119,$A96+1)),1)","v":1},1,1,1,0.19999999999999996,1,1,1,1,1,null,{"$f":"N86","v":0.85},0.85,0.85,0.85,0.8,0.95,0.95,null,null,0.85,"(combination of ryegrass seeds retention and header height) "]
[33,"Post-E 3: Group A",{"$f":"IF(C39<>\"\",1-(HLOOKUP(C39,$N$64:$T$119,$A97+1)),1)","v":1},1,1,1,1,1,1,1,1,1,null,{"$f":"N87","v":0.92},0.92,0.92,0.92,0.9,0.92,0.95,"Profile",null,0.85,"Proportion of seeds in chaff: 95%, closer to 100% if straw as well (narrow windrows and BDS)"]
[34,{"$f":"B40","v":"Layby: Topping"},1,1,1,1,1,1,1,1,1,1,null,{"$f":"'+Options'!$Q$23","v":0.75},{"$f":"'+Options'!$Q$23","v":0.75},{"$f":"'+Options'!$Q$24","v":0.75},{"$f":"'+Options'!$Q$24","v":0.75},{"$f":"'+Options'!$Q$24","v":0.75},{"$f":"'+Options'!$Q$23","v":0.75},null,null,null,null,"Kill by high burn, export, crush, stumped+herbicide: 98% (95-100%)"]
[35,"Layby: Diuron",{"$f":"IF(C41<>\"\",1-(HLOOKUP(C41,$N$64:$T$119,$A99+1)),1)","v":1},1,{"$f":"IF(E41<>\"\",1-(HLOOKUP(E41,$N$64:$T$119,$A99+1)),1)","v":1},1,1,1,1,1,1,1,null,{"$f":"'1.Profile'!K33","v":0.7},{"$f":"'1.Profile'!K33","v":0.7},{"$f":"'1.Profile'!J33","v":0.7},{"$f":"'1.Profile'!J33","v":0.7},{"$f":"'1.Profile'!I33","v":0.7},{"$f":"'1.Profile'!K33","v":0.7},{"$f":"'1.Profile'!L33","v":0.7},"Options",null,0.85]
[36,"Layby: Pendimetha",{"$f":"IF(C42<>\"\",1-(HLOOKUP(C42,$N$64:$T$119,$A100+1)),1)","v":0.30000000000000004},1,1,1,1,1,1,1,1,1,null,{"$f":"'1.Profile'!K34","v":0.7},{"$f":"'1.Profile'!K34","v":0.7},{"$f":"'1.Profile'!J34","v":0.7},{"$f":"'1.Profile'!J34","v":0.7},{"$f":"'1.Profile'!I34","v":0.7},{"$f":"'1.Profile'!K34","v":0.7},{"$f":"'1.Profile'!L34","v":0.7},null,null,0.6,"Highly variable. Much lower for Cotton and legumes than cereals"]
[37,"Post-E 5: Glyphosate",{"$f":"IF(C43<>\"\",1-(HLOOKUP(C43,$N$64:$T$119,$A101+1)),1)","v":1},1,1,1,1,1,1,1,1,1,null,{"$f":"N83","v":0.2},{"$f":"O83","v":0.2},0.2,0.2,0.15,0.2,0.2]
[38,"Post-E 5: Glufosinate",{"$f":"IF(C44<>\"\",1-(HLOOKUP(C44,$N$64:$T$119,$A102+1)),1)","v":1},1,1,1,1,1,1,1,1,1,null,{"$f":"N84","v":0.7},0.7,0.7,0.7,0.65,0.7,0.7,null,null,null," "]
[39,"Post-E 5: Paraquat (shielded)",{"$f":"IF(C45<>\"\",1-(HLOOKUP(C45,$N$64:$T$119,$A103+1)),1)","v":1},1,1,1,1,1,1,1,1,1,null,0.8,0.8,0.8,0.8,0.8,0.95,0.95]
[40,"Post-E 5: Inter-row tillage",{"$f":"IF(C46<>\"\",1-(HLOOKUP(C46,$N$64:$T$119,$A104+1)),1)","v":1},1,0.19999999999999996,1,1,1,1,1,0.19999999999999996,1,null,0.85,0.85,0.85,0.85,0.8,0.95,0.95]
[41,"Post-E 5: Group A",{"$f":"IF(C47<>\"\",1-(HLOOKUP(C47,$N$64:$T$119,$A105+1)),1)","v":1},1,1,1,1,1,1,1,1,1,null,0.92,0.92,0.92,0.92,0.9,0.92,0.95]
[42,"Post-E 6: Glyphosate",{"$f":"IF(C48<>\"\",1-(HLOOKUP(C48,$N$64:$T$119,$A106+1)),1)","v":0.85},1,1,1,0.85,1,0.85,1,1,1,null,{"$f":"N83","v":0.2},{"$f":"O83","v":0.2},0.2,0.2,0.15,0.2,0.2]
[43,"Post-E 6: Glufosinate",{"$f":"IF(C49<>\"\",1-(HLOOKUP(C49,$N$64:$T$119,$A107+1)),1)","v":1},1,1,1,1,1,1,1,1,1,null,{"$f":"N84","v":0.7},0.7,0.7,0.7,0.65,0.7,0.7]
[44,"Post-E 6: Paraquat (shielded)",{"$f":"IF(C50<>\"\",1-(HLOOKUP(C50,$N$64:$T$119,$A108+1)),1)","v":1},1,1,1,1,1,1,1,1,1,null,0.8,0.8,0.8,0.8,0.8,0.95,0.95]
[45,"Post-E 6: Inter-row tillage",{"$f":"IF(C51<>\"\",1-(HLOOKUP(C51,$N$64:$T$119,$A109+1)),1)","v":1},1,1,1,1,1,1,1,1,1,null,0.85,0.85,0.85,0.85,0.8,0.95,0.95]
[46,"Post-E 6: Group A",{"$f":"IF(C52<>\"\",1-(HLOOKUP(C52,$N$64:$T$119,$A110+1)),1)","v":1},1,{"$f":"IF(E52<>\"\",1-(HLOOKUP(E52,$N$64:$T$119,$A110+1)),1)","v":1},1,1,1,1,1,1,1,null,0.92,0.92,0.92,0.92,0.9,0.92,0.95]
[47,{"$f":"B53","v":"Harvest: Cart+B."},{"$f":"IF(C53<>\"\",1-(HLOOKUP(C53,$N$64:$T$119,$A111+1)),1)","v":1},1,1,1,1,1,1,1,1,1,null,{"$f":"'+Options'!Q33","v":0.85},{"$f":"N111","v":0.85},{"$f":"N111","v":0.85},0,0,0,0]
[48,"Harvest: Narr+B.",{"$f":"IF(C54<>\"\",1-(HLOOKUP(C54,$N$64:$T$119,$A112+1)),1)","v":1},1,1,1,1,1,1,1,1,1,null,{"$f":"'+Options'!Q34","v":0.85},{"$f":"N112","v":0.85},0.85,0,0,0,0]
[49,"Harvest: HSD",{"$f":"IF(C55<>\"\",1-(HLOOKUP(C55,$N$64:$T$119,$A113+1)),1)","v":1},1,1,1,1,1,1,1,1,1,null,{"$f":"'+Options'!Q32","v":0.85},{"$f":"N113","v":0.85},0.85,0]
[50,"Harvest: Tram.",{"$f":"IF(C56<>\"\",1-(HLOOKUP(C56,$N$64:$T$119,$A114+1)),1)","v":1},1,1,1,1,1,1,1,1,1,null,{"$f":"'+Options'!Q31","v":0.85},{"$f":"N114","v":0.85},0.85,0]
[51,"      empty slot for adding a harvest option, configured for bales",{"$f":"IF(C57<>\"\",1-(HLOOKUP(C57,$N$64:$T$119,$A115+1)),1)","v":1},1,1,1,1,1,1,1,1,1]
[52,"Harvest: BDS+E.",{"$f":"IF(C58<>\"\",1-(HLOOKUP(C58,$N$64:$T$119,$A116+1)),1)","v":1},1,1,1,1,1,1,1,1,1,null,{"$f":"'+Options'!Q32","v":0.85},{"$f":"N116","v":0.85},0.85,0,null,null,null,"Options"]
[53,"Harvest: Burn",{"$f":"IF(C59<>\"\",1-(HLOOKUP(C59,$N$64:$T$119,$A117+1)),1)","v":1},1,1,1,1,1,1,1,1,1,null,{"$f":"'+Options'!Q35","v":0.6},{"$f":"N117","v":0.6},{"$f":"$N$117","v":0.6},{"$f":"$N$117*0.75","v":0.44999999999999996},{"$f":"$N$117*0.75","v":0.44999999999999996},{"$f":"N117*1.15","v":0.69},0]
[54,"Harvest B1: Defol glyp",{"$f":"IF(C60<>\"\",1-(HLOOKUP(C60,$N$64:$T$119,$A118+1)),1)","v":1},1,1,1,1,1,1,1,1,1,null,{"$f":"'1.Profile'!K36","v":0.15},{"$f":"'1.Profile'!K36","v":0.15},{"$f":"'1.Profile'!J36","v":0.12},{"$f":"'1.Profile'!J36","v":0.12},{"$f":"'1.Profile'!I36","v":0.12},{"$f":"'1.Profile'!K36","v":0.15},{"$f":"'1.Profile'!L36","v":0.3}]
[55,"Harvest B2: Defol Drop",{"$f":"IF(C61<>\"\",1-(HLOOKUP(C61,$N$64:$T$119,$A119+1)),1)","v":0.94},1,0.94,1,0.94,1,0.94,1,0.94,1,null,{"$f":"'1.Profile'!K37","v":0},{"$f":"'1.Profile'!K37","v":0},{"$f":"'1.Profile'!J37","v":0.05},{"$f":"'1.Profile'!J37","v":0.05},{"$f":"'1.Profile'!I37","v":0.06},{"$f":"'1.Profile'!K37","v":0},{"$f":"'1.Profile'!L37","v":0}]
[56]
[57,"Removal of seed in normal harvest",{"$f":"IF(AND(E217<4,AND(COUNTIF(C41:C52,\">=0\")=0,COUNTIF(C53:C61,\">=0\")=0)),1-'+Options'!$AG$133,1)","v":1},{"$f":"IF(AND(F217<4,AND(COUNTIF(D41:D52,\">=0\")=0,COUNTIF(D53:D61,\">=0\")=0)),1-'+Options'!$AG$133,1)","v":1},{"$f":"IF(AND(G217<4,AND(COUNTIF(E41:E52,\">=0\")=0,COUNTIF(E53:E61,\">=0\")=0)),1-'+Options'!$AG$133,1)","v":1},{"$f":"IF(AND(H217<4,AND(COUNTIF(F41:F52,\">=0\")=0,COUNTIF(F53:F61,\">=0\")=0)),1-'+Options'!$AG$133,1)","v":1},{"$f":"IF(AND(I217<4,AND(COUNTIF(G41:G52,\">=0\")=0,COUNTIF(G53:G61,\">=0\")=0)),1-'+Options'!$AG$133,1)","v":1},{"$f":"IF(AND(J217<4,AND(COUNTIF(H41:H52,\">=0\")=0,COUNTIF(H53:H61,\">=0\")=0)),1-'+Options'!$AG$133,1)","v":1},{"$f":"IF(AND(K217<4,AND(COUNTIF(I41:I52,\">=0\")=0,COUNTIF(I53:I61,\">=0\")=0)),1-'+Options'!$AG$133,1)","v":1},{"$f":"IF(AND(L217<4,AND(COUNTIF(J41:J52,\">=0\")=0,COUNTIF(J53:J61,\">=0\")=0)),1-'+Options'!$AG$133,1)","v":1},{"$f":"IF(AND(M217<4,AND(COUNTIF(K41:K52,\">=0\")=0,COUNTIF(K53:K61,\">=0\")=0)),1-'+Options'!$AG$133,1)","v":1},{"$f":"IF(AND(N217<4,AND(COUNTIF(L41:L52,\">=0\")=0,COUNTIF(L53:L61,\">=0\")=0)),1-'+Options'!$AG$133,1)","v":1}]
[null,null,null,null,null,null,null,null,null,null,null,null,null,null,null,null,null,null,null,null,"Options",null,null,null,"Table 3b. Generic costs ($/ha)"]
[null,null,null,null,null,null,null,null,null,null,null,null,null,null,null,null,null,null,null,null,"Profile",null,null,null,null,null,null,"Winter Crop","Sorghum","Irrig cotton","D/L cotton","Corn","Beans","CC/fallow"]
[null,"Table 3. Selected costs ($/ha)","Cost of each selected option.",null,null,null,null,null,null,null,null,null,null,null,"Table 3a Options costs ($/ha)",null,null,null,null,null,null,null,null,"+boom","Cost by boom of herbicide/pesticide application ($/ha)",null,null,{"$f":"'1.Profile'!$O$9","v":4.5},{"$f":"'1.Profile'!$O$9","v":4.5},{"$f":"'1.Profile'!$O$9","v":4.5},{"$f":"'1.Profile'!$O$9","v":4.5},{"$f":"'1.Profile'!$O$9","v":4.5},{"$f":"'1.Profile'!$O$9","v":4.5},{"$f":"'1.Profile'!$O$9","v":4.5},"from Profile"]
[null,null,null,null,null,null,null,null,null,null,null,null,null,"Winter Crop","Sorghum","Irrig cotton","D/L cotton","Corn","Beans","CC/fallows",null,null,null,null,null,null,null,null,null,null,null,null,null,null,"Rate","Leg."]
[null,{"$f":"B7","v":"KD/DK: Glyphosate"},{"$f":"IF(C7=1,Calcs!$N126,IF(C7=2,Calcs!$O126,IF(C7=3,Calcs!$R126,IF(C7=4,Calcs!$S126,IF(C7=5,Calcs!$Q126,IF(C7=6,Calcs!$P126,IF(C7=7,Calcs!$T126,IF(C7=8,Calcs!$T126,IF(C7=9,Calcs!$T126,0)))))))))","v":12.5},{"$f":"IF(D7=1,Calcs!$N126,IF(D7=2,Calcs!$O126,IF(D7=3,Calcs!$R126,IF(D7=4,Calcs!$S126,IF(D7=5,Calcs!$Q126,IF(D7=6,Calcs!$P126,IF(D7=7,Calcs!$T126,IF(D7=8,Calcs!$T126,IF(D7=9,Calcs!$T126,0)))))))))","v":0},{"$f":"IF(E7=1,Calcs!$N126,IF(E7=2,Calcs!$O126,IF(E7=3,Calcs!$R126,IF(E7=4,Calcs!$S126,IF(E7=5,Calcs!$Q126,IF(E7=6,Calcs!$P126,IF(E7=7,Calcs!$T126,IF(E7=8,Calcs!$T126,IF(E7=9,Calcs!$T126,0)))))))))","v":12.5},{"$f":"IF(F7=1,Calcs!$N126,IF(F7=2,Calcs!$O126,IF(F7=3,Calcs!$R126,IF(F7=4,Calcs!$S126,IF(F7=5,Calcs!$Q126,IF(F7=6,Calcs!$P126,IF(F7=7,Calcs!$T126,IF(F7=8,Calcs!$T126,IF(F7=9,Calcs!$T126,0)))))))))","v":12.5},{"$f":"IF(G7=1,Calcs!$N126,IF(G7=2,Calcs!$O126,IF(G7=3,Calcs!$R126,IF(G7=4,Calcs!$S126,IF(G7=5,Calcs!$Q126,IF(G7=6,Calcs!$P126,IF(G7=7,Calcs!$T126,IF(G7=8,Calcs!$T126,IF(G7=9,Calcs!$T126,0)))))))))","v":12.5},{"$f":"IF(H7=1,Calcs!$N126,IF(H7=2,Calcs!$O126,IF(H7=3,Calcs!$R126,IF(H7=4,Calcs!$S126,IF(H7=5,Calcs!$Q126,IF(H7=6,Calcs!$P126,IF(H7=7,Calcs!$T126,IF(H7=8,Calcs!$T126,IF(H7=9,Calcs!$T126,0)))))))))","v":0},{"$f":"IF(I7=1,Calcs!$N126,IF(I7=2,Calcs!$O126,IF(I7=3,Calcs!$R126,IF(I7=4,Calcs!$S126,IF(I7=5,Calcs!$Q126,IF(I7=6,Calcs!$P126,IF(I7=7,Calcs!$T126,IF(I7=8,Calcs!$T126,IF(I7=9,Calcs!$T126,0)))))))))","v":12.5},{"$f":"IF(J7=1,Calcs!$N126,IF(J7=2,Calcs!$O126,IF(J7=3,Calcs!$R126,IF(J7=4,Calcs!$S126,IF(J7=5,Calcs!$Q126,IF(J7=6,Calcs!$P126,IF(J7=7,Calcs!$T126,IF(J7=8,Calcs!$T126,IF(J7=9,Calcs!$T126,0)))))))))","v":0},{"$f":"IF(K7=1,Calcs!$N126,IF(K7=2,Calcs!$O126,IF(K7=3,Calcs!$R126,IF(K7=4,Calcs!$S126,IF(K7=5,Calcs!$Q126,IF(K7=6,Calcs!$P126,IF(K7=7,Calcs!$T126,IF(K7=8,Calcs!$T126,IF(K7=9,Calcs!$T126,0)))))))))","v":12.5},{"$f":"IF(L7=1,Calcs!$N126,IF(L7=2,Calcs!$O126,IF(L7=3,Calcs!$R126,IF(L7=4,Calcs!$S126,IF(L7=5,Calcs!$Q126,IF(L7=6,Calcs!$P126,IF(L7=7,Calcs!$T126,IF(L7=8,Calcs!$T126,IF(L7=9,Calcs!$T126,0)))))))))","v":0},null,{"$f":"'1.Profile'!G15+Calcs!$AB$124","v":12.5},{"$f":"'1.Profile'!G15+Calcs!$AC$124","v":12.5},{"$f":"'1.Profile'!E15+Calcs!$AD$124","v":12.5},{"$f":"'1.Profile'!F15+Calcs!$AE$124","v":12.5},{"$f":"'1.Profile'!G15+Calcs!$AF$124","v":12.5},{"$f":"'1.Profile'!F15+Calcs!$AG$124","v":12.5},{"$f":"'1.Profile'!H15+Calcs!$AH$124","v":12.5},null,null,null,"+SP","Autumn spray, high, chemical only",null,null,{"$f":"IF(SUM('1.Profile'!E15:E16)<>0,AVERAGE('1.Profile'!E15:E16)*AI126,0)","v":10.799999999999999},{"$f":"IF(SUM('1.Profile'!E15:E16)<>0,AVERAGE('1.Profile'!E15:E16)*AI126,0)","v":10.799999999999999},{"$f":"IF(SUM('1.Profile'!F15:F16)<>0,AVERAGE('1.Profile'!F15:F16)*AI126,0)","v":10.799999999999999},{"$f":"IF(SUM('1.Profile'!F15:F16)<>0,AVERAGE('1.Profile'!F15:F16)*AI126,0)","v":10.799999999999999},{"$f":"IF(SUM('1.Profile'!H15:H16)<>0,AVERAGE('1.Profile'!H15:H16)*AI126,0)","v":10.799999999999999},{"$f":"IF(SUM('1.Profile'!H15:H16)<>0,AVERAGE('1.Profile'!H15:H16)*AI126,0)","v":10.799999999999999},{"$f":"IF(SUM('1.Profile'!H15:H16)<>0,AVERAGE('1.Profile'!H15:H16)*AI126,0)","v":10.799999999999999},1.2]
[null,"KD/DK: Paraquat",{"$f":"IF(C8=1,Calcs!$N127,IF(C8=2,Calcs!$O127,IF(C8=3,Calcs!$R127,IF(C8=4,Calcs!$S127,IF(C8=5,Calcs!$Q127,IF(C8=6,Calcs!$P127,IF(C8=7,Calcs!$T127,IF(C8=8,Calcs!$T127,IF(C8=9,Calcs!$T127,0)))))))))","v":0},{"$f":"IF(D8=1,Calcs!$N127,IF(D8=2,Calcs!$O127,IF(D8=3,Calcs!$R127,IF(D8=4,Calcs!$S127,IF(D8=5,Calcs!$Q127,IF(D8=6,Calcs!$P127,IF(D8=7,Calcs!$T127,IF(D8=8,Calcs!$T127,IF(D8=9,Calcs!$T127,0)))))))))","v":0},{"$f":"IF(E8=1,Calcs!$N127,IF(E8=2,Calcs!$O127,IF(E8=3,Calcs!$R127,IF(E8=4,Calcs!$S127,IF(E8=5,Calcs!$Q127,IF(E8=6,Calcs!$P127,IF(E8=7,Calcs!$T127,IF(E8=8,Calcs!$T127,IF(E8=9,Calcs!$T127,0)))))))))","v":14.5},{"$f":"IF(F8=1,Calcs!$N127,IF(F8=2,Calcs!$O127,IF(F8=3,Calcs!$R127,IF(F8=4,Calcs!$S127,IF(F8=5,Calcs!$Q127,IF(F8=6,Calcs!$P127,IF(F8=7,Calcs!$T127,IF(F8=8,Calcs!$T127,IF(F8=9,Calcs!$T127,0)))))))))","v":14.5},{"$f":"IF(G8=1,Calcs!$N127,IF(G8=2,Calcs!$O127,IF(G8=3,Calcs!$R127,IF(G8=4,Calcs!$S127,IF(G8=5,Calcs!$Q127,IF(G8=6,Calcs!$P127,IF(G8=7,Calcs!$T127,IF(G8=8,Calcs!$T127,IF(G8=9,Calcs!$T127,0)))))))))","v":14.5},{"$f":"IF(H8=1,Calcs!$N127,IF(H8=2,Calcs!$O127,IF(H8=3,Calcs!$R127,IF(H8=4,Calcs!$S127,IF(H8=5,Calcs!$Q127,IF(H8=6,Calcs!$P127,IF(H8=7,Calcs!$T127,IF(H8=8,Calcs!$T127,IF(H8=9,Calcs!$T127,0)))))))))","v":0},{"$f":"IF(I8=1,Calcs!$N127,IF(I8=2,Calcs!$O127,IF(I8=3,Calcs!$R127,IF(I8=4,Calcs!$S127,IF(I8=5,Calcs!$Q127,IF(I8=6,Calcs!$P127,IF(I8=7,Calcs!$T127,IF(I8=8,Calcs!$T127,IF(I8=9,Calcs!$T127,0)))))))))","v":14.5},{"$f":"IF(J8=1,Calcs!$N127,IF(J8=2,Calcs!$O127,IF(J8=3,Calcs!$R127,IF(J8=4,Calcs!$S127,IF(J8=5,Calcs!$Q127,IF(J8=6,Calcs!$P127,IF(J8=7,Calcs!$T127,IF(J8=8,Calcs!$T127,IF(J8=9,Calcs!$T127,0)))))))))","v":0},{"$f":"IF(K8=1,Calcs!$N127,IF(K8=2,Calcs!$O127,IF(K8=3,Calcs!$R127,IF(K8=4,Calcs!$S127,IF(K8=5,Calcs!$Q127,IF(K8=6,Calcs!$P127,IF(K8=7,Calcs!$T127,IF(K8=8,Calcs!$T127,IF(K8=9,Calcs!$T127,0)))))))))","v":14.5},{"$f":"IF(L8=1,Calcs!$N127,IF(L8=2,Calcs!$O127,IF(L8=3,Calcs!$R127,IF(L8=4,Calcs!$S127,IF(L8=5,Calcs!$Q127,IF(L8=6,Calcs!$P127,IF(L8=7,Calcs!$T127,IF(L8=8,Calcs!$T127,IF(L8=9,Calcs!$T127,0)))))))))","v":0},null,{"$f":"'1.Profile'!G16+Calcs!$AB$124","v":14.5},{"$f":"'1.Profile'!G16+Calcs!$AC$124","v":14.5},{"$f":"'1.Profile'!E16+Calcs!$AD$124","v":14.5},{"$f":"'1.Profile'!F16+Calcs!$AE$124","v":14.5},{"$f":"'1.Profile'!G16+Calcs!$AF$124","v":14.5},{"$f":"'1.Profile'!F16+Calcs!$AG$124","v":14.5},{"$f":"'1.Profile'!H16+Calcs!$AH$124","v":14.5},null,null,null,"+sp","autumn spray, low, chemical only",null,null,{"$f":"IF(SUM('1.Profile'!E15:E16)<>0,AVERAGE('1.Profile'!E15:E16)*AI127,0)","v":4.5},{"$f":"IF(SUM('1.Profile'!E15:E16)<>0,AVERAGE('1.Profile'!E15:E16)*AI127,0)","v":4.5},{"$f":"IF(SUM('1.Profile'!F15:F16)<>0,AVERAGE('1.Profile'!F15:F16)*AI127,0)","v":4.5},{"$f":"IF(SUM('1.Profile'!F15:F16)<>0,AVERAGE('1.Profile'!F15:F16)*AJ127,0)","v":2.25},{"$f":"IF(SUM('1.Profile'!H15:H16)<>0,AVERAGE('1.Profile'!H15:H16)*AJ127,0)","v":2.25},{"$f":"IF(SUM('1.Profile'!H15:H16)<>0,AVERAGE('1.Profile'!H15:H16)*AJ127,0)","v":2.25},{"$f":"IF(SUM('1.Profile'!H15:H16)<>0,AVERAGE('1.Profile'!H15:H16)*AJ127,0)","v":2.25},0.5,0.25]
[null,"KD/DK: Group A",{"$f":"IF(C9=1,Calcs!$N128,IF(C9=2,Calcs!$O128,IF(C9=3,Calcs!$R128,IF(C9=4,Calcs!$S128,IF(C9=5,Calcs!$Q128,IF(C9=6,Calcs!$P128,IF(C9=7,Calcs!$T128,IF(C9=8,Calcs!$T128,IF(C9=9,Calcs!$T128,0)))))))))","v":0},{"$f":"IF(D9=1,Calcs!$N128,IF(D9=2,Calcs!$O128,IF(D9=3,Calcs!$R128,IF(D9=4,Calcs!$S128,IF(D9=5,Calcs!$Q128,IF(D9=6,Calcs!$P128,IF(D9=7,Calcs!$T128,IF(D9=8,Calcs!$T128,IF(D9=9,Calcs!$T128,0)))))))))","v":0},{"$f":"IF(E9=1,Calcs!$N128,IF(E9=2,Calcs!$O128,IF(E9=3,Calcs!$R128,IF(E9=4,Calcs!$S128,IF(E9=5,Calcs!$Q128,IF(E9=6,Calcs!$P128,IF(E9=7,Calcs!$T128,IF(E9=8,Calcs!$T128,IF(E9=9,Calcs!$T128,0)))))))))","v":0},{"$f":"IF(F9=1,Calcs!$N128,IF(F9=2,Calcs!$O128,IF(F9=3,Calcs!$R128,IF(F9=4,Calcs!$S128,IF(F9=5,Calcs!$Q128,IF(F9=6,Calcs!$P128,IF(F9=7,Calcs!$T128,IF(F9=8,Calcs!$T128,IF(F9=9,Calcs!$T128,0)))))))))","v":0},{"$f":"IF(G9=1,Calcs!$N128,IF(G9=2,Calcs!$O128,IF(G9=3,Calcs!$R128,IF(G9=4,Calcs!$S128,IF(G9=5,Calcs!$Q128,IF(G9=6,Calcs!$P128,IF(G9=7,Calcs!$T128,IF(G9=8,Calcs!$T128,IF(G9=9,Calcs!$T128,0)))))))))","v":0},{"$f":"IF(H9=1,Calcs!$N128,IF(H9=2,Calcs!$O128,IF(H9=3,Calcs!$R128,IF(H9=4,Calcs!$S128,IF(H9=5,Calcs!$Q128,IF(H9=6,Calcs!$P128,IF(H9=7,Calcs!$T128,IF(H9=8,Calcs!$T128,IF(H9=9,Calcs!$T128,0)))))))))","v":0},{"$f":"IF(I9=1,Calcs!$N128,IF(I9=2,Calcs!$O128,IF(I9=3,Calcs!$R128,IF(I9=4,Calcs!$S128,IF(I9=5,Calcs!$Q128,IF(I9=6,Calcs!$P128,IF(I9=7,Calcs!$T128,IF(I9=8,Calcs!$T128,IF(I9=9,Calcs!$T128,0)))))))))","v":0},{"$f":"IF(J9=1,Calcs!$N128,IF(J9=2,Calcs!$O128,IF(J9=3,Calcs!$R128,IF(J9=4,Calcs!$S128,IF(J9=5,Calcs!$Q128,IF(J9=6,Calcs!$P128,IF(J9=7,Calcs!$T128,IF(J9=8,Calcs!$T128,IF(J9=9,Calcs!$T128,0)))))))))","v":0},{"$f":"IF(K9=1,Calcs!$N128,IF(K9=2,Calcs!$O128,IF(K9=3,Calcs!$R128,IF(K9=4,Calcs!$S128,IF(K9=5,Calcs!$Q128,IF(K9=6,Calcs!$P128,IF(K9=7,Calcs!$T128,IF(K9=8,Calcs!$T128,IF(K9=9,Calcs!$T128,0)))))))))","v":0},{"$f":"IF(L9=1,Calcs!$N128,IF(L9=2,Calcs!$O128,IF(L9=3,Calcs!$R128,IF(L9=4,Calcs!$S128,IF(L9=5,Calcs!$Q128,IF(L9=6,Calcs!$P128,IF(L9=7,Calcs!$T128,IF(L9=8,Calcs!$T128,IF(L9=9,Calcs!$T128,0)))))))))","v":0},null,{"$f":"'1.Profile'!G17+Calcs!$AB$124","v":19.5},{"$f":"'1.Profile'!G17+Calcs!$AC$124","v":19.5},{"$f":"'1.Profile'!E17+Calcs!$AD$124","v":19.5},{"$f":"'1.Profile'!F17+Calcs!$AE$124","v":19.5},{"$f":"'1.Profile'!G17+Calcs!$AF$124","v":19.5},{"$f":"'1.Profile'!F17+Calcs!$AG$124","v":19.5},{"$f":"'1.Profile'!H17+Calcs!$AH$124","v":19.5},null,null,null,null,null,null,null,null,"from Prices"]
[null,"KD/DK: Tillage",{"$f":"IF(C10=1,Calcs!$N129,IF(C10=2,Calcs!$O129,IF(C10=3,Calcs!$R129,IF(C10=4,Calcs!$S129,IF(C10=5,Calcs!$Q129,IF(C10=6,Calcs!$P129,IF(C10=7,Calcs!$T129,IF(C10=8,Calcs!$T129,IF(C10=9,Calcs!$T129,0)))))))))","v":0},{"$f":"IF(D10=1,Calcs!$N129,IF(D10=2,Calcs!$O129,IF(D10=3,Calcs!$R129,IF(D10=4,Calcs!$S129,IF(D10=5,Calcs!$Q129,IF(D10=6,Calcs!$P129,IF(D10=7,Calcs!$T129,IF(D10=8,Calcs!$T129,IF(D10=9,Calcs!$T129,0)))))))))","v":0},{"$f":"IF(E10=1,Calcs!$N129,IF(E10=2,Calcs!$O129,IF(E10=3,Calcs!$R129,IF(E10=4,Calcs!$S129,IF(E10=5,Calcs!$Q129,IF(E10=6,Calcs!$P129,IF(E10=7,Calcs!$T129,IF(E10=8,Calcs!$T129,IF(E10=9,Calcs!$T129,0)))))))))","v":0},{"$f":"IF(F10=1,Calcs!$N129,IF(F10=2,Calcs!$O129,IF(F10=3,Calcs!$R129,IF(F10=4,Calcs!$S129,IF(F10=5,Calcs!$Q129,IF(F10=6,Calcs!$P129,IF(F10=7,Calcs!$T129,IF(F10=8,Calcs!$T129,IF(F10=9,Calcs!$T129,0)))))))))","v":0},{"$f":"IF(G10=1,Calcs!$N129,IF(G10=2,Calcs!$O129,IF(G10=3,Calcs!$R129,IF(G10=4,Calcs!$S129,IF(G10=5,Calcs!$Q129,IF(G10=6,Calcs!$P129,IF(G10=7,Calcs!$T129,IF(G10=8,Calcs!$T129,IF(G10=9,Calcs!$T129,0)))))))))","v":0},{"$f":"IF(H10=1,Calcs!$N129,IF(H10=2,Calcs!$O129,IF(H10=3,Calcs!$R129,IF(H10=4,Calcs!$S129,IF(H10=5,Calcs!$Q129,IF(H10=6,Calcs!$P129,IF(H10=7,Calcs!$T129,IF(H10=8,Calcs!$T129,IF(H10=9,Calcs!$T129,0)))))))))","v":0},{"$f":"IF(I10=1,Calcs!$N129,IF(I10=2,Calcs!$O129,IF(I10=3,Calcs!$R129,IF(I10=4,Calcs!$S129,IF(I10=5,Calcs!$Q129,IF(I10=6,Calcs!$P129,IF(I10=7,Calcs!$T129,IF(I10=8,Calcs!$T129,IF(I10=9,Calcs!$T129,0)))))))))","v":0},{"$f":"IF(J10=1,Calcs!$N129,IF(J10=2,Calcs!$O129,IF(J10=3,Calcs!$R129,IF(J10=4,Calcs!$S129,IF(J10=5,Calcs!$Q129,IF(J10=6,Calcs!$P129,IF(J10=7,Calcs!$T129,IF(J10=8,Calcs!$T129,IF(J10=9,Calcs!$T129,0)))))))))","v":0},{"$f":"IF(K10=1,Calcs!$N129,IF(K10=2,Calcs!$O129,IF(K10=3,Calcs!$R129,IF(K10=4,Calcs!$S129,IF(K10=5,Calcs!$Q129,IF(K10=6,Calcs!$P129,IF(K10=7,Calcs!$T129,IF(K10=8,Calcs!$T129,IF(K10=9,Calcs!$T129,0)))))))))","v":0},{"$f":"IF(L10=1,Calcs!$N129,IF(L10=2,Calcs!$O129,IF(L10=3,Calcs!$R129,IF(L10=4,Calcs!$S129,IF(L10=5,Calcs!$Q129,IF(L10=6,Calcs!$P129,IF(L10=7,Calcs!$T129,IF(L10=8,Calcs!$T129,IF(L10=9,Calcs!$T129,0)))))))))","v":13.5},null,{"$f":"'1.Profile'!G18+Calcs!$AB$124","v":13.5},{"$f":"'1.Profile'!G18+Calcs!$AC$124","v":13.5},{"$f":"'1.Profile'!E18+Calcs!$AD$124","v":13.5},{"$f":"'1.Profile'!F18+Calcs!$AE$124","v":13.5},{"$f":"'1.Profile'!G18+Calcs!$AF$124","v":13.5},{"$f":"'1.Profile'!F18+Calcs!$AG$124","v":13.5},{"$f":"'1.Profile'!H18+Calcs!$AH$124","v":13.5},null,null,null,"+Inc","Cost of incorporation (=full-cut)",null,null,null,{"$f":"'+Prices'!AN70","v":12.600000000000001},null,"For green manuring"]
[null,"KD/DK: Glyphosate/Paraquat",{"$f":"IF(C11=1,Calcs!$N130,IF(C11=2,Calcs!$O130,IF(C11=3,Calcs!$R130,IF(C11=4,Calcs!$S130,IF(C11=5,Calcs!$Q130,IF(C11=6,Calcs!$P130,IF(C11=7,Calcs!$T130,IF(C11=8,Calcs!$T130,IF(C11=9,Calcs!$T130,0)))))))))","v":0},{"$f":"IF(D11=1,Calcs!$N130,IF(D11=2,Calcs!$O130,IF(D11=3,Calcs!$R130,IF(D11=4,Calcs!$S130,IF(D11=5,Calcs!$Q130,IF(D11=6,Calcs!$P130,IF(D11=7,Calcs!$T130,IF(D11=8,Calcs!$T130,IF(D11=9,Calcs!$T130,0)))))))))","v":0},{"$f":"IF(E11=1,Calcs!$N130,IF(E11=2,Calcs!$O130,IF(E11=3,Calcs!$R130,IF(E11=4,Calcs!$S130,IF(E11=5,Calcs!$Q130,IF(E11=6,Calcs!$P130,IF(E11=7,Calcs!$T130,IF(E11=8,Calcs!$T130,IF(E11=9,Calcs!$T130,0)))))))))","v":0},{"$f":"IF(F11=1,Calcs!$N130,IF(F11=2,Calcs!$O130,IF(F11=3,Calcs!$R130,IF(F11=4,Calcs!$S130,IF(F11=5,Calcs!$Q130,IF(F11=6,Calcs!$P130,IF(F11=7,Calcs!$T130,IF(F11=8,Calcs!$T130,IF(F11=9,Calcs!$T130,0)))))))))","v":0},{"$f":"IF(G11=1,Calcs!$N130,IF(G11=2,Calcs!$O130,IF(G11=3,Calcs!$R130,IF(G11=4,Calcs!$S130,IF(G11=5,Calcs!$Q130,IF(G11=6,Calcs!$P130,IF(G11=7,Calcs!$T130,IF(G11=8,Calcs!$T130,IF(G11=9,Calcs!$T130,0)))))))))","v":0},{"$f":"IF(H11=1,Calcs!$N130,IF(H11=2,Calcs!$O130,IF(H11=3,Calcs!$R130,IF(H11=4,Calcs!$S130,IF(H11=5,Calcs!$Q130,IF(H11=6,Calcs!$P130,IF(H11=7,Calcs!$T130,IF(H11=8,Calcs!$T130,IF(H11=9,Calcs!$T130,0)))))))))","v":0},{"$f":"IF(I11=1,Calcs!$N130,IF(I11=2,Calcs!$O130,IF(I11=3,Calcs!$R130,IF(I11=4,Calcs!$S130,IF(I11=5,Calcs!$Q130,IF(I11=6,Calcs!$P130,IF(I11=7,Calcs!$T130,IF(I11=8,Calcs!$T130,IF(I11=9,Calcs!$T130,0)))))))))","v":0},{"$f":"IF(J11=1,Calcs!$N130,IF(J11=2,Calcs!$O130,IF(J11=3,Calcs!$R130,IF(J11=4,Calcs!$S130,IF(J11=5,Calcs!$Q130,IF(J11=6,Calcs!$P130,IF(J11=7,Calcs!$T130,IF(J11=8,Calcs!$T130,IF(J11=9,Calcs!$T130,0)))))))))","v":0},{"$f":"IF(K11=1,Calcs!$N130,IF(K11=2,Calcs!$O130,IF(K11=3,Calcs!$R130,IF(K11=4,Calcs!$S130,IF(K11=5,Calcs!$Q130,IF(K11=6,Calcs!$P130,IF(K11=7,Calcs!$T130,IF(K11=8,Calcs!$T130,IF(K11=9,Calcs!$T130,0)))))))))","v":0},{"$f":"IF(L11=1,Calcs!$N130,IF(L11=2,Calcs!$O130,IF(L11=3,Calcs!$R130,IF(L11=4,Calcs!$S130,IF(L11=5,Calcs!$Q130,IF(L11=6,Calcs!$P130,IF(L11=7,Calcs!$T130,IF(L11=8,Calcs!$T130,IF(L11=9,Calcs!$T130,0)))))))))","v":0},null,{"$f":"'1.Profile'!G19+2*Calcs!$AB$124","v":27},{"$f":"'1.Profile'!G19+2*Calcs!$AC$124","v":27},{"$f":"'1.Profile'!E19+2*Calcs!$AD$124","v":27},{"$f":"'1.Profile'!F19+2*Calcs!$AE$124","v":27},{"$f":"'1.Profile'!G19+2*Calcs!$AF$124","v":27},{"$f":"'1.Profile'!F19+2*Calcs!$AG$124","v":27},{"$f":"'1.Profile'!H19+2*Calcs!$AH$124","v":27},"from","added",null,"+N/n","Cost of extra nutrient removal, hay&sil",null,null,null,{"$f":"'+Prices'!F21","v":0},0.75,"Less for silage",null,"1/2 for Cotton and legumes, none for pastures"]
[1,"Pre-E: Trifluralin",{"$f":"IF(C12=1,Calcs!$N131,IF(C12=2,Calcs!$O131,IF(C12=3,Calcs!$R131,IF(C12=4,Calcs!$S131,IF(C12=5,Calcs!$Q131,IF(C12=6,Calcs!$P131,IF(C12=7,Calcs!$T131,IF(C12=8,Calcs!$T131,IF(C12=9,Calcs!$T131,0)))))))))","v":0},{"$f":"IF(D12=1,Calcs!$N131,IF(D12=2,Calcs!$O131,IF(D12=3,Calcs!$R131,IF(D12=4,Calcs!$S131,IF(D12=5,Calcs!$Q131,IF(D12=6,Calcs!$P131,IF(D12=7,Calcs!$T131,IF(D12=8,Calcs!$T131,IF(D12=9,Calcs!$T131,0)))))))))","v":0},{"$f":"IF(E12=1,Calcs!$N131,IF(E12=2,Calcs!$O131,IF(E12=3,Calcs!$R131,IF(E12=4,Calcs!$S131,IF(E12=5,Calcs!$Q131,IF(E12=6,Calcs!$P131,IF(E12=7,Calcs!$T131,IF(E12=8,Calcs!$T131,IF(E12=9,Calcs!$T131,0)))))))))","v":0},{"$f":"IF(F12=1,Calcs!$N131,IF(F12=2,Calcs!$O131,IF(F12=3,Calcs!$R131,IF(F12=4,Calcs!$S131,IF(F12=5,Calcs!$Q131,IF(F12=6,Calcs!$P131,IF(F12=7,Calcs!$T131,IF(F12=8,Calcs!$T131,IF(F12=9,Calcs!$T131,0)))))))))","v":24.5},{"$f":"IF(G12=1,Calcs!$N131,IF(G12=2,Calcs!$O131,IF(G12=3,Calcs!$R131,IF(G12=4,Calcs!$S131,IF(G12=5,Calcs!$Q131,IF(G12=6,Calcs!$P131,IF(G12=7,Calcs!$T131,IF(G12=8,Calcs!$T131,IF(G12=9,Calcs!$T131,0)))))))))","v":0},{"$f":"IF(H12=1,Calcs!$N131,IF(H12=2,Calcs!$O131,IF(H12=3,Calcs!$R131,IF(H12=4,Calcs!$S131,IF(H12=5,Calcs!$Q131,IF(H12=6,Calcs!$P131,IF(H12=7,Calcs!$T131,IF(H12=8,Calcs!$T131,IF(H12=9,Calcs!$T131,0)))))))))","v":0},{"$f":"IF(I12=1,Calcs!$N131,IF(I12=2,Calcs!$O131,IF(I12=3,Calcs!$R131,IF(I12=4,Calcs!$S131,IF(I12=5,Calcs!$Q131,IF(I12=6,Calcs!$P131,IF(I12=7,Calcs!$T131,IF(I12=8,Calcs!$T131,IF(I12=9,Calcs!$T131,0)))))))))","v":0},{"$f":"IF(J12=1,Calcs!$N131,IF(J12=2,Calcs!$O131,IF(J12=3,Calcs!$R131,IF(J12=4,Calcs!$S131,IF(J12=5,Calcs!$Q131,IF(J12=6,Calcs!$P131,IF(J12=7,Calcs!$T131,IF(J12=8,Calcs!$T131,IF(J12=9,Calcs!$T131,0)))))))))","v":0},{"$f":"IF(K12=1,Calcs!$N131,IF(K12=2,Calcs!$O131,IF(K12=3,Calcs!$R131,IF(K12=4,Calcs!$S131,IF(K12=5,Calcs!$Q131,IF(K12=6,Calcs!$P131,IF(K12=7,Calcs!$T131,IF(K12=8,Calcs!$T131,IF(K12=9,Calcs!$T131,0)))))))))","v":0},{"$f":"IF(L12=1,Calcs!$N131,IF(L12=2,Calcs!$O131,IF(L12=3,Calcs!$R131,IF(L12=4,Calcs!$S131,IF(L12=5,Calcs!$Q131,IF(L12=6,Calcs!$P131,IF(L12=7,Calcs!$T131,IF(L12=8,Calcs!$T131,IF(L12=9,Calcs!$T131,0)))))))))","v":24.5},null,{"$f":"'1.Profile'!G21+Calcs!$AB$124","v":24.5},{"$f":"'1.Profile'!G21+Calcs!$AC$124","v":24.5},{"$f":"'1.Profile'!E21+Calcs!$AD$124","v":24.5},{"$f":"'1.Profile'!F21+Calcs!$AE$124","v":24.5},{"$f":"'1.Profile'!G21+Calcs!$AF$124","v":24.5},{"$f":"'1.Profile'!F21+Calcs!$AG$124","v":24.5},{"$f":"'1.Profile'!H21+Calcs!$AH$124","v":24.5},"Profile","+boom",null,"-harvest","Cost of harvesting",null,null,null,{"$f":"'+Prices'!AN71","v":16.600000000000001},null,"Subtracted when crops are sacrificed"]
[2,"Pre-E: Diuron",{"$f":"IF(C13=1,Calcs!$N132,IF(C13=2,Calcs!$O132,IF(C13=3,Calcs!$R132,IF(C13=4,Calcs!$S132,IF(C13=5,Calcs!$Q132,IF(C13=6,Calcs!$P132,IF(C13=7,Calcs!$T132,IF(C13=8,Calcs!$T132,IF(C13=9,Calcs!$T132,0)))))))))","v":0},{"$f":"IF(D13=1,Calcs!$N132,IF(D13=2,Calcs!$O132,IF(D13=3,Calcs!$R132,IF(D13=4,Calcs!$S132,IF(D13=5,Calcs!$Q132,IF(D13=6,Calcs!$P132,IF(D13=7,Calcs!$T132,IF(D13=8,Calcs!$T132,IF(D13=9,Calcs!$T132,0)))))))))","v":0},{"$f":"IF(E13=1,Calcs!$N132,IF(E13=2,Calcs!$O132,IF(E13=3,Calcs!$R132,IF(E13=4,Calcs!$S132,IF(E13=5,Calcs!$Q132,IF(E13=6,Calcs!$P132,IF(E13=7,Calcs!$T132,IF(E13=8,Calcs!$T132,IF(E13=9,Calcs!$T132,0)))))))))","v":0},{"$f":"IF(F13=1,Calcs!$N132,IF(F13=2,Calcs!$O132,IF(F13=3,Calcs!$R132,IF(F13=4,Calcs!$S132,IF(F13=5,Calcs!$Q132,IF(F13=6,Calcs!$P132,IF(F13=7,Calcs!$T132,IF(F13=8,Calcs!$T132,IF(F13=9,Calcs!$T132,0)))))))))","v":0},{"$f":"IF(G13=1,Calcs!$N132,IF(G13=2,Calcs!$O132,IF(G13=3,Calcs!$R132,IF(G13=4,Calcs!$S132,IF(G13=5,Calcs!$Q132,IF(G13=6,Calcs!$P132,IF(G13=7,Calcs!$T132,IF(G13=8,Calcs!$T132,IF(G13=9,Calcs!$T132,0)))))))))","v":0},{"$f":"IF(H13=1,Calcs!$N132,IF(H13=2,Calcs!$O132,IF(H13=3,Calcs!$R132,IF(H13=4,Calcs!$S132,IF(H13=5,Calcs!$Q132,IF(H13=6,Calcs!$P132,IF(H13=7,Calcs!$T132,IF(H13=8,Calcs!$T132,IF(H13=9,Calcs!$T132,0)))))))))","v":0},{"$f":"IF(I13=1,Calcs!$N132,IF(I13=2,Calcs!$O132,IF(I13=3,Calcs!$R132,IF(I13=4,Calcs!$S132,IF(I13=5,Calcs!$Q132,IF(I13=6,Calcs!$P132,IF(I13=7,Calcs!$T132,IF(I13=8,Calcs!$T132,IF(I13=9,Calcs!$T132,0)))))))))","v":0},{"$f":"IF(J13=1,Calcs!$N132,IF(J13=2,Calcs!$O132,IF(J13=3,Calcs!$R132,IF(J13=4,Calcs!$S132,IF(J13=5,Calcs!$Q132,IF(J13=6,Calcs!$P132,IF(J13=7,Calcs!$T132,IF(J13=8,Calcs!$T132,IF(J13=9,Calcs!$T132,0)))))))))","v":0},{"$f":"IF(K13=1,Calcs!$N132,IF(K13=2,Calcs!$O132,IF(K13=3,Calcs!$R132,IF(K13=4,Calcs!$S132,IF(K13=5,Calcs!$Q132,IF(K13=6,Calcs!$P132,IF(K13=7,Calcs!$T132,IF(K13=8,Calcs!$T132,IF(K13=9,Calcs!$T132,0)))))))))","v":0},{"$f":"IF(L13=1,Calcs!$N132,IF(L13=2,Calcs!$O132,IF(L13=3,Calcs!$R132,IF(L13=4,Calcs!$S132,IF(L13=5,Calcs!$Q132,IF(L13=6,Calcs!$P132,IF(L13=7,Calcs!$T132,IF(L13=8,Calcs!$T132,IF(L13=9,Calcs!$T132,0)))))))))","v":0},null,{"$f":"'1.Profile'!G22+Calcs!$AB$124","v":19.5},{"$f":"'1.Profile'!G22+Calcs!$AC$124","v":19.5},{"$f":"'1.Profile'!E22+Calcs!$AD$124","v":19.5},{"$f":"'1.Profile'!F22+Calcs!$AE$124","v":19.5},{"$f":"'1.Profile'!G22+Calcs!$AF$124","v":19.5},{"$f":"'1.Profile'!F22+Calcs!$AG$124","v":19.5},{"$f":"'1.Profile'!H22+Calcs!$AH$124","v":19.5},null,"+boom",null,null,"Environmental cost of cultivating",null,null,null,{"$f":"'+Prices'!F25","v":5},"Ratios"]
[3,"Pre-E: Pendimethalin",{"$f":"IF(C14=1,Calcs!$N133,IF(C14=2,Calcs!$O133,IF(C14=3,Calcs!$R133,IF(C14=4,Calcs!$S133,IF(C14=5,Calcs!$Q133,IF(C14=6,Calcs!$P133,IF(C14=7,Calcs!$T133,IF(C14=8,Calcs!$T133,IF(C14=9,Calcs!$T133,0)))))))))","v":0},{"$f":"IF(D14=1,Calcs!$N133,IF(D14=2,Calcs!$O133,IF(D14=3,Calcs!$R133,IF(D14=4,Calcs!$S133,IF(D14=5,Calcs!$Q133,IF(D14=6,Calcs!$P133,IF(D14=7,Calcs!$T133,IF(D14=8,Calcs!$T133,IF(D14=9,Calcs!$T133,0)))))))))","v":0},{"$f":"IF(E14=1,Calcs!$N133,IF(E14=2,Calcs!$O133,IF(E14=3,Calcs!$R133,IF(E14=4,Calcs!$S133,IF(E14=5,Calcs!$Q133,IF(E14=6,Calcs!$P133,IF(E14=7,Calcs!$T133,IF(E14=8,Calcs!$T133,IF(E14=9,Calcs!$T133,0)))))))))","v":0},{"$f":"IF(F14=1,Calcs!$N133,IF(F14=2,Calcs!$O133,IF(F14=3,Calcs!$R133,IF(F14=4,Calcs!$S133,IF(F14=5,Calcs!$Q133,IF(F14=6,Calcs!$P133,IF(F14=7,Calcs!$T133,IF(F14=8,Calcs!$T133,IF(F14=9,Calcs!$T133,0)))))))))","v":0},{"$f":"IF(G14=1,Calcs!$N133,IF(G14=2,Calcs!$O133,IF(G14=3,Calcs!$R133,IF(G14=4,Calcs!$S133,IF(G14=5,Calcs!$Q133,IF(G14=6,Calcs!$P133,IF(G14=7,Calcs!$T133,IF(G14=8,Calcs!$T133,IF(G14=9,Calcs!$T133,0)))))))))","v":39.5},{"$f":"IF(H14=1,Calcs!$N133,IF(H14=2,Calcs!$O133,IF(H14=3,Calcs!$R133,IF(H14=4,Calcs!$S133,IF(H14=5,Calcs!$Q133,IF(H14=6,Calcs!$P133,IF(H14=7,Calcs!$T133,IF(H14=8,Calcs!$T133,IF(H14=9,Calcs!$T133,0)))))))))","v":0},{"$f":"IF(I14=1,Calcs!$N133,IF(I14=2,Calcs!$O133,IF(I14=3,Calcs!$R133,IF(I14=4,Calcs!$S133,IF(I14=5,Calcs!$Q133,IF(I14=6,Calcs!$P133,IF(I14=7,Calcs!$T133,IF(I14=8,Calcs!$T133,IF(I14=9,Calcs!$T133,0)))))))))","v":0},{"$f":"IF(J14=1,Calcs!$N133,IF(J14=2,Calcs!$O133,IF(J14=3,Calcs!$R133,IF(J14=4,Calcs!$S133,IF(J14=5,Calcs!$Q133,IF(J14=6,Calcs!$P133,IF(J14=7,Calcs!$T133,IF(J14=8,Calcs!$T133,IF(J14=9,Calcs!$T133,0)))))))))","v":0},{"$f":"IF(K14=1,Calcs!$N133,IF(K14=2,Calcs!$O133,IF(K14=3,Calcs!$R133,IF(K14=4,Calcs!$S133,IF(K14=5,Calcs!$Q133,IF(K14=6,Calcs!$P133,IF(K14=7,Calcs!$T133,IF(K14=8,Calcs!$T133,IF(K14=9,Calcs!$T133,0)))))))))","v":0},{"$f":"IF(L14=1,Calcs!$N133,IF(L14=2,Calcs!$O133,IF(L14=3,Calcs!$R133,IF(L14=4,Calcs!$S133,IF(L14=5,Calcs!$Q133,IF(L14=6,Calcs!$P133,IF(L14=7,Calcs!$T133,IF(L14=8,Calcs!$T133,IF(L14=9,Calcs!$T133,0)))))))))","v":0},null,{"$f":"'1.Profile'!G23+Calcs!$AB$124","v":39.5},{"$f":"'1.Profile'!G23+Calcs!$AC$124","v":39.5},{"$f":"'1.Profile'!E23+Calcs!$AD$124","v":39.5},{"$f":"'1.Profile'!F23+Calcs!$AE$124","v":39.5},{"$f":"'1.Profile'!G23+Calcs!$AF$124","v":39.5},{"$f":"'1.Profile'!F23+Calcs!$AG$124","v":39.5},{"$f":"'1.Profile'!H23+Calcs!$AH$124","v":39.5},null,"+2xboom",null,"+F","Envir. cost of whole paddock burning",null,null,null,{"$f":"AC132*AD133","v":3.5},0.7]
[4,"Pre-E: s-Metolachlor",{"$f":"IF(C15=1,Calcs!$N134,IF(C15=2,Calcs!$O134,IF(C15=3,Calcs!$R134,IF(C15=4,Calcs!$S134,IF(C15=5,Calcs!$Q134,IF(C15=6,Calcs!$P134,IF(C15=7,Calcs!$T134,IF(C15=8,Calcs!$T134,IF(C15=9,Calcs!$T134,0)))))))))","v":0},{"$f":"IF(D15=1,Calcs!$N134,IF(D15=2,Calcs!$O134,IF(D15=3,Calcs!$R134,IF(D15=4,Calcs!$S134,IF(D15=5,Calcs!$Q134,IF(D15=6,Calcs!$P134,IF(D15=7,Calcs!$T134,IF(D15=8,Calcs!$T134,IF(D15=9,Calcs!$T134,0)))))))))","v":0},{"$f":"IF(E15=1,Calcs!$N134,IF(E15=2,Calcs!$O134,IF(E15=3,Calcs!$R134,IF(E15=4,Calcs!$S134,IF(E15=5,Calcs!$Q134,IF(E15=6,Calcs!$P134,IF(E15=7,Calcs!$T134,IF(E15=8,Calcs!$T134,IF(E15=9,Calcs!$T134,0)))))))))","v":0},{"$f":"IF(F15=1,Calcs!$N134,IF(F15=2,Calcs!$O134,IF(F15=3,Calcs!$R134,IF(F15=4,Calcs!$S134,IF(F15=5,Calcs!$Q134,IF(F15=6,Calcs!$P134,IF(F15=7,Calcs!$T134,IF(F15=8,Calcs!$T134,IF(F15=9,Calcs!$T134,0)))))))))","v":0},{"$f":"IF(G15=1,Calcs!$N134,IF(G15=2,Calcs!$O134,IF(G15=3,Calcs!$R134,IF(G15=4,Calcs!$S134,IF(G15=5,Calcs!$Q134,IF(G15=6,Calcs!$P134,IF(G15=7,Calcs!$T134,IF(G15=8,Calcs!$T134,IF(G15=9,Calcs!$T134,0)))))))))","v":0},{"$f":"IF(H15=1,Calcs!$N134,IF(H15=2,Calcs!$O134,IF(H15=3,Calcs!$R134,IF(H15=4,Calcs!$S134,IF(H15=5,Calcs!$Q134,IF(H15=6,Calcs!$P134,IF(H15=7,Calcs!$T134,IF(H15=8,Calcs!$T134,IF(H15=9,Calcs!$T134,0)))))))))","v":34.5},{"$f":"IF(I15=1,Calcs!$N134,IF(I15=2,Calcs!$O134,IF(I15=3,Calcs!$R134,IF(I15=4,Calcs!$S134,IF(I15=5,Calcs!$Q134,IF(I15=6,Calcs!$P134,IF(I15=7,Calcs!$T134,IF(I15=8,Calcs!$T134,IF(I15=9,Calcs!$T134,0)))))))))","v":0},{"$f":"IF(J15=1,Calcs!$N134,IF(J15=2,Calcs!$O134,IF(J15=3,Calcs!$R134,IF(J15=4,Calcs!$S134,IF(J15=5,Calcs!$Q134,IF(J15=6,Calcs!$P134,IF(J15=7,Calcs!$T134,IF(J15=8,Calcs!$T134,IF(J15=9,Calcs!$T134,0)))))))))","v":0},{"$f":"IF(K15=1,Calcs!$N134,IF(K15=2,Calcs!$O134,IF(K15=3,Calcs!$R134,IF(K15=4,Calcs!$S134,IF(K15=5,Calcs!$Q134,IF(K15=6,Calcs!$P134,IF(K15=7,Calcs!$T134,IF(K15=8,Calcs!$T134,IF(K15=9,Calcs!$T134,0)))))))))","v":0},{"$f":"IF(L15=1,Calcs!$N134,IF(L15=2,Calcs!$O134,IF(L15=3,Calcs!$R134,IF(L15=4,Calcs!$S134,IF(L15=5,Calcs!$Q134,IF(L15=6,Calcs!$P134,IF(L15=7,Calcs!$T134,IF(L15=8,Calcs!$T134,IF(L15=9,Calcs!$T134,0)))))))))","v":0},null,{"$f":"'1.Profile'!G24+Calcs!$AB$124","v":29.5},{"$f":"'1.Profile'!G24+Calcs!$AC$124","v":29.5},{"$f":"'1.Profile'!E24+Calcs!$AD$124","v":34.5},{"$f":"'1.Profile'!F24+Calcs!$AE$124","v":29.5},{"$f":"'1.Profile'!G24+Calcs!$AF$124","v":29.5},{"$f":"'1.Profile'!F24+Calcs!$AG$124","v":29.5},{"$f":"'1.Profile'!H24+Calcs!$AH$124","v":34.5},"Profile","+boom",null,"+f","Envir. cost of limited burning (fire risk)",null,null,null,{"$f":"AC132*AD134","v":1.5},0.3]
[5,"Pre-E: Fluometuron+Prometryn",{"$f":"IF(C16=1,Calcs!$N135,IF(C16=2,Calcs!$O135,IF(C16=3,Calcs!$R135,IF(C16=4,Calcs!$S135,IF(C16=5,Calcs!$Q135,IF(C16=6,Calcs!$P135,IF(C16=7,Calcs!$T135,IF(C16=8,Calcs!$T135,IF(C16=9,Calcs!$T135,0)))))))))","v":0},{"$f":"IF(D16=1,Calcs!$N135,IF(D16=2,Calcs!$O135,IF(D16=3,Calcs!$R135,IF(D16=4,Calcs!$S135,IF(D16=5,Calcs!$Q135,IF(D16=6,Calcs!$P135,IF(D16=7,Calcs!$T135,IF(D16=8,Calcs!$T135,IF(D16=9,Calcs!$T135,0)))))))))","v":0},{"$f":"IF(E16=1,Calcs!$N135,IF(E16=2,Calcs!$O135,IF(E16=3,Calcs!$R135,IF(E16=4,Calcs!$S135,IF(E16=5,Calcs!$Q135,IF(E16=6,Calcs!$P135,IF(E16=7,Calcs!$T135,IF(E16=8,Calcs!$T135,IF(E16=9,Calcs!$T135,0)))))))))","v":0},{"$f":"IF(F16=1,Calcs!$N135,IF(F16=2,Calcs!$O135,IF(F16=3,Calcs!$R135,IF(F16=4,Calcs!$S135,IF(F16=5,Calcs!$Q135,IF(F16=6,Calcs!$P135,IF(F16=7,Calcs!$T135,IF(F16=8,Calcs!$T135,IF(F16=9,Calcs!$T135,0)))))))))","v":0},{"$f":"IF(G16=1,Calcs!$N135,IF(G16=2,Calcs!$O135,IF(G16=3,Calcs!$R135,IF(G16=4,Calcs!$S135,IF(G16=5,Calcs!$Q135,IF(G16=6,Calcs!$P135,IF(G16=7,Calcs!$T135,IF(G16=8,Calcs!$T135,IF(G16=9,Calcs!$T135,0)))))))))","v":0},{"$f":"IF(H16=1,Calcs!$N135,IF(H16=2,Calcs!$O135,IF(H16=3,Calcs!$R135,IF(H16=4,Calcs!$S135,IF(H16=5,Calcs!$Q135,IF(H16=6,Calcs!$P135,IF(H16=7,Calcs!$T135,IF(H16=8,Calcs!$T135,IF(H16=9,Calcs!$T135,0)))))))))","v":0},{"$f":"IF(I16=1,Calcs!$N135,IF(I16=2,Calcs!$O135,IF(I16=3,Calcs!$R135,IF(I16=4,Calcs!$S135,IF(I16=5,Calcs!$Q135,IF(I16=6,Calcs!$P135,IF(I16=7,Calcs!$T135,IF(I16=8,Calcs!$T135,IF(I16=9,Calcs!$T135,0)))))))))","v":0},{"$f":"IF(J16=1,Calcs!$N135,IF(J16=2,Calcs!$O135,IF(J16=3,Calcs!$R135,IF(J16=4,Calcs!$S135,IF(J16=5,Calcs!$Q135,IF(J16=6,Calcs!$P135,IF(J16=7,Calcs!$T135,IF(J16=8,Calcs!$T135,IF(J16=9,Calcs!$T135,0)))))))))","v":0},{"$f":"IF(K16=1,Calcs!$N135,IF(K16=2,Calcs!$O135,IF(K16=3,Calcs!$R135,IF(K16=4,Calcs!$S135,IF(K16=5,Calcs!$Q135,IF(K16=6,Calcs!$P135,IF(K16=7,Calcs!$T135,IF(K16=8,Calcs!$T135,IF(K16=9,Calcs!$T135,0)))))))))","v":0},{"$f":"IF(L16=1,Calcs!$N135,IF(L16=2,Calcs!$O135,IF(L16=3,Calcs!$R135,IF(L16=4,Calcs!$S135,IF(L16=5,Calcs!$Q135,IF(L16=6,Calcs!$P135,IF(L16=7,Calcs!$T135,IF(L16=8,Calcs!$T135,IF(L16=9,Calcs!$T135,0)))))))))","v":0},null,{"$f":"'1.Profile'!G25+Calcs!$AB$124","v":64.5},{"$f":"'1.Profile'!G25+Calcs!$AC$124","v":64.5},{"$f":"'1.Profile'!E25+Calcs!$AD$124","v":64.5},{"$f":"'1.Profile'!F25+Calcs!$AE$124","v":64.5},{"$f":"'1.Profile'!G25+Calcs!$AF$124","v":64.5},{"$f":"'1.Profile'!F25+Calcs!$AG$124","v":64.5},{"$f":"'1.Profile'!H25+Calcs!$AH$124","v":64.5},null,"+boom"]
[6,"High crop seeding rate selected",{"$f":"IF(C17=1,Calcs!$N136,IF(C17=2,Calcs!$O136,IF(C17=3,Calcs!$R136,IF(C17=4,Calcs!$S136,IF(C17=5,Calcs!$Q136,IF(C17=6,Calcs!$P136,IF(C17=7,0,0)))))))","v":0},{"$f":"IF(D17=1,Calcs!$N136,IF(D17=2,Calcs!$O136,IF(D17=3,Calcs!$R136,IF(D17=4,Calcs!$S136,IF(D17=5,Calcs!$Q136,IF(D17=6,Calcs!$P136,IF(D17=7,0,0)))))))","v":0},{"$f":"IF(E17=1,Calcs!$N136,IF(E17=2,Calcs!$O136,IF(E17=3,Calcs!$R136,IF(E17=4,Calcs!$S136,IF(E17=5,Calcs!$Q136,IF(E17=6,Calcs!$P136,IF(E17=7,0,0)))))))","v":0},{"$f":"IF(F17=1,Calcs!$N136,IF(F17=2,Calcs!$O136,IF(F17=3,Calcs!$R136,IF(F17=4,Calcs!$S136,IF(F17=5,Calcs!$Q136,IF(F17=6,Calcs!$P136,IF(F17=7,0,0)))))))","v":0},{"$f":"IF(G17=1,Calcs!$N136,IF(G17=2,Calcs!$O136,IF(G17=3,Calcs!$R136,IF(G17=4,Calcs!$S136,IF(G17=5,Calcs!$Q136,IF(G17=6,Calcs!$P136,IF(G17=7,0,0)))))))","v":0},{"$f":"IF(H17=1,Calcs!$N136,IF(H17=2,Calcs!$O136,IF(H17=3,Calcs!$R136,IF(H17=4,Calcs!$S136,IF(H17=5,Calcs!$Q136,IF(H17=6,Calcs!$P136,IF(H17=7,0,0)))))))","v":0},{"$f":"IF(I17=1,Calcs!$N136,IF(I17=2,Calcs!$O136,IF(I17=3,Calcs!$R136,IF(I17=4,Calcs!$S136,IF(I17=5,Calcs!$Q136,IF(I17=6,Calcs!$P136,IF(I17=7,0,0)))))))","v":0},{"$f":"IF(J17=1,Calcs!$N136,IF(J17=2,Calcs!$O136,IF(J17=3,Calcs!$R136,IF(J17=4,Calcs!$S136,IF(J17=5,Calcs!$Q136,IF(J17=6,Calcs!$P136,IF(J17=7,0,0)))))))","v":0},{"$f":"IF(K17=1,Calcs!$N136,IF(K17=2,Calcs!$O136,IF(K17=3,Calcs!$R136,IF(K17=4,Calcs!$S136,IF(K17=5,Calcs!$Q136,IF(K17=6,Calcs!$P136,IF(K17=7,0,0)))))))","v":0},{"$f":"IF(L17=1,Calcs!$N136,IF(L17=2,Calcs!$O136,IF(L17=3,Calcs!$R136,IF(L17=4,Calcs!$S136,IF(L17=5,Calcs!$Q136,IF(L17=6,Calcs!$P136,IF(L17=7,0,0)))))))","v":0},null,{"$f":"'+Prices'!AL100","v":11.666666666666666},{"$f":"'+Prices'!AL100","v":11.666666666666666},{"$f":"'+Prices'!AJ100","v":3.0769230769230771},{"$f":"'+Prices'!AK100","v":3.3128571428571427},{"$f":"'+Prices'!AM100","v":5},{"$f":"'+Prices'!AN100","v":13.333333333333332},{"$f":"'+Prices'!AQ100","v":0},null,"+boom"]
[7,"Tickle selected",{"$f":"IF(C18=1,Calcs!$N137,IF(C18=2,Calcs!$O137,IF(C18=3,Calcs!$R137,IF(C18=4,Calcs!$S137,IF(C18=5,Calcs!$Q137,IF(C18=6,Calcs!$P137,IF(C18=7,Calcs!$T137,IF(C18=8,Calcs!$T137,IF(C18=9,Calcs!$T137,0)))))))))","v":0},{"$f":"IF(D18=1,Calcs!$N137,IF(D18=2,Calcs!$O137,IF(D18=3,Calcs!$R137,IF(D18=4,Calcs!$S137,IF(D18=5,Calcs!$Q137,IF(D18=6,Calcs!$P137,IF(D18=7,Calcs!$T137,IF(D18=8,Calcs!$T137,IF(D18=9,Calcs!$T137,0)))))))))","v":0},{"$f":"IF(E18=1,Calcs!$N137,IF(E18=2,Calcs!$O137,IF(E18=3,Calcs!$R137,IF(E18=4,Calcs!$S137,IF(E18=5,Calcs!$Q137,IF(E18=6,Calcs!$P137,IF(E18=7,Calcs!$T137,IF(E18=8,Calcs!$T137,IF(E18=9,Calcs!$T137,0)))))))))","v":0},{"$f":"IF(F18=1,Calcs!$N137,IF(F18=2,Calcs!$O137,IF(F18=3,Calcs!$R137,IF(F18=4,Calcs!$S137,IF(F18=5,Calcs!$Q137,IF(F18=6,Calcs!$P137,IF(F18=7,Calcs!$T137,IF(F18=8,Calcs!$T137,IF(F18=9,Calcs!$T137,0)))))))))","v":6.3000000000000007},{"$f":"IF(G18=1,Calcs!$N137,IF(G18=2,Calcs!$O137,IF(G18=3,Calcs!$R137,IF(G18=4,Calcs!$S137,IF(G18=5,Calcs!$Q137,IF(G18=6,Calcs!$P137,IF(G18=7,Calcs!$T137,IF(G18=8,Calcs!$T137,IF(G18=9,Calcs!$T137,0)))))))))","v":0},{"$f":"IF(H18=1,Calcs!$N137,IF(H18=2,Calcs!$O137,IF(H18=3,Calcs!$R137,IF(H18=4,Calcs!$S137,IF(H18=5,Calcs!$Q137,IF(H18=6,Calcs!$P137,IF(H18=7,Calcs!$T137,IF(H18=8,Calcs!$T137,IF(H18=9,Calcs!$T137,0)))))))))","v":0},{"$f":"IF(I18=1,Calcs!$N137,IF(I18=2,Calcs!$O137,IF(I18=3,Calcs!$R137,IF(I18=4,Calcs!$S137,IF(I18=5,Calcs!$Q137,IF(I18=6,Calcs!$P137,IF(I18=7,Calcs!$T137,IF(I18=8,Calcs!$T137,IF(I18=9,Calcs!$T137,0)))))))))","v":0},{"$f":"IF(J18=1,Calcs!$N137,IF(J18=2,Calcs!$O137,IF(J18=3,Calcs!$R137,IF(J18=4,Calcs!$S137,IF(J18=5,Calcs!$Q137,IF(J18=6,Calcs!$P137,IF(J18=7,Calcs!$T137,IF(J18=8,Calcs!$T137,IF(J18=9,Calcs!$T137,0)))))))))","v":0},{"$f":"IF(K18=1,Calcs!$N137,IF(K18=2,Calcs!$O137,IF(K18=3,Calcs!$R137,IF(K18=4,Calcs!$S137,IF(K18=5,Calcs!$Q137,IF(K18=6,Calcs!$P137,IF(K18=7,Calcs!$T137,IF(K18=8,Calcs!$T137,IF(K18=9,Calcs!$T137,0)))))))))","v":6.3000000000000007},{"$f":"IF(L18=1,Calcs!$N137,IF(L18=2,Calcs!$O137,IF(L18=3,Calcs!$R137,IF(L18=4,Calcs!$S137,IF(L18=5,Calcs!$Q137,IF(L18=6,Calcs!$P137,IF(L18=7,Calcs!$T137,IF(L18=8,Calcs!$T137,IF(L18=9,Calcs!$T137,0)))))))))","v":0},null,{"$f":"'+Prices'!$AJ$97","v":6.3000000000000007},{"$f":"'+Prices'!$AL$97","v":6.3000000000000007},{"$f":"'+Prices'!$AJ$97","v":6.3000000000000007},{"$f":"'+Prices'!$AK$97","v":6.3000000000000007},{"$f":"'+Prices'!$AL$97","v":6.3000000000000007},{"$f":"'+Prices'!$AM$97","v":6.3000000000000007},{"$f":"'+Prices'!$AJ$97","v":6.3000000000000007},null,"+boom"]
[8,"Cultivate selected",{"$f":"IF(C19=1,Calcs!$N138,IF(C19=2,Calcs!$O138,IF(C19=3,Calcs!$R138,IF(C19=4,Calcs!$S138,IF(C19=5,Calcs!$Q138,IF(C19=6,Calcs!$P138,IF(C19=7,Calcs!$T138,IF(C19=8,Calcs!$T138,IF(C19=9,Calcs!$T138,0)))))))))","v":12.600000000000001},{"$f":"IF(D19=1,Calcs!$N138,IF(D19=2,Calcs!$O138,IF(D19=3,Calcs!$R138,IF(D19=4,Calcs!$S138,IF(D19=5,Calcs!$Q138,IF(D19=6,Calcs!$P138,IF(D19=7,Calcs!$T138,IF(D19=8,Calcs!$T138,IF(D19=9,Calcs!$T138,0)))))))))","v":0},{"$f":"IF(E19=1,Calcs!$N138,IF(E19=2,Calcs!$O138,IF(E19=3,Calcs!$R138,IF(E19=4,Calcs!$S138,IF(E19=5,Calcs!$Q138,IF(E19=6,Calcs!$P138,IF(E19=7,Calcs!$T138,IF(E19=8,Calcs!$T138,IF(E19=9,Calcs!$T138,0)))))))))","v":12.600000000000001},{"$f":"IF(F19=1,Calcs!$N138,IF(F19=2,Calcs!$O138,IF(F19=3,Calcs!$R138,IF(F19=4,Calcs!$S138,IF(F19=5,Calcs!$Q138,IF(F19=6,Calcs!$P138,IF(F19=7,Calcs!$T138,IF(F19=8,Calcs!$T138,IF(F19=9,Calcs!$T138,0)))))))))","v":0},{"$f":"IF(G19=1,Calcs!$N138,IF(G19=2,Calcs!$O138,IF(G19=3,Calcs!$R138,IF(G19=4,Calcs!$S138,IF(G19=5,Calcs!$Q138,IF(G19=6,Calcs!$P138,IF(G19=7,Calcs!$T138,IF(G19=8,Calcs!$T138,IF(G19=9,Calcs!$T138,0)))))))))","v":12.600000000000001},{"$f":"IF(H19=1,Calcs!$N138,IF(H19=2,Calcs!$O138,IF(H19=3,Calcs!$R138,IF(H19=4,Calcs!$S138,IF(H19=5,Calcs!$Q138,IF(H19=6,Calcs!$P138,IF(H19=7,Calcs!$T138,IF(H19=8,Calcs!$T138,IF(H19=9,Calcs!$T138,0)))))))))","v":0},{"$f":"IF(I19=1,Calcs!$N138,IF(I19=2,Calcs!$O138,IF(I19=3,Calcs!$R138,IF(I19=4,Calcs!$S138,IF(I19=5,Calcs!$Q138,IF(I19=6,Calcs!$P138,IF(I19=7,Calcs!$T138,IF(I19=8,Calcs!$T138,IF(I19=9,Calcs!$T138,0)))))))))","v":12.600000000000001},{"$f":"IF(J19=1,Calcs!$N138,IF(J19=2,Calcs!$O138,IF(J19=3,Calcs!$R138,IF(J19=4,Calcs!$S138,IF(J19=5,Calcs!$Q138,IF(J19=6,Calcs!$P138,IF(J19=7,Calcs!$T138,IF(J19=8,Calcs!$T138,IF(J19=9,Calcs!$T138,0)))))))))","v":0},{"$f":"IF(K19=1,Calcs!$N138,IF(K19=2,Calcs!$O138,IF(K19=3,Calcs!$R138,IF(K19=4,Calcs!$S138,IF(K19=5,Calcs!$Q138,IF(K19=6,Calcs!$P138,IF(K19=7,Calcs!$T138,IF(K19=8,Calcs!$T138,IF(K19=9,Calcs!$T138,0)))))))))","v":0},{"$f":"IF(L19=1,Calcs!$N138,IF(L19=2,Calcs!$O138,IF(L19=3,Calcs!$R138,IF(L19=4,Calcs!$S138,IF(L19=5,Calcs!$Q138,IF(L19=6,Calcs!$P138,IF(L19=7,Calcs!$T138,IF(L19=8,Calcs!$T138,IF(L19=9,Calcs!$T138,0)))))))))","v":0},null,{"$f":"'+Prices'!$AJ$98","v":12.600000000000001},{"$f":"'+Prices'!$AL$98","v":12.600000000000001},{"$f":"'+Prices'!$AJ$98","v":12.600000000000001},{"$f":"'+Prices'!$AK$98","v":12.600000000000001},{"$f":"'+Prices'!$AL$98","v":12.600000000000001},{"$f":"'+Prices'!$AM$98","v":12.600000000000001},{"$f":"'+Prices'!$AJ$98","v":12.600000000000001},null,"+boom"]
[9,null,"Codes #1: 1=wc, 2=Sorghum, 3=corn, 4=beans, 5=d/l cotton, 6=irri cotton, 7=cover crop, 8=wf, 9=sf",null,null,null,null,null,null,null,null,null,null,null,null,null,null,null,null,null,"Prices"]
[10,{"$f":"B21","v":"Very early sowing"},null,"Since sowing must occur anyway, the cost attributable to weed control is zero and ",null,null,null,null,null,null,null,null,null,null,null,null,null,null,null,null,"Prices"]
[11,"Early sowing",null,"included instead in the non-weed control costs, from the Prices page to the ",null,null,null,null,null,null,null,null,null,null,null,null,null,null,null,null,"Prices"]
[12,"Average sowing time",null,"Production cost table below, to the Eco results.",null,null,null,null,null,null,null,null,null,null,null,null,null,null,null,null,"Prices"]
[13,"Sow late",null,"Yield penalty accounted for in 'Bio results'."]
[14,"Post-E 1: Glyphosate",{"$f":"IF(C25=1,Calcs!$N144,IF(C25=2,Calcs!$O144,IF(C25=3,Calcs!$R144,IF(C25=4,Calcs!$S144,IF(C25=5,Calcs!$Q144,IF(C25=6,Calcs!$P144,IF(C25=7,Calcs!$T144,IF(C25=8,Calcs!$T144,IF(C25=9,Calcs!$T144,0)))))))))","v":15.5},{"$f":"IF(D25=1,Calcs!$N144,IF(D25=2,Calcs!$O144,IF(D25=3,Calcs!$R144,IF(D25=4,Calcs!$S144,IF(D25=5,Calcs!$Q144,IF(D25=6,Calcs!$P144,IF(D25=7,Calcs!$T144,IF(D25=8,Calcs!$T144,IF(D25=9,Calcs!$T144,0)))))))))","v":0},{"$f":"IF(E25=1,Calcs!$N144,IF(E25=2,Calcs!$O144,IF(E25=3,Calcs!$R144,IF(E25=4,Calcs!$S144,IF(E25=5,Calcs!$Q144,IF(E25=6,Calcs!$P144,IF(E25=7,Calcs!$T144,IF(E25=8,Calcs!$T144,IF(E25=9,Calcs!$T144,0)))))))))","v":15.5},{"$f":"IF(F25=1,Calcs!$N144,IF(F25=2,Calcs!$O144,IF(F25=3,Calcs!$R144,IF(F25=4,Calcs!$S144,IF(F25=5,Calcs!$Q144,IF(F25=6,Calcs!$P144,IF(F25=7,Calcs!$T144,IF(F25=8,Calcs!$T144,IF(F25=9,Calcs!$T144,0)))))))))","v":0},{"$f":"IF(G25=1,Calcs!$N144,IF(G25=2,Calcs!$O144,IF(G25=3,Calcs!$R144,IF(G25=4,Calcs!$S144,IF(G25=5,Calcs!$Q144,IF(G25=6,Calcs!$P144,IF(G25=7,Calcs!$T144,IF(G25=8,Calcs!$T144,IF(G25=9,Calcs!$T144,0)))))))))","v":15.5},{"$f":"IF(H25=1,Calcs!$N144,IF(H25=2,Calcs!$O144,IF(H25=3,Calcs!$R144,IF(H25=4,Calcs!$S144,IF(H25=5,Calcs!$Q144,IF(H25=6,Calcs!$P144,IF(H25=7,Calcs!$T144,IF(H25=8,Calcs!$T144,IF(H25=9,Calcs!$T144,0)))))))))","v":0},{"$f":"IF(I25=1,Calcs!$N144,IF(I25=2,Calcs!$O144,IF(I25=3,Calcs!$R144,IF(I25=4,Calcs!$S144,IF(I25=5,Calcs!$Q144,IF(I25=6,Calcs!$P144,IF(I25=7,Calcs!$T144,IF(I25=8,Calcs!$T144,IF(I25=9,Calcs!$T144,0)))))))))","v":0},{"$f":"IF(J25=1,Calcs!$N144,IF(J25=2,Calcs!$O144,IF(J25=3,Calcs!$R144,IF(J25=4,Calcs!$S144,IF(J25=5,Calcs!$Q144,IF(J25=6,Calcs!$P144,IF(J25=7,Calcs!$T144,IF(J25=8,Calcs!$T144,IF(J25=9,Calcs!$T144,0)))))))))","v":0},{"$f":"IF(K25=1,Calcs!$N144,IF(K25=2,Calcs!$O144,IF(K25=3,Calcs!$R144,IF(K25=4,Calcs!$S144,IF(K25=5,Calcs!$Q144,IF(K25=6,Calcs!$P144,IF(K25=7,Calcs!$T144,IF(K25=8,Calcs!$T144,IF(K25=9,Calcs!$T144,0)))))))))","v":15.5},{"$f":"IF(L25=1,Calcs!$N144,IF(L25=2,Calcs!$O144,IF(L25=3,Calcs!$R144,IF(L25=4,Calcs!$S144,IF(L25=5,Calcs!$Q144,IF(L25=6,Calcs!$P144,IF(L25=7,Calcs!$T144,IF(L25=8,Calcs!$T144,IF(L25=9,Calcs!$T144,0)))))))))","v":12.5},null,{"$f":"'1.Profile'!G27+Calcs!$AB$124","v":15.5},{"$f":"'1.Profile'!G27+Calcs!$AC$124","v":15.5},{"$f":"'1.Profile'!E27+Calcs!$AD$124","v":15.5},{"$f":"'1.Profile'!F27+Calcs!$AE$124","v":15.5},{"$f":"'1.Profile'!G27+Calcs!$AF$124","v":15.5},{"$f":"'1.Profile'!F27+Calcs!$AG$124","v":15.5},{"$f":"'1.Profile'!H27+Calcs!$AH$124","v":12.5}]
[15,"Post-E 1: Glufosinate",{"$f":"IF(C26=1,Calcs!$N145,IF(C26=2,Calcs!$O145,IF(C26=3,Calcs!$R145,IF(C26=4,Calcs!$S145,IF(C26=5,Calcs!$Q145,IF(C26=6,Calcs!$P145,IF(C26=7,Calcs!$T145,IF(C26=8,Calcs!$T145,IF(C26=9,Calcs!$T145,0)))))))))","v":0},{"$f":"IF(D26=1,Calcs!$N145,IF(D26=2,Calcs!$O145,IF(D26=3,Calcs!$R145,IF(D26=4,Calcs!$S145,IF(D26=5,Calcs!$Q145,IF(D26=6,Calcs!$P145,IF(D26=7,Calcs!$T145,IF(D26=8,Calcs!$T145,IF(D26=9,Calcs!$T145,0)))))))))","v":0},{"$f":"IF(E26=1,Calcs!$N145,IF(E26=2,Calcs!$O145,IF(E26=3,Calcs!$R145,IF(E26=4,Calcs!$S145,IF(E26=5,Calcs!$Q145,IF(E26=6,Calcs!$P145,IF(E26=7,Calcs!$T145,IF(E26=8,Calcs!$T145,IF(E26=9,Calcs!$T145,0)))))))))","v":0},{"$f":"IF(F26=1,Calcs!$N145,IF(F26=2,Calcs!$O145,IF(F26=3,Calcs!$R145,IF(F26=4,Calcs!$S145,IF(F26=5,Calcs!$Q145,IF(F26=6,Calcs!$P145,IF(F26=7,Calcs!$T145,IF(F26=8,Calcs!$T145,IF(F26=9,Calcs!$T145,0)))))))))","v":0},{"$f":"IF(G26=1,Calcs!$N145,IF(G26=2,Calcs!$O145,IF(G26=3,Calcs!$R145,IF(G26=4,Calcs!$S145,IF(G26=5,Calcs!$Q145,IF(G26=6,Calcs!$P145,IF(G26=7,Calcs!$T145,IF(G26=8,Calcs!$T145,IF(G26=9,Calcs!$T145,0)))))))))","v":0},{"$f":"IF(H26=1,Calcs!$N145,IF(H26=2,Calcs!$O145,IF(H26=3,Calcs!$R145,IF(H26=4,Calcs!$S145,IF(H26=5,Calcs!$Q145,IF(H26=6,Calcs!$P145,IF(H26=7,Calcs!$T145,IF(H26=8,Calcs!$T145,IF(H26=9,Calcs!$T145,0)))))))))","v":0},{"$f":"IF(I26=1,Calcs!$N145,IF(I26=2,Calcs!$O145,IF(I26=3,Calcs!$R145,IF(I26=4,Calcs!$S145,IF(I26=5,Calcs!$Q145,IF(I26=6,Calcs!$P145,IF(I26=7,Calcs!$T145,IF(I26=8,Calcs!$T145,IF(I26=9,Calcs!$T145,0)))))))))","v":0},{"$f":"IF(J26=1,Calcs!$N145,IF(J26=2,Calcs!$O145,IF(J26=3,Calcs!$R145,IF(J26=4,Calcs!$S145,IF(J26=5,Calcs!$Q145,IF(J26=6,Calcs!$P145,IF(J26=7,Calcs!$T145,IF(J26=8,Calcs!$T145,IF(J26=9,Calcs!$T145,0)))))))))","v":0},{"$f":"IF(K26=1,Calcs!$N145,IF(K26=2,Calcs!$O145,IF(K26=3,Calcs!$R145,IF(K26=4,Calcs!$S145,IF(K26=5,Calcs!$Q145,IF(K26=6,Calcs!$P145,IF(K26=7,Calcs!$T145,IF(K26=8,Calcs!$T145,IF(K26=9,Calcs!$T145,0)))))))))","v":0},{"$f":"IF(L26=1,Calcs!$N145,IF(L26=2,Calcs!$O145,IF(L26=3,Calcs!$R145,IF(L26=4,Calcs!$S145,IF(L26=5,Calcs!$Q145,IF(L26=6,Calcs!$P145,IF(L26=7,Calcs!$T145,IF(L26=8,Calcs!$T145,IF(L26=9,Calcs!$T145,0)))))))))","v":0},null,{"$f":"'1.Profile'!G28+Calcs!$AB$124","v":22.5},{"$f":"'1.Profile'!G28+Calcs!$AC$124","v":22.5},{"$f":"'1.Profile'!E28+Calcs!$AD$124","v":22.5},{"$f":"'1.Profile'!F28+Calcs!$AE$124","v":22.5},{"$f":"'1.Profile'!G28+Calcs!$AF$124","v":22.5},{"$f":"'1.Profile'!F28+Calcs!$AG$124","v":22.5},{"$f":"'1.Profile'!H28+Calcs!$AH$124","v":22.5}]
[16,"Post-E 1: Paraquat (shielded)",{"$f":"IF(C27=1,Calcs!$N146,IF(C27=2,Calcs!$O146,IF(C27=3,Calcs!$R146,IF(C27=4,Calcs!$S146,IF(C27=5,Calcs!$Q146,IF(C27=6,Calcs!$P146,IF(C27=7,Calcs!$T146,IF(C27=8,Calcs!$T146,IF(C27=9,Calcs!$T146,0)))))))))","v":0},{"$f":"IF(D27=1,Calcs!$N146,IF(D27=2,Calcs!$O146,IF(D27=3,Calcs!$R146,IF(D27=4,Calcs!$S146,IF(D27=5,Calcs!$Q146,IF(D27=6,Calcs!$P146,IF(D27=7,Calcs!$T146,IF(D27=8,Calcs!$T146,IF(D27=9,Calcs!$T146,0)))))))))","v":0},{"$f":"IF(E27=1,Calcs!$N146,IF(E27=2,Calcs!$O146,IF(E27=3,Calcs!$R146,IF(E27=4,Calcs!$S146,IF(E27=5,Calcs!$Q146,IF(E27=6,Calcs!$P146,IF(E27=7,Calcs!$T146,IF(E27=8,Calcs!$T146,IF(E27=9,Calcs!$T146,0)))))))))","v":0},{"$f":"IF(F27=1,Calcs!$N146,IF(F27=2,Calcs!$O146,IF(F27=3,Calcs!$R146,IF(F27=4,Calcs!$S146,IF(F27=5,Calcs!$Q146,IF(F27=6,Calcs!$P146,IF(F27=7,Calcs!$T146,IF(F27=8,Calcs!$T146,IF(F27=9,Calcs!$T146,0)))))))))","v":0},{"$f":"IF(G27=1,Calcs!$N146,IF(G27=2,Calcs!$O146,IF(G27=3,Calcs!$R146,IF(G27=4,Calcs!$S146,IF(G27=5,Calcs!$Q146,IF(G27=6,Calcs!$P146,IF(G27=7,Calcs!$T146,IF(G27=8,Calcs!$T146,IF(G27=9,Calcs!$T146,0)))))))))","v":0},{"$f":"IF(H27=1,Calcs!$N146,IF(H27=2,Calcs!$O146,IF(H27=3,Calcs!$R146,IF(H27=4,Calcs!$S146,IF(H27=5,Calcs!$Q146,IF(H27=6,Calcs!$P146,IF(H27=7,Calcs!$T146,IF(H27=8,Calcs!$T146,IF(H27=9,Calcs!$T146,0)))))))))","v":0},{"$f":"IF(I27=1,Calcs!$N146,IF(I27=2,Calcs!$O146,IF(I27=3,Calcs!$R146,IF(I27=4,Calcs!$S146,IF(I27=5,Calcs!$Q146,IF(I27=6,Calcs!$P146,IF(I27=7,Calcs!$T146,IF(I27=8,Calcs!$T146,IF(I27=9,Calcs!$T146,0)))))))))","v":0},{"$f":"IF(J27=1,Calcs!$N146,IF(J27=2,Calcs!$O146,IF(J27=3,Calcs!$R146,IF(J27=4,Calcs!$S146,IF(J27=5,Calcs!$Q146,IF(J27=6,Calcs!$P146,IF(J27=7,Calcs!$T146,IF(J27=8,Calcs!$T146,IF(J27=9,Calcs!$T146,0)))))))))","v":0},{"$f":"IF(K27=1,Calcs!$N146,IF(K27=2,Calcs!$O146,IF(K27=3,Calcs!$R146,IF(K27=4,Calcs!$S146,IF(K27=5,Calcs!$Q146,IF(K27=6,Calcs!$P146,IF(K27=7,Calcs!$T146,IF(K27=8,Calcs!$T146,IF(K27=9,Calcs!$T146,0)))))))))","v":0},{"$f":"IF(L27=1,Calcs!$N146,IF(L27=2,Calcs!$O146,IF(L27=3,Calcs!$R146,IF(L27=4,Calcs!$S146,IF(L27=5,Calcs!$Q146,IF(L27=6,Calcs!$P146,IF(L27=7,Calcs!$T146,IF(L27=8,Calcs!$T146,IF(L27=9,Calcs!$T146,0)))))))))","v":0},null,{"$f":"'1.Profile'!G29+Calcs!$AB$124","v":13.5},{"$f":"'1.Profile'!G29+Calcs!$AC$124","v":13.5},{"$f":"'1.Profile'!E29+Calcs!$AD$124","v":13.5},{"$f":"'1.Profile'!F29+Calcs!$AE$124","v":13.5},{"$f":"'1.Profile'!G29+Calcs!$AF$124","v":13.5},{"$f":"'1.Profile'!F29+Calcs!$AG$124","v":13.5},{"$f":"'1.Profile'!H29+Calcs!$AH$124","v":15.5}]
[17,"Post-E 1: Inter-row tillage",{"$f":"IF(C28=1,Calcs!$N147,IF(C28=2,Calcs!$O147,IF(C28=3,Calcs!$R147,IF(C28=4,Calcs!$S147,IF(C28=5,Calcs!$Q147,IF(C28=6,Calcs!$P147,IF(C28=7,Calcs!$T147,IF(C28=8,Calcs!$T147,IF(C28=9,Calcs!$T147,0)))))))))","v":0},{"$f":"IF(D28=1,Calcs!$N147,IF(D28=2,Calcs!$O147,IF(D28=3,Calcs!$R147,IF(D28=4,Calcs!$S147,IF(D28=5,Calcs!$Q147,IF(D28=6,Calcs!$P147,IF(D28=7,Calcs!$T147,IF(D28=8,Calcs!$T147,IF(D28=9,Calcs!$T147,0)))))))))","v":0},{"$f":"IF(E28=1,Calcs!$N147,IF(E28=2,Calcs!$O147,IF(E28=3,Calcs!$R147,IF(E28=4,Calcs!$S147,IF(E28=5,Calcs!$Q147,IF(E28=6,Calcs!$P147,IF(E28=7,Calcs!$T147,IF(E28=8,Calcs!$T147,IF(E28=9,Calcs!$T147,0)))))))))","v":0},{"$f":"IF(F28=1,Calcs!$N147,IF(F28=2,Calcs!$O147,IF(F28=3,Calcs!$R147,IF(F28=4,Calcs!$S147,IF(F28=5,Calcs!$Q147,IF(F28=6,Calcs!$P147,IF(F28=7,Calcs!$T147,IF(F28=8,Calcs!$T147,IF(F28=9,Calcs!$T147,0)))))))))","v":0},{"$f":"IF(G28=1,Calcs!$N147,IF(G28=2,Calcs!$O147,IF(G28=3,Calcs!$R147,IF(G28=4,Calcs!$S147,IF(G28=5,Calcs!$Q147,IF(G28=6,Calcs!$P147,IF(G28=7,Calcs!$T147,IF(G28=8,Calcs!$T147,IF(G28=9,Calcs!$T147,0)))))))))","v":0},{"$f":"IF(H28=1,Calcs!$N147,IF(H28=2,Calcs!$O147,IF(H28=3,Calcs!$R147,IF(H28=4,Calcs!$S147,IF(H28=5,Calcs!$Q147,IF(H28=6,Calcs!$P147,IF(H28=7,Calcs!$T147,IF(H28=8,Calcs!$T147,IF(H28=9,Calcs!$T147,0)))))))))","v":0},{"$f":"IF(I28=1,Calcs!$N147,IF(I28=2,Calcs!$O147,IF(I28=3,Calcs!$R147,IF(I28=4,Calcs!$S147,IF(I28=5,Calcs!$Q147,IF(I28=6,Calcs!$P147,IF(I28=7,Calcs!$T147,IF(I28=8,Calcs!$T147,IF(I28=9,Calcs!$T147,0)))))))))","v":0},{"$f":"IF(J28=1,Calcs!$N147,IF(J28=2,Calcs!$O147,IF(J28=3,Calcs!$R147,IF(J28=4,Calcs!$S147,IF(J28=5,Calcs!$Q147,IF(J28=6,Calcs!$P147,IF(J28=7,Calcs!$T147,IF(J28=8,Calcs!$T147,IF(J28=9,Calcs!$T147,0)))))))))","v":0},{"$f":"IF(K28=1,Calcs!$N147,IF(K28=2,Calcs!$O147,IF(K28=3,Calcs!$R147,IF(K28=4,Calcs!$S147,IF(K28=5,Calcs!$Q147,IF(K28=6,Calcs!$P147,IF(K28=7,Calcs!$T147,IF(K28=8,Calcs!$T147,IF(K28=9,Calcs!$T147,0)))))))))","v":0},{"$f":"IF(L28=1,Calcs!$N147,IF(L28=2,Calcs!$O147,IF(L28=3,Calcs!$R147,IF(L28=4,Calcs!$S147,IF(L28=5,Calcs!$Q147,IF(L28=6,Calcs!$P147,IF(L28=7,Calcs!$T147,IF(L28=8,Calcs!$T147,IF(L28=9,Calcs!$T147,0)))))))))","v":0},null,{"$f":"'1.Profile'!G30+Calcs!$AB$124","v":13.5},{"$f":"'1.Profile'!G30+Calcs!$AC$124","v":13.5},{"$f":"'1.Profile'!E30+Calcs!$AD$124","v":13.5},{"$f":"'1.Profile'!F30+Calcs!$AE$124","v":13.5},{"$f":"'1.Profile'!G30+Calcs!$AF$124","v":13.5},{"$f":"'1.Profile'!F30+Calcs!$AG$124","v":13.5},{"$f":"'1.Profile'!H30+Calcs!$AH$124","v":12.5},"Profile","+boom"]
[18,"Post-E 1: Group A",{"$f":"IF(C29=1,Calcs!$N148,IF(C29=2,Calcs!$O148,IF(C29=3,Calcs!$R148,IF(C29=4,Calcs!$S148,IF(C29=5,Calcs!$Q148,IF(C29=6,Calcs!$P148,IF(C29=7,Calcs!$T148,IF(C29=8,Calcs!$T148,IF(C29=9,Calcs!$T148,0)))))))))","v":0},{"$f":"IF(D29=1,Calcs!$N148,IF(D29=2,Calcs!$O148,IF(D29=3,Calcs!$R148,IF(D29=4,Calcs!$S148,IF(D29=5,Calcs!$Q148,IF(D29=6,Calcs!$P148,IF(D29=7,Calcs!$T148,IF(D29=8,Calcs!$T148,IF(D29=9,Calcs!$T148,0)))))))))","v":0},{"$f":"IF(E29=1,Calcs!$N148,IF(E29=2,Calcs!$O148,IF(E29=3,Calcs!$R148,IF(E29=4,Calcs!$S148,IF(E29=5,Calcs!$Q148,IF(E29=6,Calcs!$P148,IF(E29=7,Calcs!$T148,IF(E29=8,Calcs!$T148,IF(E29=9,Calcs!$T148,0)))))))))","v":0},{"$f":"IF(F29=1,Calcs!$N148,IF(F29=2,Calcs!$O148,IF(F29=3,Calcs!$R148,IF(F29=4,Calcs!$S148,IF(F29=5,Calcs!$Q148,IF(F29=6,Calcs!$P148,IF(F29=7,Calcs!$T148,IF(F29=8,Calcs!$T148,IF(F29=9,Calcs!$T148,0)))))))))","v":0},{"$f":"IF(G29=1,Calcs!$N148,IF(G29=2,Calcs!$O148,IF(G29=3,Calcs!$R148,IF(G29=4,Calcs!$S148,IF(G29=5,Calcs!$Q148,IF(G29=6,Calcs!$P148,IF(G29=7,Calcs!$T148,IF(G29=8,Calcs!$T148,IF(G29=9,Calcs!$T148,0)))))))))","v":0},{"$f":"IF(H29=1,Calcs!$N148,IF(H29=2,Calcs!$O148,IF(H29=3,Calcs!$R148,IF(H29=4,Calcs!$S148,IF(H29=5,Calcs!$Q148,IF(H29=6,Calcs!$P148,IF(H29=7,Calcs!$T148,IF(H29=8,Calcs!$T148,IF(H29=9,Calcs!$T148,0)))))))))","v":0},{"$f":"IF(I29=1,Calcs!$N148,IF(I29=2,Calcs!$O148,IF(I29=3,Calcs!$R148,IF(I29=4,Calcs!$S148,IF(I29=5,Calcs!$Q148,IF(I29=6,Calcs!$P148,IF(I29=7,Calcs!$T148,IF(I29=8,Calcs!$T148,IF(I29=9,Calcs!$T148,0)))))))))","v":0},{"$f":"IF(J29=1,Calcs!$N148,IF(J29=2,Calcs!$O148,IF(J29=3,Calcs!$R148,IF(J29=4,Calcs!$S148,IF(J29=5,Calcs!$Q148,IF(J29=6,Calcs!$P148,IF(J29=7,Calcs!$T148,IF(J29=8,Calcs!$T148,IF(J29=9,Calcs!$T148,0)))))))))","v":19.5},{"$f":"IF(K29=1,Calcs!$N148,IF(K29=2,Calcs!$O148,IF(K29=3,Calcs!$R148,IF(K29=4,Calcs!$S148,IF(K29=5,Calcs!$Q148,IF(K29=6,Calcs!$P148,IF(K29=7,Calcs!$T148,IF(K29=8,Calcs!$T148,IF(K29=9,Calcs!$T148,0)))))))))","v":0},{"$f":"IF(L29=1,Calcs!$N148,IF(L29=2,Calcs!$O148,IF(L29=3,Calcs!$R148,IF(L29=4,Calcs!$S148,IF(L29=5,Calcs!$Q148,IF(L29=6,Calcs!$P148,IF(L29=7,Calcs!$T148,IF(L29=8,Calcs!$T148,IF(L29=9,Calcs!$T148,0)))))))))","v":0},null,{"$f":"'1.Profile'!G31+Calcs!$AB$124","v":19.5},{"$f":"'1.Profile'!G31+Calcs!$AC$124","v":19.5},{"$f":"'1.Profile'!E31+Calcs!$AD$124","v":19.5},{"$f":"'1.Profile'!F31+Calcs!$AE$124","v":19.5},{"$f":"'1.Profile'!G31+Calcs!$AF$124","v":19.5},{"$f":"'1.Profile'!F31+Calcs!$AG$124","v":19.5},{"$f":"'1.Profile'!H31+Calcs!$AH$124","v":19.5},null,"+boom"]
[19,"Post-E 2: Glyphosate",{"$f":"IF(C30=1,Calcs!$N149,IF(C30=2,Calcs!$O149,IF(C30=3,Calcs!$R149,IF(C30=4,Calcs!$S149,IF(C30=5,Calcs!$Q149,IF(C30=6,Calcs!$P149,IF(C30=7,Calcs!$T149,IF(C30=8,Calcs!$T149,IF(C30=9,Calcs!$T149,0)))))))))","v":0},{"$f":"IF(D30=1,Calcs!$N149,IF(D30=2,Calcs!$O149,IF(D30=3,Calcs!$R149,IF(D30=4,Calcs!$S149,IF(D30=5,Calcs!$Q149,IF(D30=6,Calcs!$P149,IF(D30=7,Calcs!$T149,IF(D30=8,Calcs!$T149,IF(D30=9,Calcs!$T149,0)))))))))","v":0},{"$f":"IF(E30=1,Calcs!$N149,IF(E30=2,Calcs!$O149,IF(E30=3,Calcs!$R149,IF(E30=4,Calcs!$S149,IF(E30=5,Calcs!$Q149,IF(E30=6,Calcs!$P149,IF(E30=7,Calcs!$T149,IF(E30=8,Calcs!$T149,IF(E30=9,Calcs!$T149,0)))))))))","v":0},{"$f":"IF(F30=1,Calcs!$N149,IF(F30=2,Calcs!$O149,IF(F30=3,Calcs!$R149,IF(F30=4,Calcs!$S149,IF(F30=5,Calcs!$Q149,IF(F30=6,Calcs!$P149,IF(F30=7,Calcs!$T149,IF(F30=8,Calcs!$T149,IF(F30=9,Calcs!$T149,0)))))))))","v":0},{"$f":"IF(G30=1,Calcs!$N149,IF(G30=2,Calcs!$O149,IF(G30=3,Calcs!$R149,IF(G30=4,Calcs!$S149,IF(G30=5,Calcs!$Q149,IF(G30=6,Calcs!$P149,IF(G30=7,Calcs!$T149,IF(G30=8,Calcs!$T149,IF(G30=9,Calcs!$T149,0)))))))))","v":15.5},{"$f":"IF(H30=1,Calcs!$N149,IF(H30=2,Calcs!$O149,IF(H30=3,Calcs!$R149,IF(H30=4,Calcs!$S149,IF(H30=5,Calcs!$Q149,IF(H30=6,Calcs!$P149,IF(H30=7,Calcs!$T149,IF(H30=8,Calcs!$T149,IF(H30=9,Calcs!$T149,0)))))))))","v":0},{"$f":"IF(I30=1,Calcs!$N149,IF(I30=2,Calcs!$O149,IF(I30=3,Calcs!$R149,IF(I30=4,Calcs!$S149,IF(I30=5,Calcs!$Q149,IF(I30=6,Calcs!$P149,IF(I30=7,Calcs!$T149,IF(I30=8,Calcs!$T149,IF(I30=9,Calcs!$T149,0)))))))))","v":15.5},{"$f":"IF(J30=1,Calcs!$N149,IF(J30=2,Calcs!$O149,IF(J30=3,Calcs!$R149,IF(J30=4,Calcs!$S149,IF(J30=5,Calcs!$Q149,IF(J30=6,Calcs!$P149,IF(J30=7,Calcs!$T149,IF(J30=8,Calcs!$T149,IF(J30=9,Calcs!$T149,0)))))))))","v":0},{"$f":"IF(K30=1,Calcs!$N149,IF(K30=2,Calcs!$O149,IF(K30=3,Calcs!$R149,IF(K30=4,Calcs!$S149,IF(K30=5,Calcs!$Q149,IF(K30=6,Calcs!$P149,IF(K30=7,Calcs!$T149,IF(K30=8,Calcs!$T149,IF(K30=9,Calcs!$T149,0)))))))))","v":0},{"$f":"IF(L30=1,Calcs!$N149,IF(L30=2,Calcs!$O149,IF(L30=3,Calcs!$R149,IF(L30=4,Calcs!$S149,IF(L30=5,Calcs!$Q149,IF(L30=6,Calcs!$P149,IF(L30=7,Calcs!$T149,IF(L30=8,Calcs!$T149,IF(L30=9,Calcs!$T149,0)))))))))","v":0},null,{"$f":"'1.Profile'!G27+Calcs!$AB$124","v":15.5},{"$f":"'1.Profile'!G27+Calcs!$AC$124","v":15.5},{"$f":"'1.Profile'!E27+Calcs!$AD$124","v":15.5},{"$f":"'1.Profile'!F27+Calcs!$AE$124","v":15.5},{"$f":"'1.Profile'!G27+Calcs!$AF$124","v":15.5},{"$f":"'1.Profile'!F27+Calcs!$AG$124","v":15.5},{"$f":"'1.Profile'!H27+Calcs!$AH$124","v":12.5},null,"+boom"]
[20,"Post-E 2: Glufosinate",{"$f":"IF(C31=1,Calcs!$N150,IF(C31=2,Calcs!$O150,IF(C31=3,Calcs!$R150,IF(C31=4,Calcs!$S150,IF(C31=5,Calcs!$Q150,IF(C31=6,Calcs!$P150,IF(C31=7,Calcs!$T150,IF(C31=8,Calcs!$T150,IF(C31=9,Calcs!$T150,0)))))))))","v":0},{"$f":"IF(D31=1,Calcs!$N150,IF(D31=2,Calcs!$O150,IF(D31=3,Calcs!$R150,IF(D31=4,Calcs!$S150,IF(D31=5,Calcs!$Q150,IF(D31=6,Calcs!$P150,IF(D31=7,Calcs!$T150,IF(D31=8,Calcs!$T150,IF(D31=9,Calcs!$T150,0)))))))))","v":0},{"$f":"IF(E31=1,Calcs!$N150,IF(E31=2,Calcs!$O150,IF(E31=3,Calcs!$R150,IF(E31=4,Calcs!$S150,IF(E31=5,Calcs!$Q150,IF(E31=6,Calcs!$P150,IF(E31=7,Calcs!$T150,IF(E31=8,Calcs!$T150,IF(E31=9,Calcs!$T150,0)))))))))","v":0},{"$f":"IF(F31=1,Calcs!$N150,IF(F31=2,Calcs!$O150,IF(F31=3,Calcs!$R150,IF(F31=4,Calcs!$S150,IF(F31=5,Calcs!$Q150,IF(F31=6,Calcs!$P150,IF(F31=7,Calcs!$T150,IF(F31=8,Calcs!$T150,IF(F31=9,Calcs!$T150,0)))))))))","v":0},{"$f":"IF(G31=1,Calcs!$N150,IF(G31=2,Calcs!$O150,IF(G31=3,Calcs!$R150,IF(G31=4,Calcs!$S150,IF(G31=5,Calcs!$Q150,IF(G31=6,Calcs!$P150,IF(G31=7,Calcs!$T150,IF(G31=8,Calcs!$T150,IF(G31=9,Calcs!$T150,0)))))))))","v":0},{"$f":"IF(H31=1,Calcs!$N150,IF(H31=2,Calcs!$O150,IF(H31=3,Calcs!$R150,IF(H31=4,Calcs!$S150,IF(H31=5,Calcs!$Q150,IF(H31=6,Calcs!$P150,IF(H31=7,Calcs!$T150,IF(H31=8,Calcs!$T150,IF(H31=9,Calcs!$T150,0)))))))))","v":0},{"$f":"IF(I31=1,Calcs!$N150,IF(I31=2,Calcs!$O150,IF(I31=3,Calcs!$R150,IF(I31=4,Calcs!$S150,IF(I31=5,Calcs!$Q150,IF(I31=6,Calcs!$P150,IF(I31=7,Calcs!$T150,IF(I31=8,Calcs!$T150,IF(I31=9,Calcs!$T150,0)))))))))","v":0},{"$f":"IF(J31=1,Calcs!$N150,IF(J31=2,Calcs!$O150,IF(J31=3,Calcs!$R150,IF(J31=4,Calcs!$S150,IF(J31=5,Calcs!$Q150,IF(J31=6,Calcs!$P150,IF(J31=7,Calcs!$T150,IF(J31=8,Calcs!$T150,IF(J31=9,Calcs!$T150,0)))))))))","v":0},{"$f":"IF(K31=1,Calcs!$N150,IF(K31=2,Calcs!$O150,IF(K31=3,Calcs!$R150,IF(K31=4,Calcs!$S150,IF(K31=5,Calcs!$Q150,IF(K31=6,Calcs!$P150,IF(K31=7,Calcs!$T150,IF(K31=8,Calcs!$T150,IF(K31=9,Calcs!$T150,0)))))))))","v":0},{"$f":"IF(L31=1,Calcs!$N150,IF(L31=2,Calcs!$O150,IF(L31=3,Calcs!$R150,IF(L31=4,Calcs!$S150,IF(L31=5,Calcs!$Q150,IF(L31=6,Calcs!$P150,IF(L31=7,Calcs!$T150,IF(L31=8,Calcs!$T150,IF(L31=9,Calcs!$T150,0)))))))))","v":0},null,{"$f":"'1.Profile'!G28+Calcs!$AB$124","v":22.5},{"$f":"'1.Profile'!G28+Calcs!$AC$124","v":22.5},{"$f":"'1.Profile'!E28+Calcs!$AD$124","v":22.5},{"$f":"'1.Profile'!F28+Calcs!$AE$124","v":22.5},{"$f":"'1.Profile'!G28+Calcs!$AF$124","v":22.5},{"$f":"'1.Profile'!F28+Calcs!$AG$124","v":22.5},{"$f":"'1.Profile'!H28+Calcs!$AH$124","v":22.5},null,"+boom"]
[21,"Post-E 2: Paraquat (shielded)",{"$f":"IF(C32=1,Calcs!$N151,IF(C32=2,Calcs!$O151,IF(C32=3,Calcs!$R151,IF(C32=4,Calcs!$S151,IF(C32=5,Calcs!$Q151,IF(C32=6,Calcs!$P151,IF(C32=7,Calcs!$T151,IF(C32=8,Calcs!$T151,IF(C32=9,Calcs!$T151,0)))))))))","v":0},{"$f":"IF(D32=1,Calcs!$N151,IF(D32=2,Calcs!$O151,IF(D32=3,Calcs!$R151,IF(D32=4,Calcs!$S151,IF(D32=5,Calcs!$Q151,IF(D32=6,Calcs!$P151,IF(D32=7,Calcs!$T151,IF(D32=8,Calcs!$T151,IF(D32=9,Calcs!$T151,0)))))))))","v":0},{"$f":"IF(E32=1,Calcs!$N151,IF(E32=2,Calcs!$O151,IF(E32=3,Calcs!$R151,IF(E32=4,Calcs!$S151,IF(E32=5,Calcs!$Q151,IF(E32=6,Calcs!$P151,IF(E32=7,Calcs!$T151,IF(E32=8,Calcs!$T151,IF(E32=9,Calcs!$T151,0)))))))))","v":0},{"$f":"IF(F32=1,Calcs!$N151,IF(F32=2,Calcs!$O151,IF(F32=3,Calcs!$R151,IF(F32=4,Calcs!$S151,IF(F32=5,Calcs!$Q151,IF(F32=6,Calcs!$P151,IF(F32=7,Calcs!$T151,IF(F32=8,Calcs!$T151,IF(F32=9,Calcs!$T151,0)))))))))","v":0},{"$f":"IF(G32=1,Calcs!$N151,IF(G32=2,Calcs!$O151,IF(G32=3,Calcs!$R151,IF(G32=4,Calcs!$S151,IF(G32=5,Calcs!$Q151,IF(G32=6,Calcs!$P151,IF(G32=7,Calcs!$T151,IF(G32=8,Calcs!$T151,IF(G32=9,Calcs!$T151,0)))))))))","v":0},{"$f":"IF(H32=1,Calcs!$N151,IF(H32=2,Calcs!$O151,IF(H32=3,Calcs!$R151,IF(H32=4,Calcs!$S151,IF(H32=5,Calcs!$Q151,IF(H32=6,Calcs!$P151,IF(H32=7,Calcs!$T151,IF(H32=8,Calcs!$T151,IF(H32=9,Calcs!$T151,0)))))))))","v":0},{"$f":"IF(I32=1,Calcs!$N151,IF(I32=2,Calcs!$O151,IF(I32=3,Calcs!$R151,IF(I32=4,Calcs!$S151,IF(I32=5,Calcs!$Q151,IF(I32=6,Calcs!$P151,IF(I32=7,Calcs!$T151,IF(I32=8,Calcs!$T151,IF(I32=9,Calcs!$T151,0)))))))))","v":0},{"$f":"IF(J32=1,Calcs!$N151,IF(J32=2,Calcs!$O151,IF(J32=3,Calcs!$R151,IF(J32=4,Calcs!$S151,IF(J32=5,Calcs!$Q151,IF(J32=6,Calcs!$P151,IF(J32=7,Calcs!$T151,IF(J32=8,Calcs!$T151,IF(J32=9,Calcs!$T151,0)))))))))","v":0},{"$f":"IF(K32=1,Calcs!$N151,IF(K32=2,Calcs!$O151,IF(K32=3,Calcs!$R151,IF(K32=4,Calcs!$S151,IF(K32=5,Calcs!$Q151,IF(K32=6,Calcs!$P151,IF(K32=7,Calcs!$T151,IF(K32=8,Calcs!$T151,IF(K32=9,Calcs!$T151,0)))))))))","v":0},{"$f":"IF(L32=1,Calcs!$N151,IF(L32=2,Calcs!$O151,IF(L32=3,Calcs!$R151,IF(L32=4,Calcs!$S151,IF(L32=5,Calcs!$Q151,IF(L32=6,Calcs!$P151,IF(L32=7,Calcs!$T151,IF(L32=8,Calcs!$T151,IF(L32=9,Calcs!$T151,0)))))))))","v":0},null,{"$f":"'1.Profile'!G29+Calcs!$AB$124","v":13.5},{"$f":"'1.Profile'!G29+Calcs!$AC$124","v":13.5},{"$f":"'1.Profile'!E29+Calcs!$AD$124","v":13.5},{"$f":"'1.Profile'!F29+Calcs!$AE$124","v":13.5},{"$f":"'1.Profile'!G29+Calcs!$AF$124","v":13.5},{"$f":"'1.Profile'!F29+Calcs!$AG$124","v":13.5},{"$f":"'1.Profile'!H29+Calcs!$AH$124","v":15.5},null,"+boom"]
[22,"Post-E 2: Inter-row tillage",{"$f":"IF(C33=1,Calcs!$N152,IF(C33=2,Calcs!$O152,IF(C33=3,Calcs!$R152,IF(C33=4,Calcs!$S152,IF(C33=5,Calcs!$Q152,IF(C33=6,Calcs!$P152,IF(C33=7,Calcs!$T152,IF(C33=8,Calcs!$T152,IF(C33=9,Calcs!$T152,0)))))))))","v":0},{"$f":"IF(D33=1,Calcs!$N152,IF(D33=2,Calcs!$O152,IF(D33=3,Calcs!$R152,IF(D33=4,Calcs!$S152,IF(D33=5,Calcs!$Q152,IF(D33=6,Calcs!$P152,IF(D33=7,Calcs!$T152,IF(D33=8,Calcs!$T152,IF(D33=9,Calcs!$T152,0)))))))))","v":0},{"$f":"IF(E33=1,Calcs!$N152,IF(E33=2,Calcs!$O152,IF(E33=3,Calcs!$R152,IF(E33=4,Calcs!$S152,IF(E33=5,Calcs!$Q152,IF(E33=6,Calcs!$P152,IF(E33=7,Calcs!$T152,IF(E33=8,Calcs!$T152,IF(E33=9,Calcs!$T152,0)))))))))","v":0},{"$f":"IF(F33=1,Calcs!$N152,IF(F33=2,Calcs!$O152,IF(F33=3,Calcs!$R152,IF(F33=4,Calcs!$S152,IF(F33=5,Calcs!$Q152,IF(F33=6,Calcs!$P152,IF(F33=7,Calcs!$T152,IF(F33=8,Calcs!$T152,IF(F33=9,Calcs!$T152,0)))))))))","v":0},{"$f":"IF(G33=1,Calcs!$N152,IF(G33=2,Calcs!$O152,IF(G33=3,Calcs!$R152,IF(G33=4,Calcs!$S152,IF(G33=5,Calcs!$Q152,IF(G33=6,Calcs!$P152,IF(G33=7,Calcs!$T152,IF(G33=8,Calcs!$T152,IF(G33=9,Calcs!$T152,0)))))))))","v":0},{"$f":"IF(H33=1,Calcs!$N152,IF(H33=2,Calcs!$O152,IF(H33=3,Calcs!$R152,IF(H33=4,Calcs!$S152,IF(H33=5,Calcs!$Q152,IF(H33=6,Calcs!$P152,IF(H33=7,Calcs!$T152,IF(H33=8,Calcs!$T152,IF(H33=9,Calcs!$T152,0)))))))))","v":0},{"$f":"IF(I33=1,Calcs!$N152,IF(I33=2,Calcs!$O152,IF(I33=3,Calcs!$R152,IF(I33=4,Calcs!$S152,IF(I33=5,Calcs!$Q152,IF(I33=6,Calcs!$P152,IF(I33=7,Calcs!$T152,IF(I33=8,Calcs!$T152,IF(I33=9,Calcs!$T152,0)))))))))","v":0},{"$f":"IF(J33=1,Calcs!$N152,IF(J33=2,Calcs!$O152,IF(J33=3,Calcs!$R152,IF(J33=4,Calcs!$S152,IF(J33=5,Calcs!$Q152,IF(J33=6,Calcs!$P152,IF(J33=7,Calcs!$T152,IF(J33=8,Calcs!$T152,IF(J33=9,Calcs!$T152,0)))))))))","v":0},{"$f":"IF(K33=1,Calcs!$N152,IF(K33=2,Calcs!$O152,IF(K33=3,Calcs!$R152,IF(K33=4,Calcs!$S152,IF(K33=5,Calcs!$Q152,IF(K33=6,Calcs!$P152,IF(K33=7,Calcs!$T152,IF(K33=8,Calcs!$T152,IF(K33=9,Calcs!$T152,0)))))))))","v":13.5},{"$f":"IF(L33=1,Calcs!$N152,IF(L33=2,Calcs!$O152,IF(L33=3,Calcs!$R152,IF(L33=4,Calcs!$S152,IF(L33=5,Calcs!$Q152,IF(L33=6,Calcs!$P152,IF(L33=7,Calcs!$T152,IF(L33=8,Calcs!$T152,IF(L33=9,Calcs!$T152,0)))))))))","v":0},null,{"$f":"'1.Profile'!G30+Calcs!$AB$124","v":13.5},{"$f":"'1.Profile'!G30+Calcs!$AC$124","v":13.5},{"$f":"'1.Profile'!E30+Calcs!$AD$124","v":13.5},{"$f":"'1.Profile'!F30+Calcs!$AE$124","v":13.5},{"$f":"'1.Profile'!G30+Calcs!$AF$124","v":13.5},{"$f":"'1.Profile'!F30+Calcs!$AG$124","v":13.5},{"$f":"'1.Profile'!H30+Calcs!$AH$124","v":12.5}]
[23,"Post-E 2: Group A",{"$f":"IF(C34=1,Calcs!$N153,IF(C34=2,Calcs!$O153,IF(C34=3,Calcs!$R153,IF(C34=4,Calcs!$S153,IF(C34=5,Calcs!$Q153,IF(C34=6,Calcs!$P153,IF(C34=7,Calcs!$T153,IF(C34=8,Calcs!$T153,IF(C34=9,Calcs!$T153,0)))))))))","v":0},{"$f":"IF(D34=1,Calcs!$N153,IF(D34=2,Calcs!$O153,IF(D34=3,Calcs!$R153,IF(D34=4,Calcs!$S153,IF(D34=5,Calcs!$Q153,IF(D34=6,Calcs!$P153,IF(D34=7,Calcs!$T153,IF(D34=8,Calcs!$T153,IF(D34=9,Calcs!$T153,0)))))))))","v":0},{"$f":"IF(E34=1,Calcs!$N153,IF(E34=2,Calcs!$O153,IF(E34=3,Calcs!$R153,IF(E34=4,Calcs!$S153,IF(E34=5,Calcs!$Q153,IF(E34=6,Calcs!$P153,IF(E34=7,Calcs!$T153,IF(E34=8,Calcs!$T153,IF(E34=9,Calcs!$T153,0)))))))))","v":0},{"$f":"IF(F34=1,Calcs!$N153,IF(F34=2,Calcs!$O153,IF(F34=3,Calcs!$R153,IF(F34=4,Calcs!$S153,IF(F34=5,Calcs!$Q153,IF(F34=6,Calcs!$P153,IF(F34=7,Calcs!$T153,IF(F34=8,Calcs!$T153,IF(F34=9,Calcs!$T153,0)))))))))","v":0},{"$f":"IF(G34=1,Calcs!$N153,IF(G34=2,Calcs!$O153,IF(G34=3,Calcs!$R153,IF(G34=4,Calcs!$S153,IF(G34=5,Calcs!$Q153,IF(G34=6,Calcs!$P153,IF(G34=7,Calcs!$T153,IF(G34=8,Calcs!$T153,IF(G34=9,Calcs!$T153,0)))))))))","v":0},{"$f":"IF(H34=1,Calcs!$N153,IF(H34=2,Calcs!$O153,IF(H34=3,Calcs!$R153,IF(H34=4,Calcs!$S153,IF(H34=5,Calcs!$Q153,IF(H34=6,Calcs!$P153,IF(H34=7,Calcs!$T153,IF(H34=8,Calcs!$T153,IF(H34=9,Calcs!$T153,0)))))))))","v":0},{"$f":"IF(I34=1,Calcs!$N153,IF(I34=2,Calcs!$O153,IF(I34=3,Calcs!$R153,IF(I34=4,Calcs!$S153,IF(I34=5,Calcs!$Q153,IF(I34=6,Calcs!$P153,IF(I34=7,Calcs!$T153,IF(I34=8,Calcs!$T153,IF(I34=9,Calcs!$T153,0)))))))))","v":0},{"$f":"IF(J34=1,Calcs!$N153,IF(J34=2,Calcs!$O153,IF(J34=3,Calcs!$R153,IF(J34=4,Calcs!$S153,IF(J34=5,Calcs!$Q153,IF(J34=6,Calcs!$P153,IF(J34=7,Calcs!$T153,IF(J34=8,Calcs!$T153,IF(J34=9,Calcs!$T153,0)))))))))","v":0},{"$f":"IF(K34=1,Calcs!$N153,IF(K34=2,Calcs!$O153,IF(K34=3,Calcs!$R153,IF(K34=4,Calcs!$S153,IF(K34=5,Calcs!$Q153,IF(K34=6,Calcs!$P153,IF(K34=7,Calcs!$T153,IF(K34=8,Calcs!$T153,IF(K34=9,Calcs!$T153,0)))))))))","v":0},{"$f":"IF(L34=1,Calcs!$N153,IF(L34=2,Calcs!$O153,IF(L34=3,Calcs!$R153,IF(L34=4,Calcs!$S153,IF(L34=5,Calcs!$Q153,IF(L34=6,Calcs!$P153,IF(L34=7,Calcs!$T153,IF(L34=8,Calcs!$T153,IF(L34=9,Calcs!$T153,0)))))))))","v":0},null,{"$f":"'1.Profile'!G31+Calcs!$AB$124","v":19.5},{"$f":"'1.Profile'!G31+Calcs!$AC$124","v":19.5},{"$f":"'1.Profile'!E31+Calcs!$AD$124","v":19.5},{"$f":"'1.Profile'!F31+Calcs!$AE$124","v":19.5},{"$f":"'1.Profile'!G31+Calcs!$AF$124","v":19.5},{"$f":"'1.Profile'!F31+Calcs!$AG$124","v":19.5},{"$f":"'1.Profile'!H31+Calcs!$AH$124","v":19.5}]
[24,"Post-E 3: Glyphosate",{"$f":"IF(C35=1,Calcs!$N154,IF(C35=2,Calcs!$O154,IF(C35=3,Calcs!$R154,IF(C35=4,Calcs!$S154,IF(C35=5,Calcs!$Q154,IF(C35=6,Calcs!$P154,IF(C35=7,Calcs!$T154,IF(C35=8,Calcs!$T154,IF(C35=9,Calcs!$T154,0)))))))))","v":15.5},{"$f":"IF(D35=1,Calcs!$N154,IF(D35=2,Calcs!$O154,IF(D35=3,Calcs!$R154,IF(D35=4,Calcs!$S154,IF(D35=5,Calcs!$Q154,IF(D35=6,Calcs!$P154,IF(D35=7,Calcs!$T154,IF(D35=8,Calcs!$T154,IF(D35=9,Calcs!$T154,0)))))))))","v":0},{"$f":"IF(E35=1,Calcs!$N154,IF(E35=2,Calcs!$O154,IF(E35=3,Calcs!$R154,IF(E35=4,Calcs!$S154,IF(E35=5,Calcs!$Q154,IF(E35=6,Calcs!$P154,IF(E35=7,Calcs!$T154,IF(E35=8,Calcs!$T154,IF(E35=9,Calcs!$T154,0)))))))))","v":15.5},{"$f":"IF(F35=1,Calcs!$N154,IF(F35=2,Calcs!$O154,IF(F35=3,Calcs!$R154,IF(F35=4,Calcs!$S154,IF(F35=5,Calcs!$Q154,IF(F35=6,Calcs!$P154,IF(F35=7,Calcs!$T154,IF(F35=8,Calcs!$T154,IF(F35=9,Calcs!$T154,0)))))))))","v":0},{"$f":"IF(G35=1,Calcs!$N154,IF(G35=2,Calcs!$O154,IF(G35=3,Calcs!$R154,IF(G35=4,Calcs!$S154,IF(G35=5,Calcs!$Q154,IF(G35=6,Calcs!$P154,IF(G35=7,Calcs!$T154,IF(G35=8,Calcs!$T154,IF(G35=9,Calcs!$T154,0)))))))))","v":0},{"$f":"IF(H35=1,Calcs!$N154,IF(H35=2,Calcs!$O154,IF(H35=3,Calcs!$R154,IF(H35=4,Calcs!$S154,IF(H35=5,Calcs!$Q154,IF(H35=6,Calcs!$P154,IF(H35=7,Calcs!$T154,IF(H35=8,Calcs!$T154,IF(H35=9,Calcs!$T154,0)))))))))","v":0},{"$f":"IF(I35=1,Calcs!$N154,IF(I35=2,Calcs!$O154,IF(I35=3,Calcs!$R154,IF(I35=4,Calcs!$S154,IF(I35=5,Calcs!$Q154,IF(I35=6,Calcs!$P154,IF(I35=7,Calcs!$T154,IF(I35=8,Calcs!$T154,IF(I35=9,Calcs!$T154,0)))))))))","v":0},{"$f":"IF(J35=1,Calcs!$N154,IF(J35=2,Calcs!$O154,IF(J35=3,Calcs!$R154,IF(J35=4,Calcs!$S154,IF(J35=5,Calcs!$Q154,IF(J35=6,Calcs!$P154,IF(J35=7,Calcs!$T154,IF(J35=8,Calcs!$T154,IF(J35=9,Calcs!$T154,0)))))))))","v":0},{"$f":"IF(K35=1,Calcs!$N154,IF(K35=2,Calcs!$O154,IF(K35=3,Calcs!$R154,IF(K35=4,Calcs!$S154,IF(K35=5,Calcs!$Q154,IF(K35=6,Calcs!$P154,IF(K35=7,Calcs!$T154,IF(K35=8,Calcs!$T154,IF(K35=9,Calcs!$T154,0)))))))))","v":15.5},{"$f":"IF(L35=1,Calcs!$N154,IF(L35=2,Calcs!$O154,IF(L35=3,Calcs!$R154,IF(L35=4,Calcs!$S154,IF(L35=5,Calcs!$Q154,IF(L35=6,Calcs!$P154,IF(L35=7,Calcs!$T154,IF(L35=8,Calcs!$T154,IF(L35=9,Calcs!$T154,0)))))))))","v":0},null,{"$f":"'1.Profile'!G27+Calcs!$AB$124","v":15.5},{"$f":"'1.Profile'!G27+Calcs!$AC$124","v":15.5},{"$f":"'1.Profile'!E27+Calcs!$AD$124","v":15.5},{"$f":"'1.Profile'!F27+Calcs!$AE$124","v":15.5},{"$f":"'1.Profile'!G27+Calcs!$AF$124","v":15.5},{"$f":"'1.Profile'!F27+Calcs!$AG$124","v":15.5},{"$f":"'1.Profile'!H27+Calcs!$AH$124","v":12.5},null,"+boom+SP-harvest"]
[25,"Post-E 3: Glufosinate",{"$f":"IF(C36=1,Calcs!$N155,IF(C36=2,Calcs!$O155,IF(C36=3,Calcs!$R155,IF(C36=4,Calcs!$S155,IF(C36=5,Calcs!$Q155,IF(C36=6,Calcs!$P155,IF(C36=7,Calcs!$T155,IF(C36=8,Calcs!$T155,IF(C36=9,Calcs!$T155,0)))))))))","v":0},{"$f":"IF(D36=1,Calcs!$N155,IF(D36=2,Calcs!$O155,IF(D36=3,Calcs!$R155,IF(D36=4,Calcs!$S155,IF(D36=5,Calcs!$Q155,IF(D36=6,Calcs!$P155,IF(D36=7,Calcs!$T155,IF(D36=8,Calcs!$T155,IF(D36=9,Calcs!$T155,0)))))))))","v":0},{"$f":"IF(E36=1,Calcs!$N155,IF(E36=2,Calcs!$O155,IF(E36=3,Calcs!$R155,IF(E36=4,Calcs!$S155,IF(E36=5,Calcs!$Q155,IF(E36=6,Calcs!$P155,IF(E36=7,Calcs!$T155,IF(E36=8,Calcs!$T155,IF(E36=9,Calcs!$T155,0)))))))))","v":0},{"$f":"IF(F36=1,Calcs!$N155,IF(F36=2,Calcs!$O155,IF(F36=3,Calcs!$R155,IF(F36=4,Calcs!$S155,IF(F36=5,Calcs!$Q155,IF(F36=6,Calcs!$P155,IF(F36=7,Calcs!$T155,IF(F36=8,Calcs!$T155,IF(F36=9,Calcs!$T155,0)))))))))","v":0},{"$f":"IF(G36=1,Calcs!$N155,IF(G36=2,Calcs!$O155,IF(G36=3,Calcs!$R155,IF(G36=4,Calcs!$S155,IF(G36=5,Calcs!$Q155,IF(G36=6,Calcs!$P155,IF(G36=7,Calcs!$T155,IF(G36=8,Calcs!$T155,IF(G36=9,Calcs!$T155,0)))))))))","v":0},{"$f":"IF(H36=1,Calcs!$N155,IF(H36=2,Calcs!$O155,IF(H36=3,Calcs!$R155,IF(H36=4,Calcs!$S155,IF(H36=5,Calcs!$Q155,IF(H36=6,Calcs!$P155,IF(H36=7,Calcs!$T155,IF(H36=8,Calcs!$T155,IF(H36=9,Calcs!$T155,0)))))))))","v":0},{"$f":"IF(I36=1,Calcs!$N155,IF(I36=2,Calcs!$O155,IF(I36=3,Calcs!$R155,IF(I36=4,Calcs!$S155,IF(I36=5,Calcs!$Q155,IF(I36=6,Calcs!$P155,IF(I36=7,Calcs!$T155,IF(I36=8,Calcs!$T155,IF(I36=9,Calcs!$T155,0)))))))))","v":0},{"$f":"IF(J36=1,Calcs!$N155,IF(J36=2,Calcs!$O155,IF(J36=3,Calcs!$R155,IF(J36=4,Calcs!$S155,IF(J36=5,Calcs!$Q155,IF(J36=6,Calcs!$P155,IF(J36=7,Calcs!$T155,IF(J36=8,Calcs!$T155,IF(J36=9,Calcs!$T155,0)))))))))","v":0},{"$f":"IF(K36=1,Calcs!$N155,IF(K36=2,Calcs!$O155,IF(K36=3,Calcs!$R155,IF(K36=4,Calcs!$S155,IF(K36=5,Calcs!$Q155,IF(K36=6,Calcs!$P155,IF(K36=7,Calcs!$T155,IF(K36=8,Calcs!$T155,IF(K36=9,Calcs!$T155,0)))))))))","v":0},{"$f":"IF(L36=1,Calcs!$N155,IF(L36=2,Calcs!$O155,IF(L36=3,Calcs!$R155,IF(L36=4,Calcs!$S155,IF(L36=5,Calcs!$Q155,IF(L36=6,Calcs!$P155,IF(L36=7,Calcs!$T155,IF(L36=8,Calcs!$T155,IF(L36=9,Calcs!$T155,0)))))))))","v":0},null,{"$f":"'1.Profile'!G28+Calcs!$AB$124","v":22.5},{"$f":"'1.Profile'!G28+Calcs!$AC$124","v":22.5},{"$f":"'1.Profile'!E28+Calcs!$AD$124","v":22.5},{"$f":"'1.Profile'!F28+Calcs!$AE$124","v":22.5},{"$f":"'1.Profile'!G28+Calcs!$AF$124","v":22.5},{"$f":"'1.Profile'!F28+Calcs!$AG$124","v":22.5},{"$f":"'1.Profile'!H28+Calcs!$AH$124","v":22.5},null,"+boom+sp"]
[26,"Post-E 3: Paraquat (shielded)",{"$f":"IF(C37=1,Calcs!$N156,IF(C37=2,Calcs!$O156,IF(C37=3,Calcs!$R156,IF(C37=4,Calcs!$S156,IF(C37=5,Calcs!$Q156,IF(C37=6,Calcs!$P156,IF(C37=7,Calcs!$T156,IF(C37=8,Calcs!$T156,IF(C37=9,Calcs!$T156,0)))))))))","v":0},{"$f":"IF(D37=1,Calcs!$N156,IF(D37=2,Calcs!$O156,IF(D37=3,Calcs!$R156,IF(D37=4,Calcs!$S156,IF(D37=5,Calcs!$Q156,IF(D37=6,Calcs!$P156,IF(D37=7,Calcs!$T156,IF(D37=8,Calcs!$T156,IF(D37=9,Calcs!$T156,0)))))))))","v":0},{"$f":"IF(E37=1,Calcs!$N156,IF(E37=2,Calcs!$O156,IF(E37=3,Calcs!$R156,IF(E37=4,Calcs!$S156,IF(E37=5,Calcs!$Q156,IF(E37=6,Calcs!$P156,IF(E37=7,Calcs!$T156,IF(E37=8,Calcs!$T156,IF(E37=9,Calcs!$T156,0)))))))))","v":0},{"$f":"IF(F37=1,Calcs!$N156,IF(F37=2,Calcs!$O156,IF(F37=3,Calcs!$R156,IF(F37=4,Calcs!$S156,IF(F37=5,Calcs!$Q156,IF(F37=6,Calcs!$P156,IF(F37=7,Calcs!$T156,IF(F37=8,Calcs!$T156,IF(F37=9,Calcs!$T156,0)))))))))","v":0},{"$f":"IF(G37=1,Calcs!$N156,IF(G37=2,Calcs!$O156,IF(G37=3,Calcs!$R156,IF(G37=4,Calcs!$S156,IF(G37=5,Calcs!$Q156,IF(G37=6,Calcs!$P156,IF(G37=7,Calcs!$T156,IF(G37=8,Calcs!$T156,IF(G37=9,Calcs!$T156,0)))))))))","v":0},{"$f":"IF(H37=1,Calcs!$N156,IF(H37=2,Calcs!$O156,IF(H37=3,Calcs!$R156,IF(H37=4,Calcs!$S156,IF(H37=5,Calcs!$Q156,IF(H37=6,Calcs!$P156,IF(H37=7,Calcs!$T156,IF(H37=8,Calcs!$T156,IF(H37=9,Calcs!$T156,0)))))))))","v":0},{"$f":"IF(I37=1,Calcs!$N156,IF(I37=2,Calcs!$O156,IF(I37=3,Calcs!$R156,IF(I37=4,Calcs!$S156,IF(I37=5,Calcs!$Q156,IF(I37=6,Calcs!$P156,IF(I37=7,Calcs!$T156,IF(I37=8,Calcs!$T156,IF(I37=9,Calcs!$T156,0)))))))))","v":0},{"$f":"IF(J37=1,Calcs!$N156,IF(J37=2,Calcs!$O156,IF(J37=3,Calcs!$R156,IF(J37=4,Calcs!$S156,IF(J37=5,Calcs!$Q156,IF(J37=6,Calcs!$P156,IF(J37=7,Calcs!$T156,IF(J37=8,Calcs!$T156,IF(J37=9,Calcs!$T156,0)))))))))","v":0},{"$f":"IF(K37=1,Calcs!$N156,IF(K37=2,Calcs!$O156,IF(K37=3,Calcs!$R156,IF(K37=4,Calcs!$S156,IF(K37=5,Calcs!$Q156,IF(K37=6,Calcs!$P156,IF(K37=7,Calcs!$T156,IF(K37=8,Calcs!$T156,IF(K37=9,Calcs!$T156,0)))))))))","v":0},{"$f":"IF(L37=1,Calcs!$N156,IF(L37=2,Calcs!$O156,IF(L37=3,Calcs!$R156,IF(L37=4,Calcs!$S156,IF(L37=5,Calcs!$Q156,IF(L37=6,Calcs!$P156,IF(L37=7,Calcs!$T156,IF(L37=8,Calcs!$T156,IF(L37=9,Calcs!$T156,0)))))))))","v":0},null,{"$f":"'1.Profile'!G29+Calcs!$AB$124","v":13.5},{"$f":"'1.Profile'!G29+Calcs!$AC$124","v":13.5},{"$f":"'1.Profile'!E29+Calcs!$AD$124","v":13.5},{"$f":"'1.Profile'!F29+Calcs!$AE$124","v":13.5},{"$f":"'1.Profile'!G29+Calcs!$AF$124","v":13.5},{"$f":"'1.Profile'!F29+Calcs!$AG$124","v":13.5},{"$f":"'1.Profile'!H29+Calcs!$AH$124","v":15.5}]
[27,"Post-E 3: Inter-row tillage",{"$f":"IF(C38=1,Calcs!$N157,IF(C38=2,Calcs!$O157,IF(C38=3,Calcs!$R157,IF(C38=4,Calcs!$S157,IF(C38=5,Calcs!$Q157,IF(C38=6,Calcs!$P157,IF(C38=7,Calcs!$T157,IF(C38=8,Calcs!$T157,IF(C38=9,Calcs!$T157,0)))))))))","v":0},{"$f":"IF(D38=1,Calcs!$N157,IF(D38=2,Calcs!$O157,IF(D38=3,Calcs!$R157,IF(D38=4,Calcs!$S157,IF(D38=5,Calcs!$Q157,IF(D38=6,Calcs!$P157,IF(D38=7,Calcs!$T157,IF(D38=8,Calcs!$T157,IF(D38=9,Calcs!$T157,0)))))))))","v":0},{"$f":"IF(E38=1,Calcs!$N157,IF(E38=2,Calcs!$O157,IF(E38=3,Calcs!$R157,IF(E38=4,Calcs!$S157,IF(E38=5,Calcs!$Q157,IF(E38=6,Calcs!$P157,IF(E38=7,Calcs!$T157,IF(E38=8,Calcs!$T157,IF(E38=9,Calcs!$T157,0)))))))))","v":0},{"$f":"IF(F38=1,Calcs!$N157,IF(F38=2,Calcs!$O157,IF(F38=3,Calcs!$R157,IF(F38=4,Calcs!$S157,IF(F38=5,Calcs!$Q157,IF(F38=6,Calcs!$P157,IF(F38=7,Calcs!$T157,IF(F38=8,Calcs!$T157,IF(F38=9,Calcs!$T157,0)))))))))","v":0},{"$f":"IF(G38=1,Calcs!$N157,IF(G38=2,Calcs!$O157,IF(G38=3,Calcs!$R157,IF(G38=4,Calcs!$S157,IF(G38=5,Calcs!$Q157,IF(G38=6,Calcs!$P157,IF(G38=7,Calcs!$T157,IF(G38=8,Calcs!$T157,IF(G38=9,Calcs!$T157,0)))))))))","v":13.5},{"$f":"IF(H38=1,Calcs!$N157,IF(H38=2,Calcs!$O157,IF(H38=3,Calcs!$R157,IF(H38=4,Calcs!$S157,IF(H38=5,Calcs!$Q157,IF(H38=6,Calcs!$P157,IF(H38=7,Calcs!$T157,IF(H38=8,Calcs!$T157,IF(H38=9,Calcs!$T157,0)))))))))","v":0},{"$f":"IF(I38=1,Calcs!$N157,IF(I38=2,Calcs!$O157,IF(I38=3,Calcs!$R157,IF(I38=4,Calcs!$S157,IF(I38=5,Calcs!$Q157,IF(I38=6,Calcs!$P157,IF(I38=7,Calcs!$T157,IF(I38=8,Calcs!$T157,IF(I38=9,Calcs!$T157,0)))))))))","v":0},{"$f":"IF(J38=1,Calcs!$N157,IF(J38=2,Calcs!$O157,IF(J38=3,Calcs!$R157,IF(J38=4,Calcs!$S157,IF(J38=5,Calcs!$Q157,IF(J38=6,Calcs!$P157,IF(J38=7,Calcs!$T157,IF(J38=8,Calcs!$T157,IF(J38=9,Calcs!$T157,0)))))))))","v":0},{"$f":"IF(K38=1,Calcs!$N157,IF(K38=2,Calcs!$O157,IF(K38=3,Calcs!$R157,IF(K38=4,Calcs!$S157,IF(K38=5,Calcs!$Q157,IF(K38=6,Calcs!$P157,IF(K38=7,Calcs!$T157,IF(K38=8,Calcs!$T157,IF(K38=9,Calcs!$T157,0)))))))))","v":0},{"$f":"IF(L38=1,Calcs!$N157,IF(L38=2,Calcs!$O157,IF(L38=3,Calcs!$R157,IF(L38=4,Calcs!$S157,IF(L38=5,Calcs!$Q157,IF(L38=6,Calcs!$P157,IF(L38=7,Calcs!$T157,IF(L38=8,Calcs!$T157,IF(L38=9,Calcs!$T157,0)))))))))","v":0},null,{"$f":"'1.Profile'!G30+Calcs!$AB$124","v":13.5},{"$f":"'1.Profile'!G30+Calcs!$AC$124","v":13.5},{"$f":"'1.Profile'!E30+Calcs!$AD$124","v":13.5},{"$f":"'1.Profile'!F30+Calcs!$AE$124","v":13.5},{"$f":"'1.Profile'!G30+Calcs!$AF$124","v":13.5},{"$f":"'1.Profile'!F30+Calcs!$AG$124","v":13.5},{"$f":"'1.Profile'!H30+Calcs!$AH$124","v":12.5},"Prices","+boom+SP-harvest"]
[28,"Post-E 3: Group A",{"$f":"IF(C39=1,Calcs!$N158,IF(C39=2,Calcs!$O158,IF(C39=3,Calcs!$R158,IF(C39=4,Calcs!$S158,IF(C39=5,Calcs!$Q158,IF(C39=6,Calcs!$P158,IF(C39=7,Calcs!$T158,IF(C39=8,Calcs!$T158,IF(C39=9,Calcs!$T158,0)))))))))","v":0},{"$f":"IF(D39=1,Calcs!$N158,IF(D39=2,Calcs!$O158,IF(D39=3,Calcs!$R158,IF(D39=4,Calcs!$S158,IF(D39=5,Calcs!$Q158,IF(D39=6,Calcs!$P158,IF(D39=7,Calcs!$T158,IF(D39=8,Calcs!$T158,IF(D39=9,Calcs!$T158,0)))))))))","v":0},{"$f":"IF(E39=1,Calcs!$N158,IF(E39=2,Calcs!$O158,IF(E39=3,Calcs!$R158,IF(E39=4,Calcs!$S158,IF(E39=5,Calcs!$Q158,IF(E39=6,Calcs!$P158,IF(E39=7,Calcs!$T158,IF(E39=8,Calcs!$T158,IF(E39=9,Calcs!$T158,0)))))))))","v":0},{"$f":"IF(F39=1,Calcs!$N158,IF(F39=2,Calcs!$O158,IF(F39=3,Calcs!$R158,IF(F39=4,Calcs!$S158,IF(F39=5,Calcs!$Q158,IF(F39=6,Calcs!$P158,IF(F39=7,Calcs!$T158,IF(F39=8,Calcs!$T158,IF(F39=9,Calcs!$T158,0)))))))))","v":0},{"$f":"IF(G39=1,Calcs!$N158,IF(G39=2,Calcs!$O158,IF(G39=3,Calcs!$R158,IF(G39=4,Calcs!$S158,IF(G39=5,Calcs!$Q158,IF(G39=6,Calcs!$P158,IF(G39=7,Calcs!$T158,IF(G39=8,Calcs!$T158,IF(G39=9,Calcs!$T158,0)))))))))","v":0},{"$f":"IF(H39=1,Calcs!$N158,IF(H39=2,Calcs!$O158,IF(H39=3,Calcs!$R158,IF(H39=4,Calcs!$S158,IF(H39=5,Calcs!$Q158,IF(H39=6,Calcs!$P158,IF(H39=7,Calcs!$T158,IF(H39=8,Calcs!$T158,IF(H39=9,Calcs!$T158,0)))))))))","v":0},{"$f":"IF(I39=1,Calcs!$N158,IF(I39=2,Calcs!$O158,IF(I39=3,Calcs!$R158,IF(I39=4,Calcs!$S158,IF(I39=5,Calcs!$Q158,IF(I39=6,Calcs!$P158,IF(I39=7,Calcs!$T158,IF(I39=8,Calcs!$T158,IF(I39=9,Calcs!$T158,0)))))))))","v":0},{"$f":"IF(J39=1,Calcs!$N158,IF(J39=2,Calcs!$O158,IF(J39=3,Calcs!$R158,IF(J39=4,Calcs!$S158,IF(J39=5,Calcs!$Q158,IF(J39=6,Calcs!$P158,IF(J39=7,Calcs!$T158,IF(J39=8,Calcs!$T158,IF(J39=9,Calcs!$T158,0)))))))))","v":0},{"$f":"IF(K39=1,Calcs!$N158,IF(K39=2,Calcs!$O158,IF(K39=3,Calcs!$R158,IF(K39=4,Calcs!$S158,IF(K39=5,Calcs!$Q158,IF(K39=6,Calcs!$P158,IF(K39=7,Calcs!$T158,IF(K39=8,Calcs!$T158,IF(K39=9,Calcs!$T158,0)))))))))","v":0},{"$f":"IF(L39=1,Calcs!$N158,IF(L39=2,Calcs!$O158,IF(L39=3,Calcs!$R158,IF(L39=4,Calcs!$S158,IF(L39=5,Calcs!$Q158,IF(L39=6,Calcs!$P158,IF(L39=7,Calcs!$T158,IF(L39=8,Calcs!$T158,IF(L39=9,Calcs!$T158,0)))))))))","v":0},null,{"$f":"'1.Profile'!G31+Calcs!$AB$124","v":19.5},{"$f":"'1.Profile'!G31+Calcs!$AC$124","v":19.5},{"$f":"'1.Profile'!E31+Calcs!$AD$124","v":19.5},{"$f":"'1.Profile'!F31+Calcs!$AE$124","v":19.5},{"$f":"'1.Profile'!G31+Calcs!$AF$124","v":19.5},{"$f":"'1.Profile'!F31+Calcs!$AG$124","v":19.5},{"$f":"'1.Profile'!H31+Calcs!$AH$124","v":19.5},null,"+Inc-harvest"]
[29,"Layby: Topping",{"$f":"IF(C40=1,Calcs!$N159,IF(C40=2,Calcs!$O159,IF(C40=3,Calcs!$R159,IF(C40=4,Calcs!$S159,IF(C40=5,Calcs!$Q159,IF(C40=6,Calcs!$P159,IF(C40=7,Calcs!$T159,IF(C40=8,Calcs!$T159,IF(C40=9,Calcs!$T159,0)))))))))","v":0},{"$f":"IF(D40=1,Calcs!$N159,IF(D40=2,Calcs!$O159,IF(D40=3,Calcs!$R159,IF(D40=4,Calcs!$S159,IF(D40=5,Calcs!$Q159,IF(D40=6,Calcs!$P159,IF(D40=7,Calcs!$T159,IF(D40=8,Calcs!$T159,IF(D40=9,Calcs!$T159,0)))))))))","v":0},{"$f":"IF(E40=1,Calcs!$N159,IF(E40=2,Calcs!$O159,IF(E40=3,Calcs!$R159,IF(E40=4,Calcs!$S159,IF(E40=5,Calcs!$Q159,IF(E40=6,Calcs!$P159,IF(E40=7,Calcs!$T159,IF(E40=8,Calcs!$T159,IF(E40=9,Calcs!$T159,0)))))))))","v":0},{"$f":"IF(F40=1,Calcs!$N159,IF(F40=2,Calcs!$O159,IF(F40=3,Calcs!$R159,IF(F40=4,Calcs!$S159,IF(F40=5,Calcs!$Q159,IF(F40=6,Calcs!$P159,IF(F40=7,Calcs!$T159,IF(F40=8,Calcs!$T159,IF(F40=9,Calcs!$T159,0)))))))))","v":0},{"$f":"IF(G40=1,Calcs!$N159,IF(G40=2,Calcs!$O159,IF(G40=3,Calcs!$R159,IF(G40=4,Calcs!$S159,IF(G40=5,Calcs!$Q159,IF(G40=6,Calcs!$P159,IF(G40=7,Calcs!$T159,IF(G40=8,Calcs!$T159,IF(G40=9,Calcs!$T159,0)))))))))","v":0},{"$f":"IF(H40=1,Calcs!$N159,IF(H40=2,Calcs!$O159,IF(H40=3,Calcs!$R159,IF(H40=4,Calcs!$S159,IF(H40=5,Calcs!$Q159,IF(H40=6,Calcs!$P159,IF(H40=7,Calcs!$T159,IF(H40=8,Calcs!$T159,IF(H40=9,Calcs!$T159,0)))))))))","v":0},{"$f":"IF(I40=1,Calcs!$N159,IF(I40=2,Calcs!$O159,IF(I40=3,Calcs!$R159,IF(I40=4,Calcs!$S159,IF(I40=5,Calcs!$Q159,IF(I40=6,Calcs!$P159,IF(I40=7,Calcs!$T159,IF(I40=8,Calcs!$T159,IF(I40=9,Calcs!$T159,0)))))))))","v":0},{"$f":"IF(J40=1,Calcs!$N159,IF(J40=2,Calcs!$O159,IF(J40=3,Calcs!$R159,IF(J40=4,Calcs!$S159,IF(J40=5,Calcs!$Q159,IF(J40=6,Calcs!$P159,IF(J40=7,Calcs!$T159,IF(J40=8,Calcs!$T159,IF(J40=9,Calcs!$T159,0)))))))))","v":0},{"$f":"IF(K40=1,Calcs!$N159,IF(K40=2,Calcs!$O159,IF(K40=3,Calcs!$R159,IF(K40=4,Calcs!$S159,IF(K40=5,Calcs!$Q159,IF(K40=6,Calcs!$P159,IF(K40=7,Calcs!$T159,IF(K40=8,Calcs!$T159,IF(K40=9,Calcs!$T159,0)))))))))","v":0},{"$f":"IF(L40=1,Calcs!$N159,IF(L40=2,Calcs!$O159,IF(L40=3,Calcs!$R159,IF(L40=4,Calcs!$S159,IF(L40=5,Calcs!$Q159,IF(L40=6,Calcs!$P159,IF(L40=7,Calcs!$T159,IF(L40=8,Calcs!$T159,IF(L40=9,Calcs!$T159,0)))))))))","v":0},null,{"$f":"'+Prices'!$F$28","v":25},{"$f":"'+Prices'!$F$28","v":25},{"$f":"'+Prices'!$F$28","v":25},{"$f":"'+Prices'!$F$28","v":25},{"$f":"'+Prices'!$F$28","v":25},{"$f":"'+Prices'!$F$28","v":25},{"$f":"'+Prices'!$F$28","v":25},"Profile","+boom+SP-harvest+N",null,null,"Residue removal accounted for in Prices, Machinary"]
[30,"Layby: Diuron",{"$f":"IF(C41=1,Calcs!$N160,IF(C41=2,Calcs!$O160,IF(C41=3,Calcs!$R160,IF(C41=4,Calcs!$S160,IF(C41=5,Calcs!$Q160,IF(C41=6,Calcs!$P160,IF(C41=7,Calcs!$T160,IF(C41=8,Calcs!$T160,IF(C41=9,Calcs!$T160,0)))))))))","v":0},{"$f":"IF(D41=1,Calcs!$N160,IF(D41=2,Calcs!$O160,IF(D41=3,Calcs!$R160,IF(D41=4,Calcs!$S160,IF(D41=5,Calcs!$Q160,IF(D41=6,Calcs!$P160,IF(D41=7,Calcs!$T160,IF(D41=8,Calcs!$T160,IF(D41=9,Calcs!$T160,0)))))))))","v":14.5},{"$f":"IF(E41=1,Calcs!$N160,IF(E41=2,Calcs!$O160,IF(E41=3,Calcs!$R160,IF(E41=4,Calcs!$S160,IF(E41=5,Calcs!$Q160,IF(E41=6,Calcs!$P160,IF(E41=7,Calcs!$T160,IF(E41=8,Calcs!$T160,IF(E41=9,Calcs!$T160,0)))))))))","v":0},{"$f":"IF(F41=1,Calcs!$N160,IF(F41=2,Calcs!$O160,IF(F41=3,Calcs!$R160,IF(F41=4,Calcs!$S160,IF(F41=5,Calcs!$Q160,IF(F41=6,Calcs!$P160,IF(F41=7,Calcs!$T160,IF(F41=8,Calcs!$T160,IF(F41=9,Calcs!$T160,0)))))))))","v":0},{"$f":"IF(G41=1,Calcs!$N160,IF(G41=2,Calcs!$O160,IF(G41=3,Calcs!$R160,IF(G41=4,Calcs!$S160,IF(G41=5,Calcs!$Q160,IF(G41=6,Calcs!$P160,IF(G41=7,Calcs!$T160,IF(G41=8,Calcs!$T160,IF(G41=9,Calcs!$T160,0)))))))))","v":0},{"$f":"IF(H41=1,Calcs!$N160,IF(H41=2,Calcs!$O160,IF(H41=3,Calcs!$R160,IF(H41=4,Calcs!$S160,IF(H41=5,Calcs!$Q160,IF(H41=6,Calcs!$P160,IF(H41=7,Calcs!$T160,IF(H41=8,Calcs!$T160,IF(H41=9,Calcs!$T160,0)))))))))","v":0},{"$f":"IF(I41=1,Calcs!$N160,IF(I41=2,Calcs!$O160,IF(I41=3,Calcs!$R160,IF(I41=4,Calcs!$S160,IF(I41=5,Calcs!$Q160,IF(I41=6,Calcs!$P160,IF(I41=7,Calcs!$T160,IF(I41=8,Calcs!$T160,IF(I41=9,Calcs!$T160,0)))))))))","v":0},{"$f":"IF(J41=1,Calcs!$N160,IF(J41=2,Calcs!$O160,IF(J41=3,Calcs!$R160,IF(J41=4,Calcs!$S160,IF(J41=5,Calcs!$Q160,IF(J41=6,Calcs!$P160,IF(J41=7,Calcs!$T160,IF(J41=8,Calcs!$T160,IF(J41=9,Calcs!$T160,0)))))))))","v":0},{"$f":"IF(K41=1,Calcs!$N160,IF(K41=2,Calcs!$O160,IF(K41=3,Calcs!$R160,IF(K41=4,Calcs!$S160,IF(K41=5,Calcs!$Q160,IF(K41=6,Calcs!$P160,IF(K41=7,Calcs!$T160,IF(K41=8,Calcs!$T160,IF(K41=9,Calcs!$T160,0)))))))))","v":0},{"$f":"IF(L41=1,Calcs!$N160,IF(L41=2,Calcs!$O160,IF(L41=3,Calcs!$R160,IF(L41=4,Calcs!$S160,IF(L41=5,Calcs!$Q160,IF(L41=6,Calcs!$P160,IF(L41=7,Calcs!$T160,IF(L41=8,Calcs!$T160,IF(L41=9,Calcs!$T160,0)))))))))","v":0},null,{"$f":"'1.Profile'!E33+Calcs!$AB$124","v":14.5},{"$f":"'1.Profile'!E33+Calcs!$AC$124","v":14.5},{"$f":"'1.Profile'!F33+Calcs!$AD$124","v":15.5},{"$f":"'1.Profile'!F33+Calcs!$AE$124","v":15.5},{"$f":"'1.Profile'!H33+Calcs!$AF$124","v":14.5},{"$f":"'1.Profile'!H33+Calcs!$AG$124","v":14.5},{"$f":"'1.Profile'!H33+Calcs!$AH$124","v":14.5},"Profile","+boom+SP-harvest+n"]
[31,"Layby: Pendimetha",{"$f":"IF(C42=1,Calcs!$N161,IF(C42=2,Calcs!$O161,IF(C42=3,Calcs!$R161,IF(C42=4,Calcs!$S161,IF(C42=5,Calcs!$Q161,IF(C42=6,Calcs!$P161,IF(C42=7,Calcs!$T161,IF(C42=8,Calcs!$T161,IF(C42=9,Calcs!$T161,0)))))))))","v":24.5},{"$f":"IF(D42=1,Calcs!$N161,IF(D42=2,Calcs!$O161,IF(D42=3,Calcs!$R161,IF(D42=4,Calcs!$S161,IF(D42=5,Calcs!$Q161,IF(D42=6,Calcs!$P161,IF(D42=7,Calcs!$T161,IF(D42=8,Calcs!$T161,IF(D42=9,Calcs!$T161,0)))))))))","v":0},{"$f":"IF(E42=1,Calcs!$N161,IF(E42=2,Calcs!$O161,IF(E42=3,Calcs!$R161,IF(E42=4,Calcs!$S161,IF(E42=5,Calcs!$Q161,IF(E42=6,Calcs!$P161,IF(E42=7,Calcs!$T161,IF(E42=8,Calcs!$T161,IF(E42=9,Calcs!$T161,0)))))))))","v":0},{"$f":"IF(F42=1,Calcs!$N161,IF(F42=2,Calcs!$O161,IF(F42=3,Calcs!$R161,IF(F42=4,Calcs!$S161,IF(F42=5,Calcs!$Q161,IF(F42=6,Calcs!$P161,IF(F42=7,Calcs!$T161,IF(F42=8,Calcs!$T161,IF(F42=9,Calcs!$T161,0)))))))))","v":0},{"$f":"IF(G42=1,Calcs!$N161,IF(G42=2,Calcs!$O161,IF(G42=3,Calcs!$R161,IF(G42=4,Calcs!$S161,IF(G42=5,Calcs!$Q161,IF(G42=6,Calcs!$P161,IF(G42=7,Calcs!$T161,IF(G42=8,Calcs!$T161,IF(G42=9,Calcs!$T161,0)))))))))","v":0},{"$f":"IF(H42=1,Calcs!$N161,IF(H42=2,Calcs!$O161,IF(H42=3,Calcs!$R161,IF(H42=4,Calcs!$S161,IF(H42=5,Calcs!$Q161,IF(H42=6,Calcs!$P161,IF(H42=7,Calcs!$T161,IF(H42=8,Calcs!$T161,IF(H42=9,Calcs!$T161,0)))))))))","v":0},{"$f":"IF(I42=1,Calcs!$N161,IF(I42=2,Calcs!$O161,IF(I42=3,Calcs!$R161,IF(I42=4,Calcs!$S161,IF(I42=5,Calcs!$Q161,IF(I42=6,Calcs!$P161,IF(I42=7,Calcs!$T161,IF(I42=8,Calcs!$T161,IF(I42=9,Calcs!$T161,0)))))))))","v":0},{"$f":"IF(J42=1,Calcs!$N161,IF(J42=2,Calcs!$O161,IF(J42=3,Calcs!$R161,IF(J42=4,Calcs!$S161,IF(J42=5,Calcs!$Q161,IF(J42=6,Calcs!$P161,IF(J42=7,Calcs!$T161,IF(J42=8,Calcs!$T161,IF(J42=9,Calcs!$T161,0)))))))))","v":0},{"$f":"IF(K42=1,Calcs!$N161,IF(K42=2,Calcs!$O161,IF(K42=3,Calcs!$R161,IF(K42=4,Calcs!$S161,IF(K42=5,Calcs!$Q161,IF(K42=6,Calcs!$P161,IF(K42=7,Calcs!$T161,IF(K42=8,Calcs!$T161,IF(K42=9,Calcs!$T161,0)))))))))","v":0},{"$f":"IF(L42=1,Calcs!$N161,IF(L42=2,Calcs!$O161,IF(L42=3,Calcs!$R161,IF(L42=4,Calcs!$S161,IF(L42=5,Calcs!$Q161,IF(L42=6,Calcs!$P161,IF(L42=7,Calcs!$T161,IF(L42=8,Calcs!$T161,IF(L42=9,Calcs!$T161,0)))))))))","v":0},null,{"$f":"'1.Profile'!E34+Calcs!$AB$124","v":24.5},{"$f":"'1.Profile'!E34+Calcs!$AC$124","v":24.5},{"$f":"'1.Profile'!F34+Calcs!$AD$124","v":24.5},{"$f":"'1.Profile'!F34+Calcs!$AE$124","v":24.5},{"$f":"'1.Profile'!H34+Calcs!$AF$124","v":39.5},{"$f":"'1.Profile'!H34+Calcs!$AG$124","v":39.5},{"$f":"'1.Profile'!H34+Calcs!$AH$124","v":39.5},"Profile"]
[32,"Post-E 5: Glyphosate",{"$f":"IF(C43=1,Calcs!$N162,IF(C43=2,Calcs!$O162,IF(C43=3,Calcs!$R162,IF(C43=4,Calcs!$S162,IF(C43=5,Calcs!$Q162,IF(C43=6,Calcs!$P162,IF(C43=7,Calcs!$T162,IF(C43=8,Calcs!$T162,IF(C43=9,Calcs!$T162,0)))))))))","v":0},{"$f":"IF(D43=1,Calcs!$N162,IF(D43=2,Calcs!$O162,IF(D43=3,Calcs!$R162,IF(D43=4,Calcs!$S162,IF(D43=5,Calcs!$Q162,IF(D43=6,Calcs!$P162,IF(D43=7,Calcs!$T162,IF(D43=8,Calcs!$T162,IF(D43=9,Calcs!$T162,0)))))))))","v":12.5},{"$f":"IF(E43=1,Calcs!$N162,IF(E43=2,Calcs!$O162,IF(E43=3,Calcs!$R162,IF(E43=4,Calcs!$S162,IF(E43=5,Calcs!$Q162,IF(E43=6,Calcs!$P162,IF(E43=7,Calcs!$T162,IF(E43=8,Calcs!$T162,IF(E43=9,Calcs!$T162,0)))))))))","v":0},{"$f":"IF(F43=1,Calcs!$N162,IF(F43=2,Calcs!$O162,IF(F43=3,Calcs!$R162,IF(F43=4,Calcs!$S162,IF(F43=5,Calcs!$Q162,IF(F43=6,Calcs!$P162,IF(F43=7,Calcs!$T162,IF(F43=8,Calcs!$T162,IF(F43=9,Calcs!$T162,0)))))))))","v":0},{"$f":"IF(G43=1,Calcs!$N162,IF(G43=2,Calcs!$O162,IF(G43=3,Calcs!$R162,IF(G43=4,Calcs!$S162,IF(G43=5,Calcs!$Q162,IF(G43=6,Calcs!$P162,IF(G43=7,Calcs!$T162,IF(G43=8,Calcs!$T162,IF(G43=9,Calcs!$T162,0)))))))))","v":0},{"$f":"IF(H43=1,Calcs!$N162,IF(H43=2,Calcs!$O162,IF(H43=3,Calcs!$R162,IF(H43=4,Calcs!$S162,IF(H43=5,Calcs!$Q162,IF(H43=6,Calcs!$P162,IF(H43=7,Calcs!$T162,IF(H43=8,Calcs!$T162,IF(H43=9,Calcs!$T162,0)))))))))","v":0},{"$f":"IF(I43=1,Calcs!$N162,IF(I43=2,Calcs!$O162,IF(I43=3,Calcs!$R162,IF(I43=4,Calcs!$S162,IF(I43=5,Calcs!$Q162,IF(I43=6,Calcs!$P162,IF(I43=7,Calcs!$T162,IF(I43=8,Calcs!$T162,IF(I43=9,Calcs!$T162,0)))))))))","v":0},{"$f":"IF(J43=1,Calcs!$N162,IF(J43=2,Calcs!$O162,IF(J43=3,Calcs!$R162,IF(J43=4,Calcs!$S162,IF(J43=5,Calcs!$Q162,IF(J43=6,Calcs!$P162,IF(J43=7,Calcs!$T162,IF(J43=8,Calcs!$T162,IF(J43=9,Calcs!$T162,0)))))))))","v":0},{"$f":"IF(K43=1,Calcs!$N162,IF(K43=2,Calcs!$O162,IF(K43=3,Calcs!$R162,IF(K43=4,Calcs!$S162,IF(K43=5,Calcs!$Q162,IF(K43=6,Calcs!$P162,IF(K43=7,Calcs!$T162,IF(K43=8,Calcs!$T162,IF(K43=9,Calcs!$T162,0)))))))))","v":0},{"$f":"IF(L43=1,Calcs!$N162,IF(L43=2,Calcs!$O162,IF(L43=3,Calcs!$R162,IF(L43=4,Calcs!$S162,IF(L43=5,Calcs!$Q162,IF(L43=6,Calcs!$P162,IF(L43=7,Calcs!$T162,IF(L43=8,Calcs!$T162,IF(L43=9,Calcs!$T162,0)))))))))","v":0},null,{"$f":"'1.Profile'!G27+Calcs!$AB$124","v":15.5},{"$f":"'1.Profile'!G27+Calcs!$AC$124","v":15.5},{"$f":"'1.Profile'!E27+Calcs!$AD$124","v":15.5},{"$f":"'1.Profile'!F27+Calcs!$AE$124","v":15.5},{"$f":"'1.Profile'!G27+Calcs!$AF$124","v":15.5},{"$f":"'1.Profile'!F27+Calcs!$AG$124","v":15.5},{"$f":"'1.Profile'!H27+Calcs!$AH$124","v":12.5},"Profile"]
[33,"Post-E 5: Glufosinate",{"$f":"IF(C44=1,Calcs!$N163,IF(C44=2,Calcs!$O163,IF(C44=3,Calcs!$R163,IF(C44=4,Calcs!$S163,IF(C44=5,Calcs!$Q163,IF(C44=6,Calcs!$P163,IF(C44=7,Calcs!$T163,IF(C44=8,Calcs!$T163,IF(C44=9,Calcs!$T163,0)))))))))","v":0},{"$f":"IF(D44=1,Calcs!$N163,IF(D44=2,Calcs!$O163,IF(D44=3,Calcs!$R163,IF(D44=4,Calcs!$S163,IF(D44=5,Calcs!$Q163,IF(D44=6,Calcs!$P163,IF(D44=7,Calcs!$T163,IF(D44=8,Calcs!$T163,IF(D44=9,Calcs!$T163,0)))))))))","v":0},{"$f":"IF(E44=1,Calcs!$N163,IF(E44=2,Calcs!$O163,IF(E44=3,Calcs!$R163,IF(E44=4,Calcs!$S163,IF(E44=5,Calcs!$Q163,IF(E44=6,Calcs!$P163,IF(E44=7,Calcs!$T163,IF(E44=8,Calcs!$T163,IF(E44=9,Calcs!$T163,0)))))))))","v":0},{"$f":"IF(F44=1,Calcs!$N163,IF(F44=2,Calcs!$O163,IF(F44=3,Calcs!$R163,IF(F44=4,Calcs!$S163,IF(F44=5,Calcs!$Q163,IF(F44=6,Calcs!$P163,IF(F44=7,Calcs!$T163,IF(F44=8,Calcs!$T163,IF(F44=9,Calcs!$T163,0)))))))))","v":0},{"$f":"IF(G44=1,Calcs!$N163,IF(G44=2,Calcs!$O163,IF(G44=3,Calcs!$R163,IF(G44=4,Calcs!$S163,IF(G44=5,Calcs!$Q163,IF(G44=6,Calcs!$P163,IF(G44=7,Calcs!$T163,IF(G44=8,Calcs!$T163,IF(G44=9,Calcs!$T163,0)))))))))","v":0},{"$f":"IF(H44=1,Calcs!$N163,IF(H44=2,Calcs!$O163,IF(H44=3,Calcs!$R163,IF(H44=4,Calcs!$S163,IF(H44=5,Calcs!$Q163,IF(H44=6,Calcs!$P163,IF(H44=7,Calcs!$T163,IF(H44=8,Calcs!$T163,IF(H44=9,Calcs!$T163,0)))))))))","v":0},{"$f":"IF(I44=1,Calcs!$N163,IF(I44=2,Calcs!$O163,IF(I44=3,Calcs!$R163,IF(I44=4,Calcs!$S163,IF(I44=5,Calcs!$Q163,IF(I44=6,Calcs!$P163,IF(I44=7,Calcs!$T163,IF(I44=8,Calcs!$T163,IF(I44=9,Calcs!$T163,0)))))))))","v":0},{"$f":"IF(J44=1,Calcs!$N163,IF(J44=2,Calcs!$O163,IF(J44=3,Calcs!$R163,IF(J44=4,Calcs!$S163,IF(J44=5,Calcs!$Q163,IF(J44=6,Calcs!$P163,IF(J44=7,Calcs!$T163,IF(J44=8,Calcs!$T163,IF(J44=9,Calcs!$T163,0)))))))))","v":0},{"$f":"IF(K44=1,Calcs!$N163,IF(K44=2,Calcs!$O163,IF(K44=3,Calcs!$R163,IF(K44=4,Calcs!$S163,IF(K44=5,Calcs!$Q163,IF(K44=6,Calcs!$P163,IF(K44=7,Calcs!$T163,IF(K44=8,Calcs!$T163,IF(K44=9,Calcs!$T163,0)))))))))","v":0},{"$f":"IF(L44=1,Calcs!$N163,IF(L44=2,Calcs!$O163,IF(L44=3,Calcs!$R163,IF(L44=4,Calcs!$S163,IF(L44=5,Calcs!$Q163,IF(L44=6,Calcs!$P163,IF(L44=7,Calcs!$T163,IF(L44=8,Calcs!$T163,IF(L44=9,Calcs!$T163,0)))))))))","v":0},null,{"$f":"'1.Profile'!G28+Calcs!$AB$124","v":22.5},{"$f":"'1.Profile'!G28+Calcs!$AC$124","v":22.5},{"$f":"'1.Profile'!E28+Calcs!$AD$124","v":22.5},{"$f":"'1.Profile'!F28+Calcs!$AE$124","v":22.5},{"$f":"'1.Profile'!G28+Calcs!$AF$124","v":22.5},{"$f":"'1.Profile'!F28+Calcs!$AG$124","v":22.5},{"$f":"'1.Profile'!H28+Calcs!$AH$124","v":22.5},"Prices"]
[34,"Post-E 5: Paraquat (shielded)",{"$f":"IF(C45=1,Calcs!$N164,IF(C45=2,Calcs!$O164,IF(C45=3,Calcs!$R164,IF(C45=4,Calcs!$S164,IF(C45=5,Calcs!$Q164,IF(C45=6,Calcs!$P164,IF(C45=7,Calcs!$T164,IF(C45=8,Calcs!$T164,IF(C45=9,Calcs!$T164,0)))))))))","v":0},{"$f":"IF(D45=1,Calcs!$N164,IF(D45=2,Calcs!$O164,IF(D45=3,Calcs!$R164,IF(D45=4,Calcs!$S164,IF(D45=5,Calcs!$Q164,IF(D45=6,Calcs!$P164,IF(D45=7,Calcs!$T164,IF(D45=8,Calcs!$T164,IF(D45=9,Calcs!$T164,0)))))))))","v":0},{"$f":"IF(E45=1,Calcs!$N164,IF(E45=2,Calcs!$O164,IF(E45=3,Calcs!$R164,IF(E45=4,Calcs!$S164,IF(E45=5,Calcs!$Q164,IF(E45=6,Calcs!$P164,IF(E45=7,Calcs!$T164,IF(E45=8,Calcs!$T164,IF(E45=9,Calcs!$T164,0)))))))))","v":0},{"$f":"IF(F45=1,Calcs!$N164,IF(F45=2,Calcs!$O164,IF(F45=3,Calcs!$R164,IF(F45=4,Calcs!$S164,IF(F45=5,Calcs!$Q164,IF(F45=6,Calcs!$P164,IF(F45=7,Calcs!$T164,IF(F45=8,Calcs!$T164,IF(F45=9,Calcs!$T164,0)))))))))","v":0},{"$f":"IF(G45=1,Calcs!$N164,IF(G45=2,Calcs!$O164,IF(G45=3,Calcs!$R164,IF(G45=4,Calcs!$S164,IF(G45=5,Calcs!$Q164,IF(G45=6,Calcs!$P164,IF(G45=7,Calcs!$T164,IF(G45=8,Calcs!$T164,IF(G45=9,Calcs!$T164,0)))))))))","v":0},{"$f":"IF(H45=1,Calcs!$N164,IF(H45=2,Calcs!$O164,IF(H45=3,Calcs!$R164,IF(H45=4,Calcs!$S164,IF(H45=5,Calcs!$Q164,IF(H45=6,Calcs!$P164,IF(H45=7,Calcs!$T164,IF(H45=8,Calcs!$T164,IF(H45=9,Calcs!$T164,0)))))))))","v":0},{"$f":"IF(I45=1,Calcs!$N164,IF(I45=2,Calcs!$O164,IF(I45=3,Calcs!$R164,IF(I45=4,Calcs!$S164,IF(I45=5,Calcs!$Q164,IF(I45=6,Calcs!$P164,IF(I45=7,Calcs!$T164,IF(I45=8,Calcs!$T164,IF(I45=9,Calcs!$T164,0)))))))))","v":0},{"$f":"IF(J45=1,Calcs!$N164,IF(J45=2,Calcs!$O164,IF(J45=3,Calcs!$R164,IF(J45=4,Calcs!$S164,IF(J45=5,Calcs!$Q164,IF(J45=6,Calcs!$P164,IF(J45=7,Calcs!$T164,IF(J45=8,Calcs!$T164,IF(J45=9,Calcs!$T164,0)))))))))","v":0},{"$f":"IF(K45=1,Calcs!$N164,IF(K45=2,Calcs!$O164,IF(K45=3,Calcs!$R164,IF(K45=4,Calcs!$S164,IF(K45=5,Calcs!$Q164,IF(K45=6,Calcs!$P164,IF(K45=7,Calcs!$T164,IF(K45=8,Calcs!$T164,IF(K45=9,Calcs!$T164,0)))))))))","v":0},{"$f":"IF(L45=1,Calcs!$N164,IF(L45=2,Calcs!$O164,IF(L45=3,Calcs!$R164,IF(L45=4,Calcs!$S164,IF(L45=5,Calcs!$Q164,IF(L45=6,Calcs!$P164,IF(L45=7,Calcs!$T164,IF(L45=8,Calcs!$T164,IF(L45=9,Calcs!$T164,0)))))))))","v":0},null,{"$f":"'1.Profile'!G29+Calcs!$AB$124","v":13.5},{"$f":"'1.Profile'!G29+Calcs!$AC$124","v":13.5},{"$f":"'1.Profile'!E29+Calcs!$AD$124","v":13.5},{"$f":"'1.Profile'!F29+Calcs!$AE$124","v":13.5},{"$f":"'1.Profile'!G29+Calcs!$AF$124","v":13.5},{"$f":"'1.Profile'!F29+Calcs!$AG$124","v":13.5},{"$f":"'1.Profile'!H29+Calcs!$AH$124","v":15.5},null,"+boom+sp"]
[35,"Post-E 5: Inter-row tillage",{"$f":"IF(C46=1,Calcs!$N165,IF(C46=2,Calcs!$O165,IF(C46=3,Calcs!$R165,IF(C46=4,Calcs!$S165,IF(C46=5,Calcs!$Q165,IF(C46=6,Calcs!$P165,IF(C46=7,Calcs!$T165,IF(C46=8,Calcs!$T165,IF(C46=9,Calcs!$T165,0)))))))))","v":0},{"$f":"IF(D46=1,Calcs!$N165,IF(D46=2,Calcs!$O165,IF(D46=3,Calcs!$R165,IF(D46=4,Calcs!$S165,IF(D46=5,Calcs!$Q165,IF(D46=6,Calcs!$P165,IF(D46=7,Calcs!$T165,IF(D46=8,Calcs!$T165,IF(D46=9,Calcs!$T165,0)))))))))","v":0},{"$f":"IF(E46=1,Calcs!$N165,IF(E46=2,Calcs!$O165,IF(E46=3,Calcs!$R165,IF(E46=4,Calcs!$S165,IF(E46=5,Calcs!$Q165,IF(E46=6,Calcs!$P165,IF(E46=7,Calcs!$T165,IF(E46=8,Calcs!$T165,IF(E46=9,Calcs!$T165,0)))))))))","v":13.5},{"$f":"IF(F46=1,Calcs!$N165,IF(F46=2,Calcs!$O165,IF(F46=3,Calcs!$R165,IF(F46=4,Calcs!$S165,IF(F46=5,Calcs!$Q165,IF(F46=6,Calcs!$P165,IF(F46=7,Calcs!$T165,IF(F46=8,Calcs!$T165,IF(F46=9,Calcs!$T165,0)))))))))","v":0},{"$f":"IF(G46=1,Calcs!$N165,IF(G46=2,Calcs!$O165,IF(G46=3,Calcs!$R165,IF(G46=4,Calcs!$S165,IF(G46=5,Calcs!$Q165,IF(G46=6,Calcs!$P165,IF(G46=7,Calcs!$T165,IF(G46=8,Calcs!$T165,IF(G46=9,Calcs!$T165,0)))))))))","v":0},{"$f":"IF(H46=1,Calcs!$N165,IF(H46=2,Calcs!$O165,IF(H46=3,Calcs!$R165,IF(H46=4,Calcs!$S165,IF(H46=5,Calcs!$Q165,IF(H46=6,Calcs!$P165,IF(H46=7,Calcs!$T165,IF(H46=8,Calcs!$T165,IF(H46=9,Calcs!$T165,0)))))))))","v":0},{"$f":"IF(I46=1,Calcs!$N165,IF(I46=2,Calcs!$O165,IF(I46=3,Calcs!$R165,IF(I46=4,Calcs!$S165,IF(I46=5,Calcs!$Q165,IF(I46=6,Calcs!$P165,IF(I46=7,Calcs!$T165,IF(I46=8,Calcs!$T165,IF(I46=9,Calcs!$T165,0)))))))))","v":0},{"$f":"IF(J46=1,Calcs!$N165,IF(J46=2,Calcs!$O165,IF(J46=3,Calcs!$R165,IF(J46=4,Calcs!$S165,IF(J46=5,Calcs!$Q165,IF(J46=6,Calcs!$P165,IF(J46=7,Calcs!$T165,IF(J46=8,Calcs!$T165,IF(J46=9,Calcs!$T165,0)))))))))","v":0},{"$f":"IF(K46=1,Calcs!$N165,IF(K46=2,Calcs!$O165,IF(K46=3,Calcs!$R165,IF(K46=4,Calcs!$S165,IF(K46=5,Calcs!$Q165,IF(K46=6,Calcs!$P165,IF(K46=7,Calcs!$T165,IF(K46=8,Calcs!$T165,IF(K46=9,Calcs!$T165,0)))))))))","v":13.5},{"$f":"IF(L46=1,Calcs!$N165,IF(L46=2,Calcs!$O165,IF(L46=3,Calcs!$R165,IF(L46=4,Calcs!$S165,IF(L46=5,Calcs!$Q165,IF(L46=6,Calcs!$P165,IF(L46=7,Calcs!$T165,IF(L46=8,Calcs!$T165,IF(L46=9,Calcs!$T165,0)))))))))","v":0},null,{"$f":"'1.Profile'!G30+Calcs!$AB$124","v":13.5},{"$f":"'1.Profile'!G30+Calcs!$AC$124","v":13.5},{"$f":"'1.Profile'!E30+Calcs!$AD$124","v":13.5},{"$f":"'1.Profile'!F30+Calcs!$AE$124","v":13.5},{"$f":"'1.Profile'!G30+Calcs!$AF$124","v":13.5},{"$f":"'1.Profile'!F30+Calcs!$AG$124","v":13.5},{"$f":"'1.Profile'!H30+Calcs!$AH$124","v":12.5}]
[36,"Post-E 5: Group A",{"$f":"IF(C47=1,Calcs!$N166,IF(C47=2,Calcs!$O166,IF(C47=3,Calcs!$R166,IF(C47=4,Calcs!$S166,IF(C47=5,Calcs!$Q166,IF(C47=6,Calcs!$P166,IF(C47=7,Calcs!$T166,IF(C47=8,Calcs!$T166,IF(C47=9,Calcs!$T166,0)))))))))","v":0},{"$f":"IF(D47=1,Calcs!$N166,IF(D47=2,Calcs!$O166,IF(D47=3,Calcs!$R166,IF(D47=4,Calcs!$S166,IF(D47=5,Calcs!$Q166,IF(D47=6,Calcs!$P166,IF(D47=7,Calcs!$T166,IF(D47=8,Calcs!$T166,IF(D47=9,Calcs!$T166,0)))))))))","v":0},{"$f":"IF(E47=1,Calcs!$N166,IF(E47=2,Calcs!$O166,IF(E47=3,Calcs!$R166,IF(E47=4,Calcs!$S166,IF(E47=5,Calcs!$Q166,IF(E47=6,Calcs!$P166,IF(E47=7,Calcs!$T166,IF(E47=8,Calcs!$T166,IF(E47=9,Calcs!$T166,0)))))))))","v":0},{"$f":"IF(F47=1,Calcs!$N166,IF(F47=2,Calcs!$O166,IF(F47=3,Calcs!$R166,IF(F47=4,Calcs!$S166,IF(F47=5,Calcs!$Q166,IF(F47=6,Calcs!$P166,IF(F47=7,Calcs!$T166,IF(F47=8,Calcs!$T166,IF(F47=9,Calcs!$T166,0)))))))))","v":0},{"$f":"IF(G47=1,Calcs!$N166,IF(G47=2,Calcs!$O166,IF(G47=3,Calcs!$R166,IF(G47=4,Calcs!$S166,IF(G47=5,Calcs!$Q166,IF(G47=6,Calcs!$P166,IF(G47=7,Calcs!$T166,IF(G47=8,Calcs!$T166,IF(G47=9,Calcs!$T166,0)))))))))","v":0},{"$f":"IF(H47=1,Calcs!$N166,IF(H47=2,Calcs!$O166,IF(H47=3,Calcs!$R166,IF(H47=4,Calcs!$S166,IF(H47=5,Calcs!$Q166,IF(H47=6,Calcs!$P166,IF(H47=7,Calcs!$T166,IF(H47=8,Calcs!$T166,IF(H47=9,Calcs!$T166,0)))))))))","v":0},{"$f":"IF(I47=1,Calcs!$N166,IF(I47=2,Calcs!$O166,IF(I47=3,Calcs!$R166,IF(I47=4,Calcs!$S166,IF(I47=5,Calcs!$Q166,IF(I47=6,Calcs!$P166,IF(I47=7,Calcs!$T166,IF(I47=8,Calcs!$T166,IF(I47=9,Calcs!$T166,0)))))))))","v":0},{"$f":"IF(J47=1,Calcs!$N166,IF(J47=2,Calcs!$O166,IF(J47=3,Calcs!$R166,IF(J47=4,Calcs!$S166,IF(J47=5,Calcs!$Q166,IF(J47=6,Calcs!$P166,IF(J47=7,Calcs!$T166,IF(J47=8,Calcs!$T166,IF(J47=9,Calcs!$T166,0)))))))))","v":0},{"$f":"IF(K47=1,Calcs!$N166,IF(K47=2,Calcs!$O166,IF(K47=3,Calcs!$R166,IF(K47=4,Calcs!$S166,IF(K47=5,Calcs!$Q166,IF(K47=6,Calcs!$P166,IF(K47=7,Calcs!$T166,IF(K47=8,Calcs!$T166,IF(K47=9,Calcs!$T166,0)))))))))","v":0},{"$f":"IF(L47=1,Calcs!$N166,IF(L47=2,Calcs!$O166,IF(L47=3,Calcs!$R166,IF(L47=4,Calcs!$S166,IF(L47=5,Calcs!$Q166,IF(L47=6,Calcs!$P166,IF(L47=7,Calcs!$T166,IF(L47=8,Calcs!$T166,IF(L47=9,Calcs!$T166,0)))))))))","v":0},null,{"$f":"'1.Profile'!G31+Calcs!$AB$124","v":19.5},{"$f":"'1.Profile'!G31+Calcs!$AC$124","v":19.5},{"$f":"'1.Profile'!E31+Calcs!$AD$124","v":19.5},{"$f":"'1.Profile'!F31+Calcs!$AE$124","v":19.5},{"$f":"'1.Profile'!G31+Calcs!$AF$124","v":19.5},{"$f":"'1.Profile'!F31+Calcs!$AG$124","v":19.5},{"$f":"'1.Profile'!H31+Calcs!$AH$124","v":19.5}]
[37,"Post-E 6: Glyphosate",{"$f":"IF(C48=1,Calcs!$N167,IF(C48=2,Calcs!$O167,IF(C48=3,Calcs!$R167,IF(C48=4,Calcs!$S167,IF(C48=5,Calcs!$Q167,IF(C48=6,Calcs!$P167,IF(C48=7,Calcs!$T167,IF(C48=8,Calcs!$T167,IF(C48=9,Calcs!$T167,0)))))))))","v":15.5},{"$f":"IF(D48=1,Calcs!$N167,IF(D48=2,Calcs!$O167,IF(D48=3,Calcs!$R167,IF(D48=4,Calcs!$S167,IF(D48=5,Calcs!$Q167,IF(D48=6,Calcs!$P167,IF(D48=7,Calcs!$T167,IF(D48=8,Calcs!$T167,IF(D48=9,Calcs!$T167,0)))))))))","v":0},{"$f":"IF(E48=1,Calcs!$N167,IF(E48=2,Calcs!$O167,IF(E48=3,Calcs!$R167,IF(E48=4,Calcs!$S167,IF(E48=5,Calcs!$Q167,IF(E48=6,Calcs!$P167,IF(E48=7,Calcs!$T167,IF(E48=8,Calcs!$T167,IF(E48=9,Calcs!$T167,0)))))))))","v":0},{"$f":"IF(F48=1,Calcs!$N167,IF(F48=2,Calcs!$O167,IF(F48=3,Calcs!$R167,IF(F48=4,Calcs!$S167,IF(F48=5,Calcs!$Q167,IF(F48=6,Calcs!$P167,IF(F48=7,Calcs!$T167,IF(F48=8,Calcs!$T167,IF(F48=9,Calcs!$T167,0)))))))))","v":0},{"$f":"IF(G48=1,Calcs!$N167,IF(G48=2,Calcs!$O167,IF(G48=3,Calcs!$R167,IF(G48=4,Calcs!$S167,IF(G48=5,Calcs!$Q167,IF(G48=6,Calcs!$P167,IF(G48=7,Calcs!$T167,IF(G48=8,Calcs!$T167,IF(G48=9,Calcs!$T167,0)))))))))","v":15.5},{"$f":"IF(H48=1,Calcs!$N167,IF(H48=2,Calcs!$O167,IF(H48=3,Calcs!$R167,IF(H48=4,Calcs!$S167,IF(H48=5,Calcs!$Q167,IF(H48=6,Calcs!$P167,IF(H48=7,Calcs!$T167,IF(H48=8,Calcs!$T167,IF(H48=9,Calcs!$T167,0)))))))))","v":0},{"$f":"IF(I48=1,Calcs!$N167,IF(I48=2,Calcs!$O167,IF(I48=3,Calcs!$R167,IF(I48=4,Calcs!$S167,IF(I48=5,Calcs!$Q167,IF(I48=6,Calcs!$P167,IF(I48=7,Calcs!$T167,IF(I48=8,Calcs!$T167,IF(I48=9,Calcs!$T167,0)))))))))","v":15.5},{"$f":"IF(J48=1,Calcs!$N167,IF(J48=2,Calcs!$O167,IF(J48=3,Calcs!$R167,IF(J48=4,Calcs!$S167,IF(J48=5,Calcs!$Q167,IF(J48=6,Calcs!$P167,IF(J48=7,Calcs!$T167,IF(J48=8,Calcs!$T167,IF(J48=9,Calcs!$T167,0)))))))))","v":0},{"$f":"IF(K48=1,Calcs!$N167,IF(K48=2,Calcs!$O167,IF(K48=3,Calcs!$R167,IF(K48=4,Calcs!$S167,IF(K48=5,Calcs!$Q167,IF(K48=6,Calcs!$P167,IF(K48=7,Calcs!$T167,IF(K48=8,Calcs!$T167,IF(K48=9,Calcs!$T167,0)))))))))","v":0},{"$f":"IF(L48=1,Calcs!$N167,IF(L48=2,Calcs!$O167,IF(L48=3,Calcs!$R167,IF(L48=4,Calcs!$S167,IF(L48=5,Calcs!$Q167,IF(L48=6,Calcs!$P167,IF(L48=7,Calcs!$T167,IF(L48=8,Calcs!$T167,IF(L48=9,Calcs!$T167,0)))))))))","v":0},null,{"$f":"'1.Profile'!G27+Calcs!$AB$124","v":15.5},{"$f":"'1.Profile'!G27+Calcs!$AC$124","v":15.5},{"$f":"'1.Profile'!E27+Calcs!$AD$124","v":15.5},{"$f":"'1.Profile'!F27+Calcs!$AE$124","v":15.5},{"$f":"'1.Profile'!G27+Calcs!$AF$124","v":15.5},{"$f":"'1.Profile'!F27+Calcs!$AG$124","v":15.5},{"$f":"'1.Profile'!H27+Calcs!$AH$124","v":12.5}]
[38,"Post-E 6: Glufosinate",{"$f":"IF(C49=1,Calcs!$N168,IF(C49=2,Calcs!$O168,IF(C49=3,Calcs!$R168,IF(C49=4,Calcs!$S168,IF(C49=5,Calcs!$Q168,IF(C49=6,Calcs!$P168,IF(C49=7,Calcs!$T168,IF(C49=8,Calcs!$T168,IF(C49=9,Calcs!$T168,0)))))))))","v":0},{"$f":"IF(D49=1,Calcs!$N168,IF(D49=2,Calcs!$O168,IF(D49=3,Calcs!$R168,IF(D49=4,Calcs!$S168,IF(D49=5,Calcs!$Q168,IF(D49=6,Calcs!$P168,IF(D49=7,Calcs!$T168,IF(D49=8,Calcs!$T168,IF(D49=9,Calcs!$T168,0)))))))))","v":0},{"$f":"IF(E49=1,Calcs!$N168,IF(E49=2,Calcs!$O168,IF(E49=3,Calcs!$R168,IF(E49=4,Calcs!$S168,IF(E49=5,Calcs!$Q168,IF(E49=6,Calcs!$P168,IF(E49=7,Calcs!$T168,IF(E49=8,Calcs!$T168,IF(E49=9,Calcs!$T168,0)))))))))","v":0},{"$f":"IF(F49=1,Calcs!$N168,IF(F49=2,Calcs!$O168,IF(F49=3,Calcs!$R168,IF(F49=4,Calcs!$S168,IF(F49=5,Calcs!$Q168,IF(F49=6,Calcs!$P168,IF(F49=7,Calcs!$T168,IF(F49=8,Calcs!$T168,IF(F49=9,Calcs!$T168,0)))))))))","v":0},{"$f":"IF(G49=1,Calcs!$N168,IF(G49=2,Calcs!$O168,IF(G49=3,Calcs!$R168,IF(G49=4,Calcs!$S168,IF(G49=5,Calcs!$Q168,IF(G49=6,Calcs!$P168,IF(G49=7,Calcs!$T168,IF(G49=8,Calcs!$T168,IF(G49=9,Calcs!$T168,0)))))))))","v":0},{"$f":"IF(H49=1,Calcs!$N168,IF(H49=2,Calcs!$O168,IF(H49=3,Calcs!$R168,IF(H49=4,Calcs!$S168,IF(H49=5,Calcs!$Q168,IF(H49=6,Calcs!$P168,IF(H49=7,Calcs!$T168,IF(H49=8,Calcs!$T168,IF(H49=9,Calcs!$T168,0)))))))))","v":0},{"$f":"IF(I49=1,Calcs!$N168,IF(I49=2,Calcs!$O168,IF(I49=3,Calcs!$R168,IF(I49=4,Calcs!$S168,IF(I49=5,Calcs!$Q168,IF(I49=6,Calcs!$P168,IF(I49=7,Calcs!$T168,IF(I49=8,Calcs!$T168,IF(I49=9,Calcs!$T168,0)))))))))","v":0},{"$f":"IF(J49=1,Calcs!$N168,IF(J49=2,Calcs!$O168,IF(J49=3,Calcs!$R168,IF(J49=4,Calcs!$S168,IF(J49=5,Calcs!$Q168,IF(J49=6,Calcs!$P168,IF(J49=7,Calcs!$T168,IF(J49=8,Calcs!$T168,IF(J49=9,Calcs!$T168,0)))))))))","v":0},{"$f":"IF(K49=1,Calcs!$N168,IF(K49=2,Calcs!$O168,IF(K49=3,Calcs!$R168,IF(K49=4,Calcs!$S168,IF(K49=5,Calcs!$Q168,IF(K49=6,Calcs!$P168,IF(K49=7,Calcs!$T168,IF(K49=8,Calcs!$T168,IF(K49=9,Calcs!$T168,0)))))))))","v":0},{"$f":"IF(L49=1,Calcs!$N168,IF(L49=2,Calcs!$O168,IF(L49=3,Calcs!$R168,IF(L49=4,Calcs!$S168,IF(L49=5,Calcs!$Q168,IF(L49=6,Calcs!$P168,IF(L49=7,Calcs!$T168,IF(L49=8,Calcs!$T168,IF(L49=9,Calcs!$T168,0)))))))))","v":0},null,{"$f":"'1.Profile'!G28+Calcs!$AB$124","v":22.5},{"$f":"'1.Profile'!G28+Calcs!$AC$124","v":22.5},{"$f":"'1.Profile'!E28+Calcs!$AD$124","v":22.5},{"$f":"'1.Profile'!F28+Calcs!$AE$124","v":22.5},{"$f":"'1.Profile'!G28+Calcs!$AF$124","v":22.5},{"$f":"'1.Profile'!F28+Calcs!$AG$124","v":22.5},{"$f":"'1.Profile'!H28+Calcs!$AH$124","v":22.5}]
[39,"Post-E 6: Paraquat (shielded)",{"$f":"IF(C50=1,Calcs!$N169,IF(C50=2,Calcs!$O169,IF(C50=3,Calcs!$R169,IF(C50=4,Calcs!$S169,IF(C50=5,Calcs!$Q169,IF(C50=6,Calcs!$P169,IF(C50=7,Calcs!$T169,IF(C50=8,Calcs!$T169,IF(C50=9,Calcs!$T169,0)))))))))","v":0},{"$f":"IF(D50=1,Calcs!$N169,IF(D50=2,Calcs!$O169,IF(D50=3,Calcs!$R169,IF(D50=4,Calcs!$S169,IF(D50=5,Calcs!$Q169,IF(D50=6,Calcs!$P169,IF(D50=7,Calcs!$T169,IF(D50=8,Calcs!$T169,IF(D50=9,Calcs!$T169,0)))))))))","v":0},{"$f":"IF(E50=1,Calcs!$N169,IF(E50=2,Calcs!$O169,IF(E50=3,Calcs!$R169,IF(E50=4,Calcs!$S169,IF(E50=5,Calcs!$Q169,IF(E50=6,Calcs!$P169,IF(E50=7,Calcs!$T169,IF(E50=8,Calcs!$T169,IF(E50=9,Calcs!$T169,0)))))))))","v":0},{"$f":"IF(F50=1,Calcs!$N169,IF(F50=2,Calcs!$O169,IF(F50=3,Calcs!$R169,IF(F50=4,Calcs!$S169,IF(F50=5,Calcs!$Q169,IF(F50=6,Calcs!$P169,IF(F50=7,Calcs!$T169,IF(F50=8,Calcs!$T169,IF(F50=9,Calcs!$T169,0)))))))))","v":0},{"$f":"IF(G50=1,Calcs!$N169,IF(G50=2,Calcs!$O169,IF(G50=3,Calcs!$R169,IF(G50=4,Calcs!$S169,IF(G50=5,Calcs!$Q169,IF(G50=6,Calcs!$P169,IF(G50=7,Calcs!$T169,IF(G50=8,Calcs!$T169,IF(G50=9,Calcs!$T169,0)))))))))","v":0},{"$f":"IF(H50=1,Calcs!$N169,IF(H50=2,Calcs!$O169,IF(H50=3,Calcs!$R169,IF(H50=4,Calcs!$S169,IF(H50=5,Calcs!$Q169,IF(H50=6,Calcs!$P169,IF(H50=7,Calcs!$T169,IF(H50=8,Calcs!$T169,IF(H50=9,Calcs!$T169,0)))))))))","v":0},{"$f":"IF(I50=1,Calcs!$N169,IF(I50=2,Calcs!$O169,IF(I50=3,Calcs!$R169,IF(I50=4,Calcs!$S169,IF(I50=5,Calcs!$Q169,IF(I50=6,Calcs!$P169,IF(I50=7,Calcs!$T169,IF(I50=8,Calcs!$T169,IF(I50=9,Calcs!$T169,0)))))))))","v":0},{"$f":"IF(J50=1,Calcs!$N169,IF(J50=2,Calcs!$O169,IF(J50=3,Calcs!$R169,IF(J50=4,Calcs!$S169,IF(J50=5,Calcs!$Q169,IF(J50=6,Calcs!$P169,IF(J50=7,Calcs!$T169,IF(J50=8,Calcs!$T169,IF(J50=9,Calcs!$T169,0)))))))))","v":0},{"$f":"IF(K50=1,Calcs!$N169,IF(K50=2,Calcs!$O169,IF(K50=3,Calcs!$R169,IF(K50=4,Calcs!$S169,IF(K50=5,Calcs!$Q169,IF(K50=6,Calcs!$P169,IF(K50=7,Calcs!$T169,IF(K50=8,Calcs!$T169,IF(K50=9,Calcs!$T169,0)))))))))","v":0},{"$f":"IF(L50=1,Calcs!$N169,IF(L50=2,Calcs!$O169,IF(L50=3,Calcs!$R169,IF(L50=4,Calcs!$S169,IF(L50=5,Calcs!$Q169,IF(L50=6,Calcs!$P169,IF(L50=7,Calcs!$T169,IF(L50=8,Calcs!$T169,IF(L50=9,Calcs!$T169,0)))))))))","v":0},null,{"$f":"'1.Profile'!G29+Calcs!$AB$124","v":13.5},{"$f":"'1.Profile'!G29+Calcs!$AC$124","v":13.5},{"$f":"'1.Profile'!E29+Calcs!$AD$124","v":13.5},{"$f":"'1.Profile'!F29+Calcs!$AE$124","v":13.5},{"$f":"'1.Profile'!G29+Calcs!$AF$124","v":13.5},{"$f":"'1.Profile'!F29+Calcs!$AG$124","v":13.5},{"$f":"'1.Profile'!H29+Calcs!$AH$124","v":15.5}]
[40,"Post-E 6: Inter-row tillage",{"$f":"IF(C51=1,Calcs!$N170,IF(C51=2,Calcs!$O170,IF(C51=3,Calcs!$R170,IF(C51=4,Calcs!$S170,IF(C51=5,Calcs!$Q170,IF(C51=6,Calcs!$P170,IF(C51=7,Calcs!$T170,IF(C51=8,Calcs!$T170,IF(C51=9,Calcs!$T170,0)))))))))","v":0},{"$f":"IF(D51=1,Calcs!$N170,IF(D51=2,Calcs!$O170,IF(D51=3,Calcs!$R170,IF(D51=4,Calcs!$S170,IF(D51=5,Calcs!$Q170,IF(D51=6,Calcs!$P170,IF(D51=7,Calcs!$T170,IF(D51=8,Calcs!$T170,IF(D51=9,Calcs!$T170,0)))))))))","v":0},{"$f":"IF(E51=1,Calcs!$N170,IF(E51=2,Calcs!$O170,IF(E51=3,Calcs!$R170,IF(E51=4,Calcs!$S170,IF(E51=5,Calcs!$Q170,IF(E51=6,Calcs!$P170,IF(E51=7,Calcs!$T170,IF(E51=8,Calcs!$T170,IF(E51=9,Calcs!$T170,0)))))))))","v":0},{"$f":"IF(F51=1,Calcs!$N170,IF(F51=2,Calcs!$O170,IF(F51=3,Calcs!$R170,IF(F51=4,Calcs!$S170,IF(F51=5,Calcs!$Q170,IF(F51=6,Calcs!$P170,IF(F51=7,Calcs!$T170,IF(F51=8,Calcs!$T170,IF(F51=9,Calcs!$T170,0)))))))))","v":0},{"$f":"IF(G51=1,Calcs!$N170,IF(G51=2,Calcs!$O170,IF(G51=3,Calcs!$R170,IF(G51=4,Calcs!$S170,IF(G51=5,Calcs!$Q170,IF(G51=6,Calcs!$P170,IF(G51=7,Calcs!$T170,IF(G51=8,Calcs!$T170,IF(G51=9,Calcs!$T170,0)))))))))","v":0},{"$f":"IF(H51=1,Calcs!$N170,IF(H51=2,Calcs!$O170,IF(H51=3,Calcs!$R170,IF(H51=4,Calcs!$S170,IF(H51=5,Calcs!$Q170,IF(H51=6,Calcs!$P170,IF(H51=7,Calcs!$T170,IF(H51=8,Calcs!$T170,IF(H51=9,Calcs!$T170,0)))))))))","v":0},{"$f":"IF(I51=1,Calcs!$N170,IF(I51=2,Calcs!$O170,IF(I51=3,Calcs!$R170,IF(I51=4,Calcs!$S170,IF(I51=5,Calcs!$Q170,IF(I51=6,Calcs!$P170,IF(I51=7,Calcs!$T170,IF(I51=8,Calcs!$T170,IF(I51=9,Calcs!$T170,0)))))))))","v":0},{"$f":"IF(J51=1,Calcs!$N170,IF(J51=2,Calcs!$O170,IF(J51=3,Calcs!$R170,IF(J51=4,Calcs!$S170,IF(J51=5,Calcs!$Q170,IF(J51=6,Calcs!$P170,IF(J51=7,Calcs!$T170,IF(J51=8,Calcs!$T170,IF(J51=9,Calcs!$T170,0)))))))))","v":0},{"$f":"IF(K51=1,Calcs!$N170,IF(K51=2,Calcs!$O170,IF(K51=3,Calcs!$R170,IF(K51=4,Calcs!$S170,IF(K51=5,Calcs!$Q170,IF(K51=6,Calcs!$P170,IF(K51=7,Calcs!$T170,IF(K51=8,Calcs!$T170,IF(K51=9,Calcs!$T170,0)))))))))","v":0},{"$f":"IF(L51=1,Calcs!$N170,IF(L51=2,Calcs!$O170,IF(L51=3,Calcs!$R170,IF(L51=4,Calcs!$S170,IF(L51=5,Calcs!$Q170,IF(L51=6,Calcs!$P170,IF(L51=7,Calcs!$T170,IF(L51=8,Calcs!$T170,IF(L51=9,Calcs!$T170,0)))))))))","v":0},null,{"$f":"'1.Profile'!G30+Calcs!$AB$124","v":13.5},{"$f":"'1.Profile'!G30+Calcs!$AC$124","v":13.5},{"$f":"'1.Profile'!E30+Calcs!$AD$124","v":13.5},{"$f":"'1.Profile'!F30+Calcs!$AE$124","v":13.5},{"$f":"'1.Profile'!G30+Calcs!$AF$124","v":13.5},{"$f":"'1.Profile'!F30+Calcs!$AG$124","v":13.5},{"$f":"'1.Profile'!H30+Calcs!$AH$124","v":12.5}]
[41,"Post-E 6: Group A",{"$f":"IF(C52=1,Calcs!$N171,IF(C52=2,Calcs!$O171,IF(C52=3,Calcs!$R171,IF(C52=4,Calcs!$S171,IF(C52=5,Calcs!$Q171,IF(C52=6,Calcs!$P171,IF(C52=7,Calcs!$T171,IF(C52=8,Calcs!$T171,IF(C52=9,Calcs!$T171,0)))))))))","v":0},{"$f":"IF(D52=1,Calcs!$N171,IF(D52=2,Calcs!$O171,IF(D52=3,Calcs!$R171,IF(D52=4,Calcs!$S171,IF(D52=5,Calcs!$Q171,IF(D52=6,Calcs!$P171,IF(D52=7,Calcs!$T171,IF(D52=8,Calcs!$T171,IF(D52=9,Calcs!$T171,0)))))))))","v":0},{"$f":"IF(E52=1,Calcs!$N171,IF(E52=2,Calcs!$O171,IF(E52=3,Calcs!$R171,IF(E52=4,Calcs!$S171,IF(E52=5,Calcs!$Q171,IF(E52=6,Calcs!$P171,IF(E52=7,Calcs!$T171,IF(E52=8,Calcs!$T171,IF(E52=9,Calcs!$T171,0)))))))))","v":0},{"$f":"IF(F52=1,Calcs!$N171,IF(F52=2,Calcs!$O171,IF(F52=3,Calcs!$R171,IF(F52=4,Calcs!$S171,IF(F52=5,Calcs!$Q171,IF(F52=6,Calcs!$P171,IF(F52=7,Calcs!$T171,IF(F52=8,Calcs!$T171,IF(F52=9,Calcs!$T171,0)))))))))","v":0},{"$f":"IF(G52=1,Calcs!$N171,IF(G52=2,Calcs!$O171,IF(G52=3,Calcs!$R171,IF(G52=4,Calcs!$S171,IF(G52=5,Calcs!$Q171,IF(G52=6,Calcs!$P171,IF(G52=7,Calcs!$T171,IF(G52=8,Calcs!$T171,IF(G52=9,Calcs!$T171,0)))))))))","v":0},{"$f":"IF(H52=1,Calcs!$N171,IF(H52=2,Calcs!$O171,IF(H52=3,Calcs!$R171,IF(H52=4,Calcs!$S171,IF(H52=5,Calcs!$Q171,IF(H52=6,Calcs!$P171,IF(H52=7,Calcs!$T171,IF(H52=8,Calcs!$T171,IF(H52=9,Calcs!$T171,0)))))))))","v":0},{"$f":"IF(I52=1,Calcs!$N171,IF(I52=2,Calcs!$O171,IF(I52=3,Calcs!$R171,IF(I52=4,Calcs!$S171,IF(I52=5,Calcs!$Q171,IF(I52=6,Calcs!$P171,IF(I52=7,Calcs!$T171,IF(I52=8,Calcs!$T171,IF(I52=9,Calcs!$T171,0)))))))))","v":0},{"$f":"IF(J52=1,Calcs!$N171,IF(J52=2,Calcs!$O171,IF(J52=3,Calcs!$R171,IF(J52=4,Calcs!$S171,IF(J52=5,Calcs!$Q171,IF(J52=6,Calcs!$P171,IF(J52=7,Calcs!$T171,IF(J52=8,Calcs!$T171,IF(J52=9,Calcs!$T171,0)))))))))","v":0},{"$f":"IF(K52=1,Calcs!$N171,IF(K52=2,Calcs!$O171,IF(K52=3,Calcs!$R171,IF(K52=4,Calcs!$S171,IF(K52=5,Calcs!$Q171,IF(K52=6,Calcs!$P171,IF(K52=7,Calcs!$T171,IF(K52=8,Calcs!$T171,IF(K52=9,Calcs!$T171,0)))))))))","v":0},{"$f":"IF(L52=1,Calcs!$N171,IF(L52=2,Calcs!$O171,IF(L52=3,Calcs!$R171,IF(L52=4,Calcs!$S171,IF(L52=5,Calcs!$Q171,IF(L52=6,Calcs!$P171,IF(L52=7,Calcs!$T171,IF(L52=8,Calcs!$T171,IF(L52=9,Calcs!$T171,0)))))))))","v":0},null,{"$f":"'1.Profile'!G31+Calcs!$AB$124","v":19.5},{"$f":"'1.Profile'!G31+Calcs!$AC$124","v":19.5},{"$f":"'1.Profile'!E31+Calcs!$AD$124","v":19.5},{"$f":"'1.Profile'!F31+Calcs!$AE$124","v":19.5},{"$f":"'1.Profile'!G31+Calcs!$AF$124","v":19.5},{"$f":"'1.Profile'!F31+Calcs!$AG$124","v":19.5},{"$f":"'1.Profile'!H31+Calcs!$AH$124","v":19.5}]
[42,"Harvest: Cart+B.",{"$f":"IF(C53=1,Calcs!$N172,IF(C53=2,Calcs!$O172,IF(C53=3,Calcs!$R172,IF(C53=4,Calcs!$S172,IF(C53=5,Calcs!$Q172,IF(C53=6,Calcs!$P172,IF(C53=7,Calcs!$T172,IF(C53=8,Calcs!$T172,IF(C53=9,Calcs!$T172,0)))))))))","v":0},{"$f":"IF(D53=1,Calcs!$N172,IF(D53=2,Calcs!$O172,IF(D53=3,Calcs!$R172,IF(D53=4,Calcs!$S172,IF(D53=5,Calcs!$Q172,IF(D53=6,Calcs!$P172,IF(D53=7,Calcs!$T172,IF(D53=8,Calcs!$T172,IF(D53=9,Calcs!$T172,0)))))))))","v":0},{"$f":"IF(E53=1,Calcs!$N172,IF(E53=2,Calcs!$O172,IF(E53=3,Calcs!$R172,IF(E53=4,Calcs!$S172,IF(E53=5,Calcs!$Q172,IF(E53=6,Calcs!$P172,IF(E53=7,Calcs!$T172,IF(E53=8,Calcs!$T172,IF(E53=9,Calcs!$T172,0)))))))))","v":0},{"$f":"IF(F53=1,Calcs!$N172,IF(F53=2,Calcs!$O172,IF(F53=3,Calcs!$R172,IF(F53=4,Calcs!$S172,IF(F53=5,Calcs!$Q172,IF(F53=6,Calcs!$P172,IF(F53=7,Calcs!$T172,IF(F53=8,Calcs!$T172,IF(F53=9,Calcs!$T172,0)))))))))","v":0},{"$f":"IF(G53=1,Calcs!$N172,IF(G53=2,Calcs!$O172,IF(G53=3,Calcs!$R172,IF(G53=4,Calcs!$S172,IF(G53=5,Calcs!$Q172,IF(G53=6,Calcs!$P172,IF(G53=7,Calcs!$T172,IF(G53=8,Calcs!$T172,IF(G53=9,Calcs!$T172,0)))))))))","v":0},{"$f":"IF(H53=1,Calcs!$N172,IF(H53=2,Calcs!$O172,IF(H53=3,Calcs!$R172,IF(H53=4,Calcs!$S172,IF(H53=5,Calcs!$Q172,IF(H53=6,Calcs!$P172,IF(H53=7,Calcs!$T172,IF(H53=8,Calcs!$T172,IF(H53=9,Calcs!$T172,0)))))))))","v":0},{"$f":"IF(I53=1,Calcs!$N172,IF(I53=2,Calcs!$O172,IF(I53=3,Calcs!$R172,IF(I53=4,Calcs!$S172,IF(I53=5,Calcs!$Q172,IF(I53=6,Calcs!$P172,IF(I53=7,Calcs!$T172,IF(I53=8,Calcs!$T172,IF(I53=9,Calcs!$T172,0)))))))))","v":0},{"$f":"IF(J53=1,Calcs!$N172,IF(J53=2,Calcs!$O172,IF(J53=3,Calcs!$R172,IF(J53=4,Calcs!$S172,IF(J53=5,Calcs!$Q172,IF(J53=6,Calcs!$P172,IF(J53=7,Calcs!$T172,IF(J53=8,Calcs!$T172,IF(J53=9,Calcs!$T172,0)))))))))","v":0},{"$f":"IF(K53=1,Calcs!$N172,IF(K53=2,Calcs!$O172,IF(K53=3,Calcs!$R172,IF(K53=4,Calcs!$S172,IF(K53=5,Calcs!$Q172,IF(K53=6,Calcs!$P172,IF(K53=7,Calcs!$T172,IF(K53=8,Calcs!$T172,IF(K53=9,Calcs!$T172,0)))))))))","v":0},{"$f":"IF(L53=1,Calcs!$N172,IF(L53=2,Calcs!$O172,IF(L53=3,Calcs!$R172,IF(L53=4,Calcs!$S172,IF(L53=5,Calcs!$Q172,IF(L53=6,Calcs!$P172,IF(L53=7,Calcs!$T172,IF(L53=8,Calcs!$T172,IF(L53=9,Calcs!$T172,0)))))))))","v":0},null,{"$f":"'+Prices'!AN72+Calcs!AC134","v":6.8},{"$f":"$N$172","v":6.8},null,null,{"$f":"$N$172","v":6.8},{"$f":"$N$172","v":6.8},null,"Prices","+f"]
[43,"Harvest: Narr+B.",{"$f":"IF(C54=1,Calcs!$N173,IF(C54=2,Calcs!$O173,IF(C54=3,Calcs!$R173,IF(C54=4,Calcs!$S173,IF(C54=5,Calcs!$Q173,IF(C54=6,Calcs!$P173,IF(C54=7,Calcs!$T173,IF(C54=8,Calcs!$T173,IF(C54=9,Calcs!$T173,0)))))))))","v":0},{"$f":"IF(D54=1,Calcs!$N173,IF(D54=2,Calcs!$O173,IF(D54=3,Calcs!$R173,IF(D54=4,Calcs!$S173,IF(D54=5,Calcs!$Q173,IF(D54=6,Calcs!$P173,IF(D54=7,Calcs!$T173,IF(D54=8,Calcs!$T173,IF(D54=9,Calcs!$T173,0)))))))))","v":0},{"$f":"IF(E54=1,Calcs!$N173,IF(E54=2,Calcs!$O173,IF(E54=3,Calcs!$R173,IF(E54=4,Calcs!$S173,IF(E54=5,Calcs!$Q173,IF(E54=6,Calcs!$P173,IF(E54=7,Calcs!$T173,IF(E54=8,Calcs!$T173,IF(E54=9,Calcs!$T173,0)))))))))","v":0},{"$f":"IF(F54=1,Calcs!$N173,IF(F54=2,Calcs!$O173,IF(F54=3,Calcs!$R173,IF(F54=4,Calcs!$S173,IF(F54=5,Calcs!$Q173,IF(F54=6,Calcs!$P173,IF(F54=7,Calcs!$T173,IF(F54=8,Calcs!$T173,IF(F54=9,Calcs!$T173,0)))))))))","v":0},{"$f":"IF(G54=1,Calcs!$N173,IF(G54=2,Calcs!$O173,IF(G54=3,Calcs!$R173,IF(G54=4,Calcs!$S173,IF(G54=5,Calcs!$Q173,IF(G54=6,Calcs!$P173,IF(G54=7,Calcs!$T173,IF(G54=8,Calcs!$T173,IF(G54=9,Calcs!$T173,0)))))))))","v":0},{"$f":"IF(H54=1,Calcs!$N173,IF(H54=2,Calcs!$O173,IF(H54=3,Calcs!$R173,IF(H54=4,Calcs!$S173,IF(H54=5,Calcs!$Q173,IF(H54=6,Calcs!$P173,IF(H54=7,Calcs!$T173,IF(H54=8,Calcs!$T173,IF(H54=9,Calcs!$T173,0)))))))))","v":0},{"$f":"IF(I54=1,Calcs!$N173,IF(I54=2,Calcs!$O173,IF(I54=3,Calcs!$R173,IF(I54=4,Calcs!$S173,IF(I54=5,Calcs!$Q173,IF(I54=6,Calcs!$P173,IF(I54=7,Calcs!$T173,IF(I54=8,Calcs!$T173,IF(I54=9,Calcs!$T173,0)))))))))","v":0},{"$f":"IF(J54=1,Calcs!$N173,IF(J54=2,Calcs!$O173,IF(J54=3,Calcs!$R173,IF(J54=4,Calcs!$S173,IF(J54=5,Calcs!$Q173,IF(J54=6,Calcs!$P173,IF(J54=7,Calcs!$T173,IF(J54=8,Calcs!$T173,IF(J54=9,Calcs!$T173,0)))))))))","v":0},{"$f":"IF(K54=1,Calcs!$N173,IF(K54=2,Calcs!$O173,IF(K54=3,Calcs!$R173,IF(K54=4,Calcs!$S173,IF(K54=5,Calcs!$Q173,IF(K54=6,Calcs!$P173,IF(K54=7,Calcs!$T173,IF(K54=8,Calcs!$T173,IF(K54=9,Calcs!$T173,0)))))))))","v":0},{"$f":"IF(L54=1,Calcs!$N173,IF(L54=2,Calcs!$O173,IF(L54=3,Calcs!$R173,IF(L54=4,Calcs!$S173,IF(L54=5,Calcs!$Q173,IF(L54=6,Calcs!$P173,IF(L54=7,Calcs!$T173,IF(L54=8,Calcs!$T173,IF(L54=9,Calcs!$T173,0)))))))))","v":0},null,{"$f":"'+Prices'!AN73+Calcs!AC134","v":7.3},{"$f":"$N$173","v":7.3},null,null,{"$f":"$N$173","v":7.3},{"$f":"$N$173","v":7.3},null,null,"+f"]
[44,"Harvest: HSD",{"$f":"IF(C55=1,Calcs!$N174,IF(C55=2,Calcs!$O174,IF(C55=3,Calcs!$R174,IF(C55=4,Calcs!$S174,IF(C55=5,Calcs!$Q174,IF(C55=6,Calcs!$P174,IF(C55=7,Calcs!$T174,IF(C55=8,Calcs!$T174,IF(C55=9,Calcs!$T174,0)))))))))","v":0},{"$f":"IF(D55=1,Calcs!$N174,IF(D55=2,Calcs!$O174,IF(D55=3,Calcs!$R174,IF(D55=4,Calcs!$S174,IF(D55=5,Calcs!$Q174,IF(D55=6,Calcs!$P174,IF(D55=7,Calcs!$T174,IF(D55=8,Calcs!$T174,IF(D55=9,Calcs!$T174,0)))))))))","v":0},{"$f":"IF(E55=1,Calcs!$N174,IF(E55=2,Calcs!$O174,IF(E55=3,Calcs!$R174,IF(E55=4,Calcs!$S174,IF(E55=5,Calcs!$Q174,IF(E55=6,Calcs!$P174,IF(E55=7,Calcs!$T174,IF(E55=8,Calcs!$T174,IF(E55=9,Calcs!$T174,0)))))))))","v":0},{"$f":"IF(F55=1,Calcs!$N174,IF(F55=2,Calcs!$O174,IF(F55=3,Calcs!$R174,IF(F55=4,Calcs!$S174,IF(F55=5,Calcs!$Q174,IF(F55=6,Calcs!$P174,IF(F55=7,Calcs!$T174,IF(F55=8,Calcs!$T174,IF(F55=9,Calcs!$T174,0)))))))))","v":0},{"$f":"IF(G55=1,Calcs!$N174,IF(G55=2,Calcs!$O174,IF(G55=3,Calcs!$R174,IF(G55=4,Calcs!$S174,IF(G55=5,Calcs!$Q174,IF(G55=6,Calcs!$P174,IF(G55=7,Calcs!$T174,IF(G55=8,Calcs!$T174,IF(G55=9,Calcs!$T174,0)))))))))","v":0},{"$f":"IF(H55=1,Calcs!$N174,IF(H55=2,Calcs!$O174,IF(H55=3,Calcs!$R174,IF(H55=4,Calcs!$S174,IF(H55=5,Calcs!$Q174,IF(H55=6,Calcs!$P174,IF(H55=7,Calcs!$T174,IF(H55=8,Calcs!$T174,IF(H55=9,Calcs!$T174,0)))))))))","v":0},{"$f":"IF(I55=1,Calcs!$N174,IF(I55=2,Calcs!$O174,IF(I55=3,Calcs!$R174,IF(I55=4,Calcs!$S174,IF(I55=5,Calcs!$Q174,IF(I55=6,Calcs!$P174,IF(I55=7,Calcs!$T174,IF(I55=8,Calcs!$T174,IF(I55=9,Calcs!$T174,0)))))))))","v":0},{"$f":"IF(J55=1,Calcs!$N174,IF(J55=2,Calcs!$O174,IF(J55=3,Calcs!$R174,IF(J55=4,Calcs!$S174,IF(J55=5,Calcs!$Q174,IF(J55=6,Calcs!$P174,IF(J55=7,Calcs!$T174,IF(J55=8,Calcs!$T174,IF(J55=9,Calcs!$T174,0)))))))))","v":0},{"$f":"IF(K55=1,Calcs!$N174,IF(K55=2,Calcs!$O174,IF(K55=3,Calcs!$R174,IF(K55=4,Calcs!$S174,IF(K55=5,Calcs!$Q174,IF(K55=6,Calcs!$P174,IF(K55=7,Calcs!$T174,IF(K55=8,Calcs!$T174,IF(K55=9,Calcs!$T174,0)))))))))","v":0},{"$f":"IF(L55=1,Calcs!$N174,IF(L55=2,Calcs!$O174,IF(L55=3,Calcs!$R174,IF(L55=4,Calcs!$S174,IF(L55=5,Calcs!$Q174,IF(L55=6,Calcs!$P174,IF(L55=7,Calcs!$T174,IF(L55=8,Calcs!$T174,IF(L55=9,Calcs!$T174,0)))))))))","v":0},null,{"$f":"'+Prices'!AN74","v":5.8500000000000005},{"$f":"N174","v":5.8500000000000005},null,null,{"$f":"N174","v":5.8500000000000005},{"$f":"N174","v":5.8500000000000005}]
[45,"Harvest: Tram.",{"$f":"IF(C56=1,Calcs!$N175,IF(C56=2,Calcs!$O175,IF(C56=3,Calcs!$R175,IF(C56=4,Calcs!$S175,IF(C56=5,Calcs!$Q175,IF(C56=6,Calcs!$P175,IF(C56=7,Calcs!$T175,IF(C56=8,Calcs!$T175,IF(C56=9,Calcs!$T175,0)))))))))","v":0},{"$f":"IF(D56=1,Calcs!$N175,IF(D56=2,Calcs!$O175,IF(D56=3,Calcs!$R175,IF(D56=4,Calcs!$S175,IF(D56=5,Calcs!$Q175,IF(D56=6,Calcs!$P175,IF(D56=7,Calcs!$T175,IF(D56=8,Calcs!$T175,IF(D56=9,Calcs!$T175,0)))))))))","v":0},{"$f":"IF(E56=1,Calcs!$N175,IF(E56=2,Calcs!$O175,IF(E56=3,Calcs!$R175,IF(E56=4,Calcs!$S175,IF(E56=5,Calcs!$Q175,IF(E56=6,Calcs!$P175,IF(E56=7,Calcs!$T175,IF(E56=8,Calcs!$T175,IF(E56=9,Calcs!$T175,0)))))))))","v":0},{"$f":"IF(F56=1,Calcs!$N175,IF(F56=2,Calcs!$O175,IF(F56=3,Calcs!$R175,IF(F56=4,Calcs!$S175,IF(F56=5,Calcs!$Q175,IF(F56=6,Calcs!$P175,IF(F56=7,Calcs!$T175,IF(F56=8,Calcs!$T175,IF(F56=9,Calcs!$T175,0)))))))))","v":0},{"$f":"IF(G56=1,Calcs!$N175,IF(G56=2,Calcs!$O175,IF(G56=3,Calcs!$R175,IF(G56=4,Calcs!$S175,IF(G56=5,Calcs!$Q175,IF(G56=6,Calcs!$P175,IF(G56=7,Calcs!$T175,IF(G56=8,Calcs!$T175,IF(G56=9,Calcs!$T175,0)))))))))","v":0},{"$f":"IF(H56=1,Calcs!$N175,IF(H56=2,Calcs!$O175,IF(H56=3,Calcs!$R175,IF(H56=4,Calcs!$S175,IF(H56=5,Calcs!$Q175,IF(H56=6,Calcs!$P175,IF(H56=7,Calcs!$T175,IF(H56=8,Calcs!$T175,IF(H56=9,Calcs!$T175,0)))))))))","v":0},{"$f":"IF(I56=1,Calcs!$N175,IF(I56=2,Calcs!$O175,IF(I56=3,Calcs!$R175,IF(I56=4,Calcs!$S175,IF(I56=5,Calcs!$Q175,IF(I56=6,Calcs!$P175,IF(I56=7,Calcs!$T175,IF(I56=8,Calcs!$T175,IF(I56=9,Calcs!$T175,0)))))))))","v":0},{"$f":"IF(J56=1,Calcs!$N175,IF(J56=2,Calcs!$O175,IF(J56=3,Calcs!$R175,IF(J56=4,Calcs!$S175,IF(J56=5,Calcs!$Q175,IF(J56=6,Calcs!$P175,IF(J56=7,Calcs!$T175,IF(J56=8,Calcs!$T175,IF(J56=9,Calcs!$T175,0)))))))))","v":0},{"$f":"IF(K56=1,Calcs!$N175,IF(K56=2,Calcs!$O175,IF(K56=3,Calcs!$R175,IF(K56=4,Calcs!$S175,IF(K56=5,Calcs!$Q175,IF(K56=6,Calcs!$P175,IF(K56=7,Calcs!$T175,IF(K56=8,Calcs!$T175,IF(K56=9,Calcs!$T175,0)))))))))","v":0},{"$f":"IF(L56=1,Calcs!$N175,IF(L56=2,Calcs!$O175,IF(L56=3,Calcs!$R175,IF(L56=4,Calcs!$S175,IF(L56=5,Calcs!$Q175,IF(L56=6,Calcs!$P175,IF(L56=7,Calcs!$T175,IF(L56=8,Calcs!$T175,IF(L56=9,Calcs!$T175,0)))))))))","v":0},null,{"$f":"'+Prices'!AN75+(Calcs!AB124+Calcs!AB127)*0.3","v":5.1999999999999993},{"$f":"'+Prices'!AN75+(Calcs!AC124+Calcs!AC127)*0.3","v":5.1999999999999993},null,null,{"$f":"'+Prices'!AN75+(Calcs!AF124+Calcs!AF127)*0.3","v":4.5250000000000004},{"$f":"'+Prices'!AN75+(Calcs!AG124+Calcs!AG127)*0.3","v":4.5250000000000004},null,null,"+(boom+sp)x30%"]
[46,"      empty slot for adding a harvest option, configured for bales",{"$f":"IF(C57=1,Calcs!$N176,IF(C57=2,Calcs!$O176,IF(C57=3,Calcs!$R176,IF(C57=4,Calcs!$S176,IF(C57=5,Calcs!$Q176,IF(C57=6,Calcs!$P176,IF(C57=7,Calcs!$T176,IF(C57=8,Calcs!$T176,IF(C57=9,Calcs!$T176,0)))))))))","v":0},{"$f":"IF(D57=1,Calcs!$N176,IF(D57=2,Calcs!$O176,IF(D57=3,Calcs!$R176,IF(D57=4,Calcs!$S176,IF(D57=5,Calcs!$Q176,IF(D57=6,Calcs!$P176,IF(D57=7,Calcs!$T176,IF(D57=8,Calcs!$T176,IF(D57=9,Calcs!$T176,0)))))))))","v":0},{"$f":"IF(E57=1,Calcs!$N176,IF(E57=2,Calcs!$O176,IF(E57=3,Calcs!$R176,IF(E57=4,Calcs!$S176,IF(E57=5,Calcs!$Q176,IF(E57=6,Calcs!$P176,IF(E57=7,Calcs!$T176,IF(E57=8,Calcs!$T176,IF(E57=9,Calcs!$T176,0)))))))))","v":0},{"$f":"IF(F57=1,Calcs!$N176,IF(F57=2,Calcs!$O176,IF(F57=3,Calcs!$R176,IF(F57=4,Calcs!$S176,IF(F57=5,Calcs!$Q176,IF(F57=6,Calcs!$P176,IF(F57=7,Calcs!$T176,IF(F57=8,Calcs!$T176,IF(F57=9,Calcs!$T176,0)))))))))","v":0},{"$f":"IF(G57=1,Calcs!$N176,IF(G57=2,Calcs!$O176,IF(G57=3,Calcs!$R176,IF(G57=4,Calcs!$S176,IF(G57=5,Calcs!$Q176,IF(G57=6,Calcs!$P176,IF(G57=7,Calcs!$T176,IF(G57=8,Calcs!$T176,IF(G57=9,Calcs!$T176,0)))))))))","v":0},{"$f":"IF(H57=1,Calcs!$N176,IF(H57=2,Calcs!$O176,IF(H57=3,Calcs!$R176,IF(H57=4,Calcs!$S176,IF(H57=5,Calcs!$Q176,IF(H57=6,Calcs!$P176,IF(H57=7,Calcs!$T176,IF(H57=8,Calcs!$T176,IF(H57=9,Calcs!$T176,0)))))))))","v":0},{"$f":"IF(I57=1,Calcs!$N176,IF(I57=2,Calcs!$O176,IF(I57=3,Calcs!$R176,IF(I57=4,Calcs!$S176,IF(I57=5,Calcs!$Q176,IF(I57=6,Calcs!$P176,IF(I57=7,Calcs!$T176,IF(I57=8,Calcs!$T176,IF(I57=9,Calcs!$T176,0)))))))))","v":0},{"$f":"IF(J57=1,Calcs!$N176,IF(J57=2,Calcs!$O176,IF(J57=3,Calcs!$R176,IF(J57=4,Calcs!$S176,IF(J57=5,Calcs!$Q176,IF(J57=6,Calcs!$P176,IF(J57=7,Calcs!$T176,IF(J57=8,Calcs!$T176,IF(J57=9,Calcs!$T176,0)))))))))","v":0},{"$f":"IF(K57=1,Calcs!$N176,IF(K57=2,Calcs!$O176,IF(K57=3,Calcs!$R176,IF(K57=4,Calcs!$S176,IF(K57=5,Calcs!$Q176,IF(K57=6,Calcs!$P176,IF(K57=7,Calcs!$T176,IF(K57=8,Calcs!$T176,IF(K57=9,Calcs!$T176,0)))))))))","v":0},{"$f":"IF(L57=1,Calcs!$N176,IF(L57=2,Calcs!$O176,IF(L57=3,Calcs!$R176,IF(L57=4,Calcs!$S176,IF(L57=5,Calcs!$Q176,IF(L57=6,Calcs!$P176,IF(L57=7,Calcs!$T176,IF(L57=8,Calcs!$T176,IF(L57=9,Calcs!$T176,0)))))))))","v":0}]
[47,"Harvest: BDS+E.",{"$f":"IF(C58=1,Calcs!$N177,IF(C58=2,Calcs!$O177,IF(C58=3,Calcs!$R177,IF(C58=4,Calcs!$S177,IF(C58=5,Calcs!$Q177,IF(C58=6,Calcs!$P177,IF(C58=7,Calcs!$T177,IF(C58=8,Calcs!$T177,IF(C58=9,Calcs!$T177,0)))))))))","v":0},{"$f":"IF(D58=1,Calcs!$N177,IF(D58=2,Calcs!$O177,IF(D58=3,Calcs!$R177,IF(D58=4,Calcs!$S177,IF(D58=5,Calcs!$Q177,IF(D58=6,Calcs!$P177,IF(D58=7,Calcs!$T177,IF(D58=8,Calcs!$T177,IF(D58=9,Calcs!$T177,0)))))))))","v":0},{"$f":"IF(E58=1,Calcs!$N177,IF(E58=2,Calcs!$O177,IF(E58=3,Calcs!$R177,IF(E58=4,Calcs!$S177,IF(E58=5,Calcs!$Q177,IF(E58=6,Calcs!$P177,IF(E58=7,Calcs!$T177,IF(E58=8,Calcs!$T177,IF(E58=9,Calcs!$T177,0)))))))))","v":0},{"$f":"IF(F58=1,Calcs!$N177,IF(F58=2,Calcs!$O177,IF(F58=3,Calcs!$R177,IF(F58=4,Calcs!$S177,IF(F58=5,Calcs!$Q177,IF(F58=6,Calcs!$P177,IF(F58=7,Calcs!$T177,IF(F58=8,Calcs!$T177,IF(F58=9,Calcs!$T177,0)))))))))","v":0},{"$f":"IF(G58=1,Calcs!$N177,IF(G58=2,Calcs!$O177,IF(G58=3,Calcs!$R177,IF(G58=4,Calcs!$S177,IF(G58=5,Calcs!$Q177,IF(G58=6,Calcs!$P177,IF(G58=7,Calcs!$T177,IF(G58=8,Calcs!$T177,IF(G58=9,Calcs!$T177,0)))))))))","v":0},{"$f":"IF(H58=1,Calcs!$N177,IF(H58=2,Calcs!$O177,IF(H58=3,Calcs!$R177,IF(H58=4,Calcs!$S177,IF(H58=5,Calcs!$Q177,IF(H58=6,Calcs!$P177,IF(H58=7,Calcs!$T177,IF(H58=8,Calcs!$T177,IF(H58=9,Calcs!$T177,0)))))))))","v":0},{"$f":"IF(I58=1,Calcs!$N177,IF(I58=2,Calcs!$O177,IF(I58=3,Calcs!$R177,IF(I58=4,Calcs!$S177,IF(I58=5,Calcs!$Q177,IF(I58=6,Calcs!$P177,IF(I58=7,Calcs!$T177,IF(I58=8,Calcs!$T177,IF(I58=9,Calcs!$T177,0)))))))))","v":0},{"$f":"IF(J58=1,Calcs!$N177,IF(J58=2,Calcs!$O177,IF(J58=3,Calcs!$R177,IF(J58=4,Calcs!$S177,IF(J58=5,Calcs!$Q177,IF(J58=6,Calcs!$P177,IF(J58=7,Calcs!$T177,IF(J58=8,Calcs!$T177,IF(J58=9,Calcs!$T177,0)))))))))","v":0},{"$f":"IF(K58=1,Calcs!$N177,IF(K58=2,Calcs!$O177,IF(K58=3,Calcs!$R177,IF(K58=4,Calcs!$S177,IF(K58=5,Calcs!$Q177,IF(K58=6,Calcs!$P177,IF(K58=7,Calcs!$T177,IF(K58=8,Calcs!$T177,IF(K58=9,Calcs!$T177,0)))))))))","v":0},{"$f":"IF(L58=1,Calcs!$N177,IF(L58=2,Calcs!$O177,IF(L58=3,Calcs!$R177,IF(L58=4,Calcs!$S177,IF(L58=5,Calcs!$Q177,IF(L58=6,Calcs!$P177,IF(L58=7,Calcs!$T177,IF(L58=8,Calcs!$T177,IF(L58=9,Calcs!$T177,0)))))))))","v":0},null,{"$f":"'+Prices'!AN77","v":15.9},{"$f":"$N$177","v":15.9},null,null,{"$f":"N177","v":15.9},{"$f":"N177","v":15.9}]
[48,"Harvest: Burn",{"$f":"IF(C59=1,Calcs!$N178,IF(C59=2,Calcs!$O178,IF(C59=3,Calcs!$R178,IF(C59=4,Calcs!$S178,IF(C59=5,Calcs!$Q178,IF(C59=6,Calcs!$P178,IF(C59=7,Calcs!$T178,IF(C59=8,Calcs!$T178,IF(C59=9,Calcs!$T178,0)))))))))","v":0},{"$f":"IF(D59=1,Calcs!$N178,IF(D59=2,Calcs!$O178,IF(D59=3,Calcs!$R178,IF(D59=4,Calcs!$S178,IF(D59=5,Calcs!$Q178,IF(D59=6,Calcs!$P178,IF(D59=7,Calcs!$T178,IF(D59=8,Calcs!$T178,IF(D59=9,Calcs!$T178,0)))))))))","v":0},{"$f":"IF(E59=1,Calcs!$N178,IF(E59=2,Calcs!$O178,IF(E59=3,Calcs!$R178,IF(E59=4,Calcs!$S178,IF(E59=5,Calcs!$Q178,IF(E59=6,Calcs!$P178,IF(E59=7,Calcs!$T178,IF(E59=8,Calcs!$T178,IF(E59=9,Calcs!$T178,0)))))))))","v":0},{"$f":"IF(F59=1,Calcs!$N178,IF(F59=2,Calcs!$O178,IF(F59=3,Calcs!$R178,IF(F59=4,Calcs!$S178,IF(F59=5,Calcs!$Q178,IF(F59=6,Calcs!$P178,IF(F59=7,Calcs!$T178,IF(F59=8,Calcs!$T178,IF(F59=9,Calcs!$T178,0)))))))))","v":0},{"$f":"IF(G59=1,Calcs!$N178,IF(G59=2,Calcs!$O178,IF(G59=3,Calcs!$R178,IF(G59=4,Calcs!$S178,IF(G59=5,Calcs!$Q178,IF(G59=6,Calcs!$P178,IF(G59=7,Calcs!$T178,IF(G59=8,Calcs!$T178,IF(G59=9,Calcs!$T178,0)))))))))","v":0},{"$f":"IF(H59=1,Calcs!$N178,IF(H59=2,Calcs!$O178,IF(H59=3,Calcs!$R178,IF(H59=4,Calcs!$S178,IF(H59=5,Calcs!$Q178,IF(H59=6,Calcs!$P178,IF(H59=7,Calcs!$T178,IF(H59=8,Calcs!$T178,IF(H59=9,Calcs!$T178,0)))))))))","v":0},{"$f":"IF(I59=1,Calcs!$N178,IF(I59=2,Calcs!$O178,IF(I59=3,Calcs!$R178,IF(I59=4,Calcs!$S178,IF(I59=5,Calcs!$Q178,IF(I59=6,Calcs!$P178,IF(I59=7,Calcs!$T178,IF(I59=8,Calcs!$T178,IF(I59=9,Calcs!$T178,0)))))))))","v":0},{"$f":"IF(J59=1,Calcs!$N178,IF(J59=2,Calcs!$O178,IF(J59=3,Calcs!$R178,IF(J59=4,Calcs!$S178,IF(J59=5,Calcs!$Q178,IF(J59=6,Calcs!$P178,IF(J59=7,Calcs!$T178,IF(J59=8,Calcs!$T178,IF(J59=9,Calcs!$T178,0)))))))))","v":0},{"$f":"IF(K59=1,Calcs!$N178,IF(K59=2,Calcs!$O178,IF(K59=3,Calcs!$R178,IF(K59=4,Calcs!$S178,IF(K59=5,Calcs!$Q178,IF(K59=6,Calcs!$P178,IF(K59=7,Calcs!$T178,IF(K59=8,Calcs!$T178,IF(K59=9,Calcs!$T178,0)))))))))","v":0},{"$f":"IF(L59=1,Calcs!$N178,IF(L59=2,Calcs!$O178,IF(L59=3,Calcs!$R178,IF(L59=4,Calcs!$S178,IF(L59=5,Calcs!$Q178,IF(L59=6,Calcs!$P178,IF(L59=7,Calcs!$T178,IF(L59=8,Calcs!$T178,IF(L59=9,Calcs!$T178,0)))))))))","v":0},null,{"$f":"'+Prices'!AN78+Calcs!AC133","v":13},{"$f":"N178","v":13},13,13,13,13,13,"Prices","+F"]
[49,"Harvest B1: Defol glyp",{"$f":"IF(C60=1,Calcs!$N179,IF(C60=2,Calcs!$O179,IF(C60=3,Calcs!$R179,IF(C60=4,Calcs!$S179,IF(C60=5,Calcs!$Q179,IF(C60=6,Calcs!$P179,IF(C60=7,Calcs!$T179,IF(C60=8,Calcs!$T179,IF(C60=9,Calcs!$T179,0)))))))))","v":0},{"$f":"IF(D60=1,Calcs!$N179,IF(D60=2,Calcs!$O179,IF(D60=3,Calcs!$R179,IF(D60=4,Calcs!$S179,IF(D60=5,Calcs!$Q179,IF(D60=6,Calcs!$P179,IF(D60=7,Calcs!$T179,IF(D60=8,Calcs!$T179,IF(D60=9,Calcs!$T179,0)))))))))","v":0},{"$f":"IF(E60=1,Calcs!$N179,IF(E60=2,Calcs!$O179,IF(E60=3,Calcs!$R179,IF(E60=4,Calcs!$S179,IF(E60=5,Calcs!$Q179,IF(E60=6,Calcs!$P179,IF(E60=7,Calcs!$T179,IF(E60=8,Calcs!$T179,IF(E60=9,Calcs!$T179,0)))))))))","v":0},{"$f":"IF(F60=1,Calcs!$N179,IF(F60=2,Calcs!$O179,IF(F60=3,Calcs!$R179,IF(F60=4,Calcs!$S179,IF(F60=5,Calcs!$Q179,IF(F60=6,Calcs!$P179,IF(F60=7,Calcs!$T179,IF(F60=8,Calcs!$T179,IF(F60=9,Calcs!$T179,0)))))))))","v":0},{"$f":"IF(G60=1,Calcs!$N179,IF(G60=2,Calcs!$O179,IF(G60=3,Calcs!$R179,IF(G60=4,Calcs!$S179,IF(G60=5,Calcs!$Q179,IF(G60=6,Calcs!$P179,IF(G60=7,Calcs!$T179,IF(G60=8,Calcs!$T179,IF(G60=9,Calcs!$T179,0)))))))))","v":0},{"$f":"IF(H60=1,Calcs!$N179,IF(H60=2,Calcs!$O179,IF(H60=3,Calcs!$R179,IF(H60=4,Calcs!$S179,IF(H60=5,Calcs!$Q179,IF(H60=6,Calcs!$P179,IF(H60=7,Calcs!$T179,IF(H60=8,Calcs!$T179,IF(H60=9,Calcs!$T179,0)))))))))","v":0},{"$f":"IF(I60=1,Calcs!$N179,IF(I60=2,Calcs!$O179,IF(I60=3,Calcs!$R179,IF(I60=4,Calcs!$S179,IF(I60=5,Calcs!$Q179,IF(I60=6,Calcs!$P179,IF(I60=7,Calcs!$T179,IF(I60=8,Calcs!$T179,IF(I60=9,Calcs!$T179,0)))))))))","v":0},{"$f":"IF(J60=1,Calcs!$N179,IF(J60=2,Calcs!$O179,IF(J60=3,Calcs!$R179,IF(J60=4,Calcs!$S179,IF(J60=5,Calcs!$Q179,IF(J60=6,Calcs!$P179,IF(J60=7,Calcs!$T179,IF(J60=8,Calcs!$T179,IF(J60=9,Calcs!$T179,0)))))))))","v":0},{"$f":"IF(K60=1,Calcs!$N179,IF(K60=2,Calcs!$O179,IF(K60=3,Calcs!$R179,IF(K60=4,Calcs!$S179,IF(K60=5,Calcs!$Q179,IF(K60=6,Calcs!$P179,IF(K60=7,Calcs!$T179,IF(K60=8,Calcs!$T179,IF(K60=9,Calcs!$T179,0)))))))))","v":0},{"$f":"IF(L60=1,Calcs!$N179,IF(L60=2,Calcs!$O179,IF(L60=3,Calcs!$R179,IF(L60=4,Calcs!$S179,IF(L60=5,Calcs!$Q179,IF(L60=6,Calcs!$P179,IF(L60=7,Calcs!$T179,IF(L60=8,Calcs!$T179,IF(L60=9,Calcs!$T179,0)))))))))","v":0},null,{"$f":"'1.Profile'!G36","v":10},{"$f":"'1.Profile'!G36","v":10},{"$f":"'1.Profile'!E36","v":0},{"$f":"'1.Profile'!F36","v":10},{"$f":"'1.Profile'!G36","v":10},{"$f":"'1.Profile'!F36","v":10},{"$f":"'1.Profile'!H36","v":10},"Profile"]
[50,"Harvest B2: Defol Drop",{"$f":"IF(C61=1,Calcs!$N180,IF(C61=2,Calcs!$O180,IF(C61=3,Calcs!$R180,IF(C61=4,Calcs!$S180,IF(C61=5,Calcs!$Q180,IF(C61=6,Calcs!$P180,IF(C61=7,Calcs!$T180,IF(C61=8,Calcs!$T180,IF(C61=9,Calcs!$T180,0)))))))))","v":10},{"$f":"IF(D61=1,Calcs!$N180,IF(D61=2,Calcs!$O180,IF(D61=3,Calcs!$R180,IF(D61=4,Calcs!$S180,IF(D61=5,Calcs!$Q180,IF(D61=6,Calcs!$P180,IF(D61=7,Calcs!$T180,IF(D61=8,Calcs!$T180,IF(D61=9,Calcs!$T180,0)))))))))","v":0},{"$f":"IF(E61=1,Calcs!$N180,IF(E61=2,Calcs!$O180,IF(E61=3,Calcs!$R180,IF(E61=4,Calcs!$S180,IF(E61=5,Calcs!$Q180,IF(E61=6,Calcs!$P180,IF(E61=7,Calcs!$T180,IF(E61=8,Calcs!$T180,IF(E61=9,Calcs!$T180,0)))))))))","v":10},{"$f":"IF(F61=1,Calcs!$N180,IF(F61=2,Calcs!$O180,IF(F61=3,Calcs!$R180,IF(F61=4,Calcs!$S180,IF(F61=5,Calcs!$Q180,IF(F61=6,Calcs!$P180,IF(F61=7,Calcs!$T180,IF(F61=8,Calcs!$T180,IF(F61=9,Calcs!$T180,0)))))))))","v":0},{"$f":"IF(G61=1,Calcs!$N180,IF(G61=2,Calcs!$O180,IF(G61=3,Calcs!$R180,IF(G61=4,Calcs!$S180,IF(G61=5,Calcs!$Q180,IF(G61=6,Calcs!$P180,IF(G61=7,Calcs!$T180,IF(G61=8,Calcs!$T180,IF(G61=9,Calcs!$T180,0)))))))))","v":10},{"$f":"IF(H61=1,Calcs!$N180,IF(H61=2,Calcs!$O180,IF(H61=3,Calcs!$R180,IF(H61=4,Calcs!$S180,IF(H61=5,Calcs!$Q180,IF(H61=6,Calcs!$P180,IF(H61=7,Calcs!$T180,IF(H61=8,Calcs!$T180,IF(H61=9,Calcs!$T180,0)))))))))","v":0},{"$f":"IF(I61=1,Calcs!$N180,IF(I61=2,Calcs!$O180,IF(I61=3,Calcs!$R180,IF(I61=4,Calcs!$S180,IF(I61=5,Calcs!$Q180,IF(I61=6,Calcs!$P180,IF(I61=7,Calcs!$T180,IF(I61=8,Calcs!$T180,IF(I61=9,Calcs!$T180,0)))))))))","v":10},{"$f":"IF(J61=1,Calcs!$N180,IF(J61=2,Calcs!$O180,IF(J61=3,Calcs!$R180,IF(J61=4,Calcs!$S180,IF(J61=5,Calcs!$Q180,IF(J61=6,Calcs!$P180,IF(J61=7,Calcs!$T180,IF(J61=8,Calcs!$T180,IF(J61=9,Calcs!$T180,0)))))))))","v":0},{"$f":"IF(K61=1,Calcs!$N180,IF(K61=2,Calcs!$O180,IF(K61=3,Calcs!$R180,IF(K61=4,Calcs!$S180,IF(K61=5,Calcs!$Q180,IF(K61=6,Calcs!$P180,IF(K61=7,Calcs!$T180,IF(K61=8,Calcs!$T180,IF(K61=9,Calcs!$T180,0)))))))))","v":10},{"$f":"IF(L61=1,Calcs!$N180,IF(L61=2,Calcs!$O180,IF(L61=3,Calcs!$R180,IF(L61=4,Calcs!$S180,IF(L61=5,Calcs!$Q180,IF(L61=6,Calcs!$P180,IF(L61=7,Calcs!$T180,IF(L61=8,Calcs!$T180,IF(L61=9,Calcs!$T180,0)))))))))","v":0},null,{"$f":"'1.Profile'!G37","v":0},{"$f":"'1.Profile'!G37","v":0},{"$f":"'1.Profile'!E37","v":10},{"$f":"'1.Profile'!F37","v":10},{"$f":"'1.Profile'!G37","v":0},{"$f":"'1.Profile'!F37","v":10},{"$f":"'1.Profile'!H37","v":0},"Profile"]
[51]
[52]
[53,"Table 4.  BYG germination","Proportion of seeds germinating depending if 'Need to sow' (Strategy page), 'Tickle/Plough', 'Full-cut' (this page). Results from the Options page."]
[54,"Prior to break",{"$f":"IF('2.Strategy'!D$65=\"no\",IF(OR(Calcs!C$18<>\"\",Calcs!C$19<>\"\"),'+Options'!$AI104,'+Options'!$AG104),IF(OR(Calcs!C$18<>\"\",Calcs!C$19<>\"\"),IF(Calcs!C$20<>\"\",'+Options'!$AJ114,'+Options'!$AI114),IF(Calcs!C$20<>\"\",'+Options'!$AH114,'+Options'!$AG114)))","v":1.9E-2},{"$f":"IF('2.Strategy'!E$65=\"no\",IF(OR(Calcs!D$18<>\"\",Calcs!D$19<>\"\"),'+Options'!$AI104,'+Options'!$AG104),IF(OR(Calcs!D$18<>\"\",Calcs!D$19<>\"\"),IF(Calcs!D$20<>\"\",'+Options'!$AJ114,'+Options'!$AI114),IF(Calcs!D$20<>\"\",'+Options'!$AH114,'+Options'!$AG114)))","v":6.0000000000000001E-3},{"$f":"IF('2.Strategy'!F$65=\"no\",IF(OR(Calcs!E$18<>\"\",Calcs!E$19<>\"\"),'+Options'!$AI104,'+Options'!$AG104),IF(OR(Calcs!E$18<>\"\",Calcs!E$19<>\"\"),IF(Calcs!E$20<>\"\",'+Options'!$AJ114,'+Options'!$AI114),IF(Calcs!E$20<>\"\",'+Options'!$AH114,'+Options'!$AG114)))","v":1.7999999999999999E-2},{"$f":"IF('2.Strategy'!G$65=\"no\",IF(OR(Calcs!F$18<>\"\",Calcs!F$19<>\"\"),'+Options'!$AI104,'+Options'!$AG104),IF(OR(Calcs!F$18<>\"\",Calcs!F$19<>\"\"),IF(Calcs!F$20<>\"\",'+Options'!$AJ114,'+Options'!$AI114),IF(Calcs!F$20<>\"\",'+Options'!$AH114,'+Options'!$AG114)))","v":1.2999999999999999E-2},{"$f":"IF('2.Strategy'!H$65=\"no\",IF(OR(Calcs!G$18<>\"\",Calcs!G$19<>\"\"),'+Options'!$AI104,'+Options'!$AG104),IF(OR(Calcs!G$18<>\"\",Calcs!G$19<>\"\"),IF(Calcs!G$20<>\"\",'+Options'!$AJ114,'+Options'!$AI114),IF(Calcs!G$20<>\"\",'+Options'!$AH114,'+Options'!$AG114)))","v":1.7999999999999999E-2},{"$f":"IF('2.Strategy'!I$65=\"no\",IF(OR(Calcs!H$18<>\"\",Calcs!H$19<>\"\"),'+Options'!$AI104,'+Options'!$AG104),IF(OR(Calcs!H$18<>\"\",Calcs!H$19<>\"\"),IF(Calcs!H$20<>\"\",'+Options'!$AJ114,'+Options'!$AI114),IF(Calcs!H$20<>\"\",'+Options'!$AH114,'+Options'!$AG114)))","v":6.0000000000000001E-3},{"$f":"IF('2.Strategy'!J$65=\"no\",IF(OR(Calcs!I$18<>\"\",Calcs!I$19<>\"\"),'+Options'!$AI104,'+Options'!$AG104),IF(OR(Calcs!I$18<>\"\",Calcs!I$19<>\"\"),IF(Calcs!I$20<>\"\",'+Options'!$AJ114,'+Options'!$AI114),IF(Calcs!I$20<>\"\",'+Options'!$AH114,'+Options'!$AG114)))","v":1.7999999999999999E-2},{"$f":"IF('2.Strategy'!K$65=\"no\",IF(OR(Calcs!J$18<>\"\",Calcs!J$19<>\"\"),'+Options'!$AI104,'+Options'!$AG104),IF(OR(Calcs!J$18<>\"\",Calcs!J$19<>\"\"),IF(Calcs!J$20<>\"\",'+Options'!$AJ114,'+Options'!$AI114),IF(Calcs!J$20<>\"\",'+Options'!$AH114,'+Options'!$AG114)))","v":6.0000000000000001E-3},{"$f":"IF('2.Strategy'!L$65=\"no\",IF(OR(Calcs!K$18<>\"\",Calcs!K$19<>\"\"),'+Options'!$AI104,'+Options'!$AG104),IF(OR(Calcs!K$18<>\"\",Calcs!K$19<>\"\"),IF(Calcs!K$20<>\"\",'+Options'!$AJ114,'+Options'!$AI114),IF(Calcs!K$20<>\"\",'+Options'!$AH114,'+Options'!$AG114)))","v":1.7999999999999999E-2},{"$f":"IF('2.Strategy'!M$65=\"no\",IF(OR(Calcs!L$18<>\"\",Calcs!L$19<>\"\"),'+Options'!$AI104,'+Options'!$AG104),IF(OR(Calcs!L$18<>\"\",Calcs!L$19<>\"\"),IF(Calcs!L$20<>\"\",'+Options'!$AJ114,'+Options'!$AI114),IF(Calcs!L$20<>\"\",'+Options'!$AH114,'+Options'!$AG114)))","v":6.0000000000000001E-3}]
[55,"10 days after break",{"$f":"IF('2.Strategy'!D$65=\"no\",IF(OR(Calcs!C$18<>\"\",Calcs!C$19<>\"\"),'+Options'!$AI105,'+Options'!$AG105),IF(OR(Calcs!C$18<>\"\",Calcs!C$19<>\"\"),IF(Calcs!C$20<>\"\",'+Options'!$AJ115,'+Options'!$AI115),IF(Calcs!C$20<>\"\",'+Options'!$AH115,'+Options'!$AG115)))","v":2.7E-2},{"$f":"IF('2.Strategy'!E$65=\"no\",IF(OR(Calcs!D$18<>\"\",Calcs!D$19<>\"\"),'+Options'!$AI105,'+Options'!$AG105),IF(OR(Calcs!D$18<>\"\",Calcs!D$19<>\"\"),IF(Calcs!D$20<>\"\",'+Options'!$AJ115,'+Options'!$AI115),IF(Calcs!D$20<>\"\",'+Options'!$AH115,'+Options'!$AG115)))","v":2.1999999999999999E-2},{"$f":"IF('2.Strategy'!F$65=\"no\",IF(OR(Calcs!E$18<>\"\",Calcs!E$19<>\"\"),'+Options'!$AI105,'+Options'!$AG105),IF(OR(Calcs!E$18<>\"\",Calcs!E$19<>\"\"),IF(Calcs!E$20<>\"\",'+Options'!$AJ115,'+Options'!$AI115),IF(Calcs!E$20<>\"\",'+Options'!$AH115,'+Options'!$AG115)))","v":2.7E-2},{"$f":"IF('2.Strategy'!G$65=\"no\",IF(OR(Calcs!F$18<>\"\",Calcs!F$19<>\"\"),'+Options'!$AI105,'+Options'!$AG105),IF(OR(Calcs!F$18<>\"\",Calcs!F$19<>\"\"),IF(Calcs!F$20<>\"\",'+Options'!$AJ115,'+Options'!$AI115),IF(Calcs!F$20<>\"\",'+Options'!$AH115,'+Options'!$AG115)))","v":2.1999999999999999E-2},{"$f":"IF('2.Strategy'!H$65=\"no\",IF(OR(Calcs!G$18<>\"\",Calcs!G$19<>\"\"),'+Options'!$AI105,'+Options'!$AG105),IF(OR(Calcs!G$18<>\"\",Calcs!G$19<>\"\"),IF(Calcs!G$20<>\"\",'+Options'!$AJ115,'+Options'!$AI115),IF(Calcs!G$20<>\"\",'+Options'!$AH115,'+Options'!$AG115)))","v":2.7E-2},{"$f":"IF('2.Strategy'!I$65=\"no\",IF(OR(Calcs!H$18<>\"\",Calcs!H$19<>\"\"),'+Options'!$AI105,'+Options'!$AG105),IF(OR(Calcs!H$18<>\"\",Calcs!H$19<>\"\"),IF(Calcs!H$20<>\"\",'+Options'!$AJ115,'+Options'!$AI115),IF(Calcs!H$20<>\"\",'+Options'!$AH115,'+Options'!$AG115)))","v":2.1999999999999999E-2},{"$f":"IF('2.Strategy'!J$65=\"no\",IF(OR(Calcs!I$18<>\"\",Calcs!I$19<>\"\"),'+Options'!$AI105,'+Options'!$AG105),IF(OR(Calcs!I$18<>\"\",Calcs!I$19<>\"\"),IF(Calcs!I$20<>\"\",'+Options'!$AJ115,'+Options'!$AI115),IF(Calcs!I$20<>\"\",'+Options'!$AH115,'+Options'!$AG115)))","v":2.7E-2},{"$f":"IF('2.Strategy'!K$65=\"no\",IF(OR(Calcs!J$18<>\"\",Calcs!J$19<>\"\"),'+Options'!$AI105,'+Options'!$AG105),IF(OR(Calcs!J$18<>\"\",Calcs!J$19<>\"\"),IF(Calcs!J$20<>\"\",'+Options'!$AJ115,'+Options'!$AI115),IF(Calcs!J$20<>\"\",'+Options'!$AH115,'+Options'!$AG115)))","v":2.1999999999999999E-2},{"$f":"IF('2.Strategy'!L$65=\"no\",IF(OR(Calcs!K$18<>\"\",Calcs!K$19<>\"\"),'+Options'!$AI105,'+Options'!$AG105),IF(OR(Calcs!K$18<>\"\",Calcs!K$19<>\"\"),IF(Calcs!K$20<>\"\",'+Options'!$AJ115,'+Options'!$AI115),IF(Calcs!K$20<>\"\",'+Options'!$AH115,'+Options'!$AG115)))","v":2.7E-2},{"$f":"IF('2.Strategy'!M$65=\"no\",IF(OR(Calcs!L$18<>\"\",Calcs!L$19<>\"\"),'+Options'!$AI105,'+Options'!$AG105),IF(OR(Calcs!L$18<>\"\",Calcs!L$19<>\"\"),IF(Calcs!L$20<>\"\",'+Options'!$AJ115,'+Options'!$AI115),IF(Calcs!L$20<>\"\",'+Options'!$AH115,'+Options'!$AG115)))","v":2.1999999999999999E-2}]
[56,"20 days after break",{"$f":"IF('2.Strategy'!D$65=\"no\",IF(OR(Calcs!C$18<>\"\",Calcs!C$19<>\"\"),'+Options'!$AI106,'+Options'!$AG106),IF(OR(Calcs!C$18<>\"\",Calcs!C$19<>\"\"),IF(Calcs!C$20<>\"\",'+Options'!$AJ116,'+Options'!$AI116),IF(Calcs!C$20<>\"\",'+Options'!$AH116,'+Options'!$AG116)))","v":1.6E-2},{"$f":"IF('2.Strategy'!E$65=\"no\",IF(OR(Calcs!D$18<>\"\",Calcs!D$19<>\"\"),'+Options'!$AI106,'+Options'!$AG106),IF(OR(Calcs!D$18<>\"\",Calcs!D$19<>\"\"),IF(Calcs!D$20<>\"\",'+Options'!$AJ116,'+Options'!$AI116),IF(Calcs!D$20<>\"\",'+Options'!$AH116,'+Options'!$AG116)))","v":1.4E-2},{"$f":"IF('2.Strategy'!F$65=\"no\",IF(OR(Calcs!E$18<>\"\",Calcs!E$19<>\"\"),'+Options'!$AI106,'+Options'!$AG106),IF(OR(Calcs!E$18<>\"\",Calcs!E$19<>\"\"),IF(Calcs!E$20<>\"\",'+Options'!$AJ116,'+Options'!$AI116),IF(Calcs!E$20<>\"\",'+Options'!$AH116,'+Options'!$AG116)))","v":1.4999999999999999E-2},{"$f":"IF('2.Strategy'!G$65=\"no\",IF(OR(Calcs!F$18<>\"\",Calcs!F$19<>\"\"),'+Options'!$AI106,'+Options'!$AG106),IF(OR(Calcs!F$18<>\"\",Calcs!F$19<>\"\"),IF(Calcs!F$20<>\"\",'+Options'!$AJ116,'+Options'!$AI116),IF(Calcs!F$20<>\"\",'+Options'!$AH116,'+Options'!$AG116)))","v":1.4999999999999999E-2},{"$f":"IF('2.Strategy'!H$65=\"no\",IF(OR(Calcs!G$18<>\"\",Calcs!G$19<>\"\"),'+Options'!$AI106,'+Options'!$AG106),IF(OR(Calcs!G$18<>\"\",Calcs!G$19<>\"\"),IF(Calcs!G$20<>\"\",'+Options'!$AJ116,'+Options'!$AI116),IF(Calcs!G$20<>\"\",'+Options'!$AH116,'+Options'!$AG116)))","v":1.4999999999999999E-2},{"$f":"IF('2.Strategy'!I$65=\"no\",IF(OR(Calcs!H$18<>\"\",Calcs!H$19<>\"\"),'+Options'!$AI106,'+Options'!$AG106),IF(OR(Calcs!H$18<>\"\",Calcs!H$19<>\"\"),IF(Calcs!H$20<>\"\",'+Options'!$AJ116,'+Options'!$AI116),IF(Calcs!H$20<>\"\",'+Options'!$AH116,'+Options'!$AG116)))","v":1.4E-2},{"$f":"IF('2.Strategy'!J$65=\"no\",IF(OR(Calcs!I$18<>\"\",Calcs!I$19<>\"\"),'+Options'!$AI106,'+Options'!$AG106),IF(OR(Calcs!I$18<>\"\",Calcs!I$19<>\"\"),IF(Calcs!I$20<>\"\",'+Options'!$AJ116,'+Options'!$AI116),IF(Calcs!I$20<>\"\",'+Options'!$AH116,'+Options'!$AG116)))","v":1.4999999999999999E-2},{"$f":"IF('2.Strategy'!K$65=\"no\",IF(OR(Calcs!J$18<>\"\",Calcs!J$19<>\"\"),'+Options'!$AI106,'+Options'!$AG106),IF(OR(Calcs!J$18<>\"\",Calcs!J$19<>\"\"),IF(Calcs!J$20<>\"\",'+Options'!$AJ116,'+Options'!$AI116),IF(Calcs!J$20<>\"\",'+Options'!$AH116,'+Options'!$AG116)))","v":1.4E-2},{"$f":"IF('2.Strategy'!L$65=\"no\",IF(OR(Calcs!K$18<>\"\",Calcs!K$19<>\"\"),'+Options'!$AI106,'+Options'!$AG106),IF(OR(Calcs!K$18<>\"\",Calcs!K$19<>\"\"),IF(Calcs!K$20<>\"\",'+Options'!$AJ116,'+Options'!$AI116),IF(Calcs!K$20<>\"\",'+Options'!$AH116,'+Options'!$AG116)))","v":1.4999999999999999E-2},{"$f":"IF('2.Strategy'!M$65=\"no\",IF(OR(Calcs!L$18<>\"\",Calcs!L$19<>\"\"),'+Options'!$AI106,'+Options'!$AG106),IF(OR(Calcs!L$18<>\"\",Calcs!L$19<>\"\"),IF(Calcs!L$20<>\"\",'+Options'!$AJ116,'+Options'!$AI116),IF(Calcs!L$20<>\"\",'+Options'!$AH116,'+Options'!$AG116)))","v":1.4E-2}]
[57,"Time for post-emergence spraying",{"$f":"IF('2.Strategy'!D$65=\"no\",IF(OR(Calcs!C$18<>\"\",Calcs!C$19<>\"\"),'+Options'!$AI107,'+Options'!$AG107),IF(OR(Calcs!C$18<>\"\",Calcs!C$19<>\"\"),IF(Calcs!C$20<>\"\",'+Options'!$AJ117,'+Options'!$AI117),IF(Calcs!C$20<>\"\",'+Options'!$AH117,'+Options'!$AG117)))","v":1.7999999999999999E-2},{"$f":"IF('2.Strategy'!E$65=\"no\",IF(OR(Calcs!D$18<>\"\",Calcs!D$19<>\"\"),'+Options'!$AI107,'+Options'!$AG107),IF(OR(Calcs!D$18<>\"\",Calcs!D$19<>\"\"),IF(Calcs!D$20<>\"\",'+Options'!$AJ117,'+Options'!$AI117),IF(Calcs!D$20<>\"\",'+Options'!$AH117,'+Options'!$AG117)))","v":2.1000000000000001E-2},{"$f":"IF('2.Strategy'!F$65=\"no\",IF(OR(Calcs!E$18<>\"\",Calcs!E$19<>\"\"),'+Options'!$AI107,'+Options'!$AG107),IF(OR(Calcs!E$18<>\"\",Calcs!E$19<>\"\"),IF(Calcs!E$20<>\"\",'+Options'!$AJ117,'+Options'!$AI117),IF(Calcs!E$20<>\"\",'+Options'!$AH117,'+Options'!$AG117)))","v":1.6E-2},{"$f":"IF('2.Strategy'!G$65=\"no\",IF(OR(Calcs!F$18<>\"\",Calcs!F$19<>\"\"),'+Options'!$AI107,'+Options'!$AG107),IF(OR(Calcs!F$18<>\"\",Calcs!F$19<>\"\"),IF(Calcs!F$20<>\"\",'+Options'!$AJ117,'+Options'!$AI117),IF(Calcs!F$20<>\"\",'+Options'!$AH117,'+Options'!$AG117)))","v":2.1000000000000001E-2},{"$f":"IF('2.Strategy'!H$65=\"no\",IF(OR(Calcs!G$18<>\"\",Calcs!G$19<>\"\"),'+Options'!$AI107,'+Options'!$AG107),IF(OR(Calcs!G$18<>\"\",Calcs!G$19<>\"\"),IF(Calcs!G$20<>\"\",'+Options'!$AJ117,'+Options'!$AI117),IF(Calcs!G$20<>\"\",'+Options'!$AH117,'+Options'!$AG117)))","v":1.6E-2},{"$f":"IF('2.Strategy'!I$65=\"no\",IF(OR(Calcs!H$18<>\"\",Calcs!H$19<>\"\"),'+Options'!$AI107,'+Options'!$AG107),IF(OR(Calcs!H$18<>\"\",Calcs!H$19<>\"\"),IF(Calcs!H$20<>\"\",'+Options'!$AJ117,'+Options'!$AI117),IF(Calcs!H$20<>\"\",'+Options'!$AH117,'+Options'!$AG117)))","v":2.1000000000000001E-2},{"$f":"IF('2.Strategy'!J$65=\"no\",IF(OR(Calcs!I$18<>\"\",Calcs!I$19<>\"\"),'+Options'!$AI107,'+Options'!$AG107),IF(OR(Calcs!I$18<>\"\",Calcs!I$19<>\"\"),IF(Calcs!I$20<>\"\",'+Options'!$AJ117,'+Options'!$AI117),IF(Calcs!I$20<>\"\",'+Options'!$AH117,'+Options'!$AG117)))","v":1.6E-2},{"$f":"IF('2.Strategy'!K$65=\"no\",IF(OR(Calcs!J$18<>\"\",Calcs!J$19<>\"\"),'+Options'!$AI107,'+Options'!$AG107),IF(OR(Calcs!J$18<>\"\",Calcs!J$19<>\"\"),IF(Calcs!J$20<>\"\",'+Options'!$AJ117,'+Options'!$AI117),IF(Calcs!J$20<>\"\",'+Options'!$AH117,'+Options'!$AG117)))","v":2.1000000000000001E-2},{"$f":"IF('2.Strategy'!L$65=\"no\",IF(OR(Calcs!K$18<>\"\",Calcs!K$19<>\"\"),'+Options'!$AI107,'+Options'!$AG107),IF(OR(Calcs!K$18<>\"\",Calcs!K$19<>\"\"),IF(Calcs!K$20<>\"\",'+Options'!$AJ117,'+Options'!$AI117),IF(Calcs!K$20<>\"\",'+Options'!$AH117,'+Options'!$AG117)))","v":1.6E-2},{"$f":"IF('2.Strategy'!M$65=\"no\",IF(OR(Calcs!L$18<>\"\",Calcs!L$19<>\"\"),'+Options'!$AI107,'+Options'!$AG107),IF(OR(Calcs!L$18<>\"\",Calcs!L$19<>\"\"),IF(Calcs!L$20<>\"\",'+Options'!$AJ117,'+Options'!$AI117),IF(Calcs!L$20<>\"\",'+Options'!$AH117,'+Options'!$AG117)))","v":2.1000000000000001E-2}]
[58,"Late summer",{"$f":"IF('2.Strategy'!D$65=\"no\",IF(OR(Calcs!C$18<>\"\",Calcs!C$19<>\"\"),'+Options'!$AI108,'+Options'!$AG108),IF(OR(Calcs!C$18<>\"\",Calcs!C$19<>\"\"),IF(Calcs!C$20<>\"\",'+Options'!$AJ118,'+Options'!$AI118),IF(Calcs!C$20<>\"\",'+Options'!$AH118,'+Options'!$AG118)))","v":1.0999999999999999E-2},{"$f":"IF('2.Strategy'!E$65=\"no\",IF(OR(Calcs!D$18<>\"\",Calcs!D$19<>\"\"),'+Options'!$AI108,'+Options'!$AG108),IF(OR(Calcs!D$18<>\"\",Calcs!D$19<>\"\"),IF(Calcs!D$20<>\"\",'+Options'!$AJ118,'+Options'!$AI118),IF(Calcs!D$20<>\"\",'+Options'!$AH118,'+Options'!$AG118)))","v":5.0000000000000001E-3},{"$f":"IF('2.Strategy'!F$65=\"no\",IF(OR(Calcs!E$18<>\"\",Calcs!E$19<>\"\"),'+Options'!$AI108,'+Options'!$AG108),IF(OR(Calcs!E$18<>\"\",Calcs!E$19<>\"\"),IF(Calcs!E$20<>\"\",'+Options'!$AJ118,'+Options'!$AI118),IF(Calcs!E$20<>\"\",'+Options'!$AH118,'+Options'!$AG118)))","v":8.9999999999999993E-3},{"$f":"IF('2.Strategy'!G$65=\"no\",IF(OR(Calcs!F$18<>\"\",Calcs!F$19<>\"\"),'+Options'!$AI108,'+Options'!$AG108),IF(OR(Calcs!F$18<>\"\",Calcs!F$19<>\"\"),IF(Calcs!F$20<>\"\",'+Options'!$AJ118,'+Options'!$AI118),IF(Calcs!F$20<>\"\",'+Options'!$AH118,'+Options'!$AG118)))","v":6.0000000000000001E-3},{"$f":"IF('2.Strategy'!H$65=\"no\",IF(OR(Calcs!G$18<>\"\",Calcs!G$19<>\"\"),'+Options'!$AI108,'+Options'!$AG108),IF(OR(Calcs!G$18<>\"\",Calcs!G$19<>\"\"),IF(Calcs!G$20<>\"\",'+Options'!$AJ118,'+Options'!$AI118),IF(Calcs!G$20<>\"\",'+Options'!$AH118,'+Options'!$AG118)))","v":8.9999999999999993E-3},{"$f":"IF('2.Strategy'!I$65=\"no\",IF(OR(Calcs!H$18<>\"\",Calcs!H$19<>\"\"),'+Options'!$AI108,'+Options'!$AG108),IF(OR(Calcs!H$18<>\"\",Calcs!H$19<>\"\"),IF(Calcs!H$20<>\"\",'+Options'!$AJ118,'+Options'!$AI118),IF(Calcs!H$20<>\"\",'+Options'!$AH118,'+Options'!$AG118)))","v":5.0000000000000001E-3},{"$f":"IF('2.Strategy'!J$65=\"no\",IF(OR(Calcs!I$18<>\"\",Calcs!I$19<>\"\"),'+Options'!$AI108,'+Options'!$AG108),IF(OR(Calcs!I$18<>\"\",Calcs!I$19<>\"\"),IF(Calcs!I$20<>\"\",'+Options'!$AJ118,'+Options'!$AI118),IF(Calcs!I$20<>\"\",'+Options'!$AH118,'+Options'!$AG118)))","v":8.9999999999999993E-3},{"$f":"IF('2.Strategy'!K$65=\"no\",IF(OR(Calcs!J$18<>\"\",Calcs!J$19<>\"\"),'+Options'!$AI108,'+Options'!$AG108),IF(OR(Calcs!J$18<>\"\",Calcs!J$19<>\"\"),IF(Calcs!J$20<>\"\",'+Options'!$AJ118,'+Options'!$AI118),IF(Calcs!J$20<>\"\",'+Options'!$AH118,'+Options'!$AG118)))","v":5.0000000000000001E-3},{"$f":"IF('2.Strategy'!L$65=\"no\",IF(OR(Calcs!K$18<>\"\",Calcs!K$19<>\"\"),'+Options'!$AI108,'+Options'!$AG108),IF(OR(Calcs!K$18<>\"\",Calcs!K$19<>\"\"),IF(Calcs!K$20<>\"\",'+Options'!$AJ118,'+Options'!$AI118),IF(Calcs!K$20<>\"\",'+Options'!$AH118,'+Options'!$AG118)))","v":8.9999999999999993E-3},{"$f":"IF('2.Strategy'!M$65=\"no\",IF(OR(Calcs!L$18<>\"\",Calcs!L$19<>\"\"),'+Options'!$AI108,'+Options'!$AG108),IF(OR(Calcs!L$18<>\"\",Calcs!L$19<>\"\"),IF(Calcs!L$20<>\"\",'+Options'!$AJ118,'+Options'!$AI118),IF(Calcs!L$20<>\"\",'+Options'!$AH118,'+Options'!$AG118)))","v":5.0000000000000001E-3}]
[59,null,null,null,null,null,null,null,null,null,null,null,null,null,null,null,null,null,null,{"$f":"IF('2.Strategy'!U$66=\"no\",IF(Calcs!T$16<>\"\",'+Options'!$AI104,'+Options'!$AG104),IF(Calcs!T$16<>\"\",IF(Calcs!T$18<>\"\",'+Options'!$AJ114,'+Options'!$AI114),IF(Calcs!T$18<>\"\",'+Options'!$AH114,'+Options'!$AG114)))","v":7.0000000000000001E-3}]
[60,null,null,null,null,null,null,null,null,null,null,null,null,null,null,null,null,null,null,{"$f":"IF('2.Strategy'!U$66=\"no\",IF(Calcs!T$16<>\"\",'+Options'!$AI105,'+Options'!$AG105),IF(Calcs!T$16<>\"\",IF(Calcs!T$18<>\"\",'+Options'!$AJ115,'+Options'!$AI115),IF(Calcs!T$18<>\"\",'+Options'!$AH115,'+Options'!$AG115)))","v":2.1999999999999999E-2}]
[null,"Table 5a.  BYG seed control","When mouldboarding. Feeds into the bio results page. ",null,null,null,null,null,null,null,null,null,null,null,null,null,null,null,null,{"$f":"IF('2.Strategy'!U$66=\"no\",IF(Calcs!T$16<>\"\",'+Options'!$AI106,'+Options'!$AG106),IF(Calcs!T$16<>\"\",IF(Calcs!T$18<>\"\",'+Options'!$AJ116,'+Options'!$AI116),IF(Calcs!T$18<>\"\",'+Options'!$AH116,'+Options'!$AG116)))","v":1.4E-2}]
[null,"Seeds surviving beyond day 10",{"$f":"IF(AND(C19<>\"\",C24=\"\"),1-'+Options'!$AG$125,1)","v":0.30000000000000004},{"$f":"IF(AND(D19<>\"\",D24=\"\"),1-'+Options'!$AG$125,1)","v":1},{"$f":"IF(AND(E19<>\"\",E24=\"\"),1-'+Options'!$AG$125,1)","v":0.30000000000000004},{"$f":"IF(AND(F19<>\"\",F24=\"\"),1-'+Options'!$AG$125,1)","v":1},{"$f":"IF(AND(G19<>\"\",G24=\"\"),1-'+Options'!$AG$125,1)","v":0.30000000000000004},{"$f":"IF(AND(H19<>\"\",H24=\"\"),1-'+Options'!$AG$125,1)","v":1},{"$f":"IF(AND(I19<>\"\",I24=\"\"),1-'+Options'!$AG$125,1)","v":0.30000000000000004},{"$f":"IF(AND(J19<>\"\",J24=\"\"),1-'+Options'!$AG$125,1)","v":1},{"$f":"IF(AND(K19<>\"\",K24=\"\"),1-'+Options'!$AG$125,1)","v":1},{"$f":"IF(AND(L19<>\"\",L24=\"\"),1-'+Options'!$AG$125,1)","v":1},null,null,null,null,null,null,null,{"$f":"IF('2.Strategy'!U$66=\"no\",IF(Calcs!T$16<>\"\",'+Options'!$AI107,'+Options'!$AG107),IF(Calcs!T$16<>\"\",IF(Calcs!T$18<>\"\",'+Options'!$AJ117,'+Options'!$AI117),IF(Calcs!T$18<>\"\",'+Options'!$AH117,'+Options'!$AG117)))","v":1.7000000000000001E-2}]
[null,"Seeds surviving beyond day 20",{"$f":"IF(AND(C19<>\"\",C24<>\"\"),1-'+Options'!$AG$125,1)","v":1},{"$f":"IF(AND(D19<>\"\",D24<>\"\"),1-'+Options'!$AG$125,1)","v":1},{"$f":"IF(AND(E19<>\"\",E24<>\"\"),1-'+Options'!$AG$125,1)","v":1},{"$f":"IF(AND(F19<>\"\",F24<>\"\"),1-'+Options'!$AG$125,1)","v":1},{"$f":"IF(AND(G19<>\"\",G24<>\"\"),1-'+Options'!$AG$125,1)","v":1},{"$f":"IF(AND(H19<>\"\",H24<>\"\"),1-'+Options'!$AG$125,1)","v":1},{"$f":"IF(AND(I19<>\"\",I24<>\"\"),1-'+Options'!$AG$125,1)","v":1},{"$f":"IF(AND(J19<>\"\",J24<>\"\"),1-'+Options'!$AG$125,1)","v":1},{"$f":"IF(AND(K19<>\"\",K24<>\"\"),1-'+Options'!$AG$125,1)","v":1},{"$f":"IF(AND(L19<>\"\",L24<>\"\"),1-'+Options'!$AG$125,1)","v":1},null,null,null,null,null,null,null,{"$f":"IF('2.Strategy'!U$66=\"no\",IF(Calcs!T$16<>\"\",'+Options'!$AI108,'+Options'!$AG108),IF(Calcs!T$16<>\"\",IF(Calcs!T$18<>\"\",'+Options'!$AJ118,'+Options'!$AI118),IF(Calcs!T$18<>\"\",'+Options'!$AH118,'+Options'!$AG118)))","v":6.0000000000000001E-3}]
[]
[]
[null,"Table 5b.  BYG control per period","Summarises the control table, feeds into the bio results page. Grazing accounted in a separate table below."]
[null,"Weeds surviving beyond day 0",{"$f":"IF(C21<>\"\",1,IF(C22<>\"\",C80,1))","v":1},1,1,1,1,1,1,1,1,1]
[null,"Weeds surviving beyond day 10",{"$f":"C81*IF(OR(SUM(C21:C24)=0,C23<>\"\"),C$65*C$66*C$67*C$68*C69*C77,1)","v":2.0000000000000035E-3},1,{"$f":"E81*IF(OR(SUM(E21:E24)=0,E23<>\"\"),E$65*E$66*E$67*E$68*E69*E77,1)","v":1.6000000000000029E-3},1,{"$f":"G81*IF(OR(SUM(G21:G24)=0,G23<>\"\"),G$65*G$66*G$67*G$68*G69*G77,1)","v":1.6000000000000029E-3},1,1.6000000000000029E-3,1,3.2000000000000028E-2,1]
[null,"Weeds surviving beyond day 20",{"$f":"C82*C77*IF(C24<>\"\",C$65*C$66*C$67*C$68*C$69,1)","v":5.0000000000000044E-2},1,{"$f":"E82*E77*IF(E24<>\"\",E$65*E$66*E$67*E$68*E$69,1)","v":5.0000000000000044E-2},1,5.0000000000000044E-2,1,5.0000000000000044E-2,1,1,1]
[null,"Weeds surviving pre-em treatments",{"$f":"C73*C74*C70*C71*C72*(1-'+Options'!$AG$127)","v":0.95},1,{"$f":"E73*E74*E70*E71*E72*(1-'+Options'!$AG$127)","v":0.95},1,{"$f":"G73*G74*G70*G71*G72*(1-'+Options'!$AG$127)","v":0.17100000000000004},1,{"$f":"I73*I74*I70*I71*I72*(1-'+Options'!$AG$127)","v":0.95},1,{"$f":"K73*K74*K70*K71*K72*(1-'+Options'!$AG$127)","v":0.95},1,null,{"$f":"'+Options'!#REF!","v":{"$error":"#REF!"}}]
[null,"Weeds surviving post-em treatments",{"$f":"C83*C84*C85*C86*C87*C88*C89*C90*C91*C92*C93*C94*C95*C96*C97","v":0.72249999999999992},1,{"$f":"E83*E84*E85*E86*E87*E88*E89*E90*E91*E92*E93*E94*E95*E96*E97","v":0.72249999999999992},1,0.14449999999999996,1,0.85,1,0.14449999999999996,1]
[null,"Weeds surviving late treatments",{"$f":"C99*C100*C101*C103*C104*C105*C108*C109*C102*C106*C107*C98*C110","v":0.255},1,{"$f":"E99*E100*E101*E103*E104*E105*E108*E109*E102*E106*E107*E98*E110","v":0.19999999999999996},1,0.85,1,0.85,1,0.19999999999999996,1]
[null,"Seeds surviving harvest",{"$f":"C111*C114*C115*C116*C117*C119*C121*C118*C112*C113","v":0.94},1,{"$f":"E111*E114*E115*E116*E117*E119*E121*E118*E112*E113","v":0.94},1,0.94,1,0.94,1,0.94,1]
[]
[]
[null,"Table 6.  Healthy equivalent weeds/m2","Feeds from the bio results and the RG parameters in the Option page. Feeds back into the bio results for the RG seed production in Spring."]
[null,"10 days after break",{"$f":"'Bio results'!D3*C197+'Bio results'!D12*C185*C200*IF(OR(C21<>\"\",C22<>\"\"),'+Options'!$AG141,IF(C23<>\"\",'+Options'!$AH141,'+Options'!$AI141))","v":8.8325299999999984},0,{"$f":"'Bio results'!F3*E197+'Bio results'!F12*E185*E200*IF(OR(E21<>\"\",E22<>\"\"),'+Options'!$AG141,IF(E23<>\"\",'+Options'!$AH141,'+Options'!$AI141))","v":27.507946829050155},0,{"$f":"'Bio results'!H3*G197+'Bio results'!H12*G185*G200*IF(OR(G21<>\"\",G22<>\"\"),'+Options'!$AG141,IF(G23<>\"\",'+Options'!$AH141,'+Options'!$AI141))","v":28.594493743215125},0,{"$f":"'Bio results'!J3*I197+'Bio results'!J12*I185*I200*IF(OR(I21<>\"\",I22<>\"\"),'+Options'!$AG141,IF(I23<>\"\",'+Options'!$AH141,'+Options'!$AI141))","v":150.7287959225194},0,{"$f":"'Bio results'!L3*K197+'Bio results'!L12*K185*K200*IF(OR(K21<>\"\",K22<>\"\"),'+Options'!$AG141,IF(K23<>\"\",'+Options'!$AH141,'+Options'!$AI141))","v":315.91631423470733},0]
[null,"20 days after break",{"$f":"C207*C198+'Bio results'!D13*C186*C200*IF(OR(C21<>\"\",C22<>\"\"),'+Options'!$AG142,IF(C23<>\"\",'+Options'!$AH142,'+Options'!$AI142))","v":0.62702615919999993},0,{"$f":"E207*E198+'Bio results'!F13*E186*E200*IF(OR(E21<>\"\",E22<>\"\"),'+Options'!$AG142,IF(E23<>\"\",'+Options'!$AH142,'+Options'!$AI142))","v":1.8651829928970465},0,{"$f":"G207*G198+'Bio results'!H13*G186*G200*IF(OR(G21<>\"\",G22<>\"\"),'+Options'!$AG142,IF(G23<>\"\",'+Options'!$AH142,'+Options'!$AI142))","v":0.69884739033553045},0,{"$f":"I207*I198+'Bio results'!J13*I186*I200*IF(OR(I21<>\"\",I22<>\"\"),'+Options'!$AG142,IF(I23<>\"\",'+Options'!$AH142,'+Options'!$AI142))","v":10.220202490635701},0,{"$f":"K207*K198+'Bio results'!L13*K186*K200*IF(OR(K21<>\"\",K22<>\"\"),'+Options'!$AG142,IF(K23<>\"\",'+Options'!$AH142,'+Options'!$AI142))","v":79.827042221459848},0]
[null,"Time for post-emergence spraying",{"$f":"C208*C199+'Bio results'!D14*C187*C200*IF(OR(C21<>\"\",C22<>\"\"),'+Options'!$AG143,IF(C23<>\"\",'+Options'!$AH143,'+Options'!$AI143))","v":0.51318183425600006},0,{"$f":"E208*E199+'Bio results'!F14*E187*E200*IF(OR(E21<>\"\",E22<>\"\"),'+Options'!$AG143,IF(E23<>\"\",'+Options'!$AH143,'+Options'!$AI143))","v":1.4600040820646678},0,{"$f":"G208*G199+'Bio results'!H14*G187*G200*IF(OR(G21<>\"\",G22<>\"\"),'+Options'!$AG143,IF(G23<>\"\",'+Options'!$AH143,'+Options'!$AI143))","v":0.52507551796720742},0,{"$f":"I208*I199+'Bio results'!J14*I187*I200*IF(OR(I21<>\"\",I22<>\"\"),'+Options'!$AG143,IF(I23<>\"\",'+Options'!$AH143,'+Options'!$AI143))","v":8.0000393595049459},0,{"$f":"K208*K199+'Bio results'!L14*K187*K200*IF(OR(K21<>\"\",K22<>\"\"),'+Options'!$AG143,IF(K23<>\"\",'+Options'!$AH143,'+Options'!$AI143))","v":132.14853126028649},0]
[null,"Late summer",{"$f":"C209*C201+'Bio results'!D15*C188*IF(OR(C21<>\"\",C22<>\"\"),'+Options'!$AG144,IF(C23<>\"\",'+Options'!$AH144,'+Options'!$AI144))","v":0.41947313461884322},0,{"$f":"E209*E201+'Bio results'!F15*E188*IF(OR(E21<>\"\",E22<>\"\"),'+Options'!$AG144,IF(E23<>\"\",'+Options'!$AH144,'+Options'!$AI144))","v":1.1822623505707739},0,{"$f":"G209*G201+'Bio results'!H15*G188*IF(OR(G21<>\"\",G22<>\"\"),'+Options'!$AG144,IF(G23<>\"\",'+Options'!$AH144,'+Options'!$AI144))","v":0.32971079028058975},0,{"$f":"I209*I201+'Bio results'!J15*I188*IF(OR(I21<>\"\",I22<>\"\"),'+Options'!$AG144,IF(I23<>\"\",'+Options'!$AH144,'+Options'!$AI144))","v":7.4981686440520701},0,{"$f":"K209*K201+'Bio results'!L15*K188*IF(OR(K21<>\"\",K22<>\"\"),'+Options'!$AG144,IF(K23<>\"\",'+Options'!$AH144,'+Options'!$AI144))","v":23.972927050562433},0]
[]
[]
[]
[null,"Table 7. Rotation codes","Codes are used for rotation identification in a number of calculations."]
[null,null,"Codes #1: 1=wc, 2=Sorghum, 3=corn, 4=beans, 5=d/l cotton, 6=irri cotton, 7=cover crop, 8=wf, 9=sf"]
[null,"Year",{"$f":"P242","v":"Prev Summer"},{"$f":"P241","v":"Prev Winter"},{"$f":"C1","v":"Irrig cotton   1"},"Winter fallow   2","Irrig cotton   3","Winter fallow   4","Irrig cotton   5","Winter fallow   6","Irrig cotton   7","Winter fallow   8",{"$f":"K1","v":"Irrig cotton   9"},{"$f":"L1","v":"Winter fallow   10"}]
[null,"Enterprise code #1: enterprise selected",{"$f":"IF(R242=\"w\",1,IF(R242=\"s\",2,IF(R242=\"c\",3,IF(R242=\"b\",4,IF(R242=\"dlc\",5,IF(R242=\"ic\",6,IF(R242=\"cc\",7,IF(R242=\"wf\",8,IF(R242=\"sf\",9,0)))))))))","v":9},{"$f":"IF(R241=\"w\",1,IF(R241=\"s\",2,IF(R241=\"c\",3,IF(R241=\"b\",4,IF(R241=\"dlc\",5,IF(R241=\"ic\",6,IF(R241=\"cc\",7,IF(R241=\"wf\",8,IF(R241=\"sf\",9,0)))))))))","v":8},{"$f":"IF('2.Strategy'!D4=\"Wheat\",1,IF('2.Strategy'!D4=\"Sorghum\",2,IF('2.Strategy'!D4=\"Corn\",3,IF('2.Strategy'!D4=\"Beans\",4,IF('2.Strategy'!D4=\"D/L Cotton\",5,IF('2.Strategy'!D4=\"Irrig Cotton\",6,IF('2.Strategy'!D4=\"Cover Crop\",7,IF('2.Strategy'!D4=\"Winter Fallow\",8,IF('2.Strategy'!D4=\"Summer Fallow\",9,-1)))))))))","v":6},{"$f":"IF('2.Strategy'!E4=\"Wheat\",1,IF('2.Strategy'!E4=\"Sorghum\",2,IF('2.Strategy'!E4=\"Corn\",3,IF('2.Strategy'!E4=\"Beans\",4,IF('2.Strategy'!E4=\"D/L Cotton\",5,IF('2.Strategy'!E4=\"Irrig Cotton\",6,IF('2.Strategy'!E4=\"Cover Crop\",7,IF('2.Strategy'!E4=\"Winter Fallow\",8,IF('2.Strategy'!E4=\"Summer Fallow\",9,-1)))))))))","v":8},{"$f":"IF('2.Strategy'!F4=\"Wheat\",1,IF('2.Strategy'!F4=\"Sorghum\",2,IF('2.Strategy'!F4=\"Corn\",3,IF('2.Strategy'!F4=\"Beans\",4,IF('2.Strategy'!F4=\"D/L Cotton\",5,IF('2.Strategy'!F4=\"Irrig Cotton\",6,IF('2.Strategy'!F4=\"Cover Crop\",7,IF('2.Strategy'!F4=\"Winter Fallow\",8,IF('2.Strategy'!F4=\"Summer Fallow\",9,-1)))))))))","v":6},{"$f":"IF('2.Strategy'!G4=\"Wheat\",1,IF('2.Strategy'!G4=\"Sorghum\",2,IF('2.Strategy'!G4=\"Corn\",3,IF('2.Strategy'!G4=\"Beans\",4,IF('2.Strategy'!G4=\"D/L Cotton\",5,IF('2.Strategy'!G4=\"Irrig Cotton\",6,IF('2.Strategy'!G4=\"Cover Crop\",7,IF('2.Strategy'!G4=\"Winter Fallow\",8,IF('2.Strategy'!G4=\"Summer Fallow\",9,-1)))))))))","v":8},{"$f":"IF('2.Strategy'!H4=\"Wheat\",1,IF('2.Strategy'!H4=\"Sorghum\",2,IF('2.Strategy'!H4=\"Corn\",3,IF('2.Strategy'!H4=\"Beans\",4,IF('2.Strategy'!H4=\"D/L Cotton\",5,IF('2.Strategy'!H4=\"Irrig Cotton\",6,IF('2.Strategy'!H4=\"Cover Crop\",7,IF('2.Strategy'!H4=\"Winter Fallow\",8,IF('2.Strategy'!H4=\"Summer Fallow\",9,-1)))))))))","v":6},{"$f":"IF('2.Strategy'!I4=\"Wheat\",1,IF('2.Strategy'!I4=\"Sorghum\",2,IF('2.Strategy'!I4=\"Corn\",3,IF('2.Strategy'!I4=\"Beans\",4,IF('2.Strategy'!I4=\"D/L Cotton\",5,IF('2.Strategy'!I4=\"Irrig Cotton\",6,IF('2.Strategy'!I4=\"Cover Crop\",7,IF('2.Strategy'!I4=\"Winter Fallow\",8,IF('2.Strategy'!I4=\"Summer Fallow\",9,-1)))))))))","v":8},{"$f":"IF('2.Strategy'!J4=\"Wheat\",1,IF('2.Strategy'!J4=\"Sorghum\",2,IF('2.Strategy'!J4=\"Corn\",3,IF('2.Strategy'!J4=\"Beans\",4,IF('2.Strategy'!J4=\"D/L Cotton\",5,IF('2.Strategy'!J4=\"Irrig Cotton\",6,IF('2.Strategy'!J4=\"Cover Crop\",7,IF('2.Strategy'!J4=\"Winter Fallow\",8,IF('2.Strategy'!J4=\"Summer Fallow\",9,-1)))))))))","v":6},{"$f":"IF('2.Strategy'!K4=\"Wheat\",1,IF('2.Strategy'!K4=\"Sorghum\",2,IF('2.Strategy'!K4=\"Corn\",3,IF('2.Strategy'!K4=\"Beans\",4,IF('2.Strategy'!K4=\"D/L Cotton\",5,IF('2.Strategy'!K4=\"Irrig Cotton\",6,IF('2.Strategy'!K4=\"Cover Crop\",7,IF('2.Strategy'!K4=\"Winter Fallow\",8,IF('2.Strategy'!K4=\"Summer Fallow\",9,-1)))))))))","v":8},{"$f":"IF('2.Strategy'!L4=\"Wheat\",1,IF('2.Strategy'!L4=\"Sorghum\",2,IF('2.Strategy'!L4=\"Corn\",3,IF('2.Strategy'!L4=\"Beans\",4,IF('2.Strategy'!L4=\"D/L Cotton\",5,IF('2.Strategy'!L4=\"Irrig Cotton\",6,IF('2.Strategy'!L4=\"Cover Crop\",7,IF('2.Strategy'!L4=\"Winter Fallow\",8,IF('2.Strategy'!L4=\"Summer Fallow\",9,-1)))))))))","v":6},{"$f":"IF('2.Strategy'!M4=\"Wheat\",1,IF('2.Strategy'!M4=\"Sorghum\",2,IF('2.Strategy'!M4=\"Corn\",3,IF('2.Strategy'!M4=\"Beans\",4,IF('2.Strategy'!M4=\"D/L Cotton\",5,IF('2.Strategy'!M4=\"Irrig Cotton\",6,IF('2.Strategy'!M4=\"Cover Crop\",7,IF('2.Strategy'!M4=\"Winter Fallow\",8,IF('2.Strategy'!M4=\"Summer Fallow\",9,-1)))))))))","v":8}]
[null,"Enterprise code #2: pasture types",{"$f":"IF(C217<4,C217,IF(C217=4,IF(B217<>4,4,IF(B218=4,5,6)),IF(C217=5,IF(B217<>5,7,IF(B218=7,8,9)),IF(B217<>6,10,IF(B218=10,11,12)))))","v":10},10,10,11,10,11,10,11,10,11,{"$f":"IF(M217<4,M217,IF(M217=4,IF(L217<>4,4,IF(L218=4,5,6)),IF(M217=5,IF(L217<>5,7,IF(L218=7,8,9)),IF(L217<>6,10,IF(L218=10,11,12)))))","v":10},{"$f":"IF(N217<4,N217,IF(N217=4,IF(M217<>4,4,IF(M218=4,5,6)),IF(N217=5,IF(M217<>5,7,IF(M218=7,8,9)),IF(M217<>6,10,IF(M218=10,11,12)))))","v":11}]
[null,"Enterprise code #3: differentiates cereals",{"$f":"IF(C218>1,C218,IF(AND(B219>1,B219<24),B219+11,0))","v":10},10,10,11,10,11,10,11,10,11,{"$f":"IF(M218>1,M218,IF(AND(L219>1,L219<24),L219+11,0))","v":10},{"$f":"IF(N218>1,N218,IF(AND(M219>1,M219<24),M219+11,0))","v":11}]
[null,"Enterprise code #4: differentiates wheat & Sorghum",{"$f":"IF(C217<>1,C219,IF(C219=0,1,C219+22))","v":10},10,10,11,10,11,10,11,10,11,{"$f":"IF(M217<>1,M219,IF(M219=0,1,M219+22))","v":10},{"$f":"IF(N217<>1,N219,IF(N219=0,1,N219+22))","v":11}]
[null,"Break since Cotton",3,{"$f":"IF(C220=2,0,IF(C221<3,C221+1,C221))","v":3},3,3,3,3,3,3,3,3,{"$f":"IF(L220=2,0,IF(L221<3,L221+1,L221))","v":3},{"$f":"IF(M220=2,0,IF(M221<3,M221+1,M221))","v":3}]
[null,"Enterprise code #5: differentiates Cottons",{"$f":"IF(C220<>2,C220,IF(B219=14,IF(C221=2,96,97),44+13*C221+B218))","v":10},{"$f":"IF(D220<>2,D220,IF(C219=14,IF(D221=2,96,97),44+13*D221+C218))","v":10},{"$f":"IF('2.Strategy'!D4<>\"\",IF(E220<>2,E220,IF(D219=14,IF(E221=2,96,97),44+13*E221+D218)),-1)","v":10},{"$f":"IF('2.Strategy'!E4<>\"\",IF(F220<>2,F220,IF(E219=14,IF(F221=2,96,97),44+13*F221+E218)),-1)","v":11},{"$f":"IF('2.Strategy'!F4<>\"\",IF(G220<>2,G220,IF(F219=14,IF(G221=2,96,97),44+13*G221+F218)),-1)","v":10},{"$f":"IF('2.Strategy'!G4<>\"\",IF(H220<>2,H220,IF(G219=14,IF(H221=2,96,97),44+13*H221+G218)),-1)","v":11},{"$f":"IF('2.Strategy'!H4<>\"\",IF(I220<>2,I220,IF(H219=14,IF(I221=2,96,97),44+13*I221+H218)),-1)","v":10},{"$f":"IF('2.Strategy'!I4<>\"\",IF(J220<>2,J220,IF(I219=14,IF(J221=2,96,97),44+13*J221+I218)),-1)","v":11},{"$f":"IF('2.Strategy'!J4<>\"\",IF(K220<>2,K220,IF(J219=14,IF(K221=2,96,97),44+13*K221+J218)),-1)","v":10},{"$f":"IF('2.Strategy'!K4<>\"\",IF(L220<>2,L220,IF(K219=14,IF(L221=2,96,97),44+13*L221+K218)),-1)","v":11},{"$f":"IF('2.Strategy'!L4<>\"\",IF(M220<>2,M220,IF(L219=14,IF(M221=2,96,97),44+13*M221+L218)),-1)","v":10},{"$f":"IF('2.Strategy'!M4<>\"\",IF(N220<>2,N220,IF(M219=14,IF(N221=2,96,97),44+13*N221+M218)),-1)","v":11}]
[]
[null,null,"RIM version greyed out (replaced)"]
[null,"Table 8. Rotation values","Associates each enterprise code with the corresponding yields, pastures values, prices, N savings etc. Values in green from Prices or Options."]
[null,"Enterprise","Enter-prise no.","Label for enter-prise","Weed- free crop yield","empty slot","Ryegrass control, standard grazing","Ryegrass control, high grazing","Standard","High","Standard if hay","High stocking rate if hay","N saving from legumes ($/ha)"]
[null,"If no selection",-1,"?          ",null,null,null,null,null,"Stocking rates"]
[null,"Wheat (3rd or more cereal in a row)",0,"Wheat",{"$f":"'+Options'!AG55","v":1.8},null,null,null,null,null,null,null,0]
[null,"Sorghum (3rd or more cereal in a row)",1,"Sorghum",{"$f":"'+Options'!AH55","v":4},null,null,null,null,null,null,null,0,null,"Decrease in pre-em efficiency when dry seeding"]
[null,"Cotton",2,"Cotton","Depends on previous crops/pastures. See below",null,null,null,null,null,null,null,0,null,"from Options"]
[null,"Legume",3,"Legum.",{"$f":"'+Options'!AL55","v":1},null,null,null,null,null,null,null,0]
[null,"Vol. past. yr 1",4,"Volunt.",0,null,{"$f":"'+Options'!AI168","v":0},{"$f":"'+Options'!AI172","v":0},{"$f":"'+Options'!AI158","v":0},{"$f":"'+Options'!AI162","v":0},{"$f":"'+Options'!AI178","v":0},{"$f":"'+Options'!AI186","v":{"$error":"#DIV/0!"}},0]
[null,"Vol. past. yr 2",5,"Volunt.",0,null,{"$f":"'+Options'!AI169","v":0},{"$f":"'+Options'!AI173","v":0},{"$f":"'+Options'!AI159","v":0},{"$f":"'+Options'!AI163","v":0},{"$f":"'+Options'!AI179","v":0},{"$f":"'+Options'!AI187","v":{"$error":"#DIV/0!"}},0]
[null,"Vol. past. yr 3",6,"Volunt.",0,null,{"$f":"'+Options'!AI170","v":0},{"$f":"'+Options'!AI174","v":0},{"$f":"'+Options'!AI160","v":0},{"$f":"'+Options'!AI164","v":0},{"$f":"'+Options'!AI180","v":0},{"$f":"'+Options'!AI188","v":{"$error":"#DIV/0!"}},0]
[null,"Clover yr 1",7,"Clover",0,null,{"$f":"'+Options'!AG168","v":0},{"$f":"'+Options'!AG172","v":0},{"$f":"'+Options'!AG158","v":0},{"$f":"'+Options'!AG162","v":0},{"$f":"'+Options'!AG178","v":0},{"$f":"'+Options'!AG186","v":{"$error":"#DIV/0!"}},0]
[null,"Clover yr 2",8,"Clover",0,null,{"$f":"'+Options'!AG169","v":0},{"$f":"'+Options'!AG173","v":0},{"$f":"'+Options'!AG159","v":0},{"$f":"'+Options'!AG163","v":0},{"$f":"'+Options'!AG179","v":0},{"$f":"'+Options'!AG187","v":{"$error":"#DIV/0!"}},0]
[null,"Clover yr 3",9,"Clover",0,null,{"$f":"'+Options'!AG170","v":0},{"$f":"'+Options'!AG174","v":0},{"$f":"'+Options'!AG160","v":0},{"$f":"'+Options'!AG164","v":0},{"$f":"'+Options'!AG180","v":0},{"$f":"'+Options'!AG188","v":{"$error":"#DIV/0!"}},0]
[null,"Cadiz yr 1",10,"Cadiz",0,null,{"$f":"'+Options'!AH168","v":0},{"$f":"'+Options'!AH172","v":0},{"$f":"'+Options'!AH158","v":0},{"$f":"'+Options'!AH162","v":0},{"$f":"'+Options'!AH178","v":0},{"$f":"'+Options'!AH186","v":{"$error":"#DIV/0!"}},0]
[null,"Cadiz yr 2",11,"Cadiz",0,null,{"$f":"'+Options'!AH169","v":0},{"$f":"'+Options'!AH173","v":0},{"$f":"'+Options'!AH159","v":0},{"$f":"'+Options'!AH163","v":0},{"$f":"'+Options'!AH179","v":0},{"$f":"'+Options'!AH187","v":{"$error":"#DIV/0!"}},0]
[null,"Cadiz yr 3",12,"Cadiz",0,null,{"$f":"'+Options'!AH170","v":0},{"$f":"'+Options'!AH174","v":0},{"$f":"'+Options'!AH160","v":0},{"$f":"'+Options'!AH164","v":0},{"$f":"'+Options'!AH180","v":0},{"$f":"'+Options'!AH188","v":{"$error":"#DIV/0!"}},0,null,null,"Enterprise grown:"]
[null,"Wheat 1st crop after Cotton",13,"Wheat",{"$f":"E228*(1+'+Options'!AG65)","v":1.9440000000000002},null,null,null,null,null,null,null,0,null,null,"Prev Winter",null,"wf"]
[null,"Wheat 1st crop after Legume crop",14,"Wheat",{"$f":"(1+'+Options'!AG$63)*E$228","v":2.0160000000000005},null,null,null,null,null,null,null,{"$f":"'+Prices'!AJ87","v":0},null,null,"Prev Summer",null,"sf"]
[null,"Wheat 1st crop after Vol. past. x 1",15,"Wheat",{"$f":"(1+'+Options'!AS167)*E$228","v":1.8864000000000001},null,null,null,null,null,null,null,{"$f":"'+Options'!AS157","v":0},null,null,"BYGUM version of RIM code assignment table."]
[null,"Wheat 1st crop after Vol. past. x 2",16,"Wheat",{"$f":"(1+'+Options'!AS168)*E$228","v":1.9080000000000001},null,null,null,null,null,null,null,{"$f":"'+Options'!AS158","v":0},null,null,null,"(force dlc)",null,null,null,"Codes #1: 1=wc, 2=Sorghum, 3=corn, 4=beans, 5=d/l cotton, 6=irri cotton, 7=cover crop, 8=wf, 9=sf"]
[null,"Wheat 1st crop after Vol. past. x 3",17,"Wheat",{"$f":"(1+'+Options'!AS169)*E$228","v":1.9080000000000001},null,null,null,null,null,null,null,{"$f":"'+Options'!AS159","v":0},null,null,"3prev w","prevprev s","prevprev w","prev s","prev w","s1","w1","s2","w2","s3","w3","s4","w4","s5","w5"]
[null,"Wheat 1st crop after Clover x 1",18,"Wheat",{"$f":"(1+'+Options'!AS170)*E$228","v":1.9836000000000003},null,null,null,null,null,null,null,{"$f":"'+Options'!$AS$160","v":0},null,null,{"$f":"T246","v":8},5,{"$f":"T246","v":8},{"$f":"IF(R242=\"w\",1,IF(R242=\"s\",2,IF(R242=\"c\",3,IF(R242=\"b\",4,IF(R242=\"dlc\",5,IF(R242=\"ic\",6,IF(R242=\"cc\",7,IF(R242=\"wf\",8,IF(R242=\"sf\",9,0)))))))))","v":9},{"$f":"IF(R241=\"w\",1,IF(R241=\"s\",2,IF(R241=\"c\",3,IF(R241=\"b\",4,IF(R241=\"dlc\",5,IF(R241=\"ic\",6,IF(R241=\"cc\",7,IF(R241=\"wf\",8,IF(R241=\"sf\",9,0)))))))))","v":8},{"$f":"IF('2.Strategy'!D4=\"Winter Crop\",1,IF('2.Strategy'!D4=\"Sorghum\",2,IF('2.Strategy'!D4=\"Corn\",3,IF('2.Strategy'!D4=\"Beans\",4,IF('2.Strategy'!D4=\"D/L Cotton\",5,IF('2.Strategy'!D4=\"Irrig Cotton\",6,IF('2.Strategy'!D4=\"Cover Crop\",7,IF('2.Strategy'!D4=\"Winter Fallow\",8,IF('2.Strategy'!D4=\"Summer Fallow\",9,-1)))))))))","v":6},{"$f":"IF('2.Strategy'!E4=\"Winter crop\",1,IF('2.Strategy'!E4=\"Sorghum\",2,IF('2.Strategy'!E4=\"Corn\",3,IF('2.Strategy'!E4=\"Beans\",4,IF('2.Strategy'!E4=\"D/L Cotton\",5,IF('2.Strategy'!E4=\"Irrig Cotton\",6,IF('2.Strategy'!E4=\"Cover Crop\",7,IF('2.Strategy'!E4=\"Winter Fallow\",8,IF('2.Strategy'!E4=\"Summer Fallow\",9,-1)))))))))","v":8},{"$f":"IF('2.Strategy'!F4=\"Winter crop\",1,IF('2.Strategy'!F4=\"Sorghum\",2,IF('2.Strategy'!F4=\"Corn\",3,IF('2.Strategy'!F4=\"Beans\",4,IF('2.Strategy'!F4=\"D/L Cotton\",5,IF('2.Strategy'!F4=\"Irrig Cotton\",6,IF('2.Strategy'!F4=\"Cover Crop\",7,IF('2.Strategy'!F4=\"Winter Fallow\",8,IF('2.Strategy'!F4=\"Summer Fallow\",9,-1)))))))))","v":6},{"$f":"IF('2.Strategy'!G4=\"Winter crop\",1,IF('2.Strategy'!G4=\"Sorghum\",2,IF('2.Strategy'!G4=\"Corn\",3,IF('2.Strategy'!G4=\"Beans\",4,IF('2.Strategy'!G4=\"D/L Cotton\",5,IF('2.Strategy'!G4=\"Irrig Cotton\",6,IF('2.Strategy'!G4=\"Cover Crop\",7,IF('2.Strategy'!G4=\"Winter Fallow\",8,IF('2.Strategy'!G4=\"Summer Fallow\",9,-1)))))))))","v":8},{"$f":"IF('2.Strategy'!H4=\"Winter crop\",1,IF('2.Strategy'!H4=\"Sorghum\",2,IF('2.Strategy'!H4=\"Corn\",3,IF('2.Strategy'!H4=\"Beans\",4,IF('2.Strategy'!H4=\"D/L Cotton\",5,IF('2.Strategy'!H4=\"Irrig Cotton\",6,IF('2.Strategy'!H4=\"Cover Crop\",7,IF('2.Strategy'!H4=\"Winter Fallow\",8,IF('2.Strategy'!H4=\"Summer Fallow\",9,-1)))))))))","v":6},{"$f":"IF('2.Strategy'!I4=\"Winter crop\",1,IF('2.Strategy'!I4=\"Sorghum\",2,IF('2.Strategy'!I4=\"Corn\",3,IF('2.Strategy'!I4=\"Beans\",4,IF('2.Strategy'!I4=\"D/L Cotton\",5,IF('2.Strategy'!I4=\"Irrig Cotton\",6,IF('2.Strategy'!I4=\"Cover Crop\",7,IF('2.Strategy'!I4=\"Winter Fallow\",8,IF('2.Strategy'!I4=\"Summer Fallow\",9,-1)))))))))","v":8},{"$f":"IF('2.Strategy'!J4=\"Winter crop\",1,IF('2.Strategy'!J4=\"Sorghum\",2,IF('2.Strategy'!J4=\"Corn\",3,IF('2.Strategy'!J4=\"Beans\",4,IF('2.Strategy'!J4=\"D/L Cotton\",5,IF('2.Strategy'!J4=\"Irrig Cotton\",6,IF('2.Strategy'!J4=\"Cover Crop\",7,IF('2.Strategy'!J4=\"Winter Fallow\",8,IF('2.Strategy'!J4=\"Summer Fallow\",9,-1)))))))))","v":6},{"$f":"IF('2.Strategy'!K4=\"Winter crop\",1,IF('2.Strategy'!K4=\"Sorghum\",2,IF('2.Strategy'!K4=\"Corn\",3,IF('2.Strategy'!K4=\"Beans\",4,IF('2.Strategy'!K4=\"D/L Cotton\",5,IF('2.Strategy'!K4=\"Irrig Cotton\",6,IF('2.Strategy'!K4=\"Cover Crop\",7,IF('2.Strategy'!K4=\"Winter Fallow\",8,IF('2.Strategy'!K4=\"Summer Fallow\",9,-1)))))))))","v":8},{"$f":"IF('2.Strategy'!L4=\"Winter crop\",1,IF('2.Strategy'!L4=\"Sorghum\",2,IF('2.Strategy'!L4=\"Corn\",3,IF('2.Strategy'!L4=\"Beans\",4,IF('2.Strategy'!L4=\"D/L Cotton\",5,IF('2.Strategy'!L4=\"Irrig Cotton\",6,IF('2.Strategy'!L4=\"Cover Crop\",7,IF('2.Strategy'!L4=\"Winter Fallow\",8,IF('2.Strategy'!L4=\"Summer Fallow\",9,-1)))))))))","v":6},{"$f":"IF('2.Strategy'!M4=\"Winter crop\",1,IF('2.Strategy'!M4=\"Sorghum\",2,IF('2.Strategy'!M4=\"Corn\",3,IF('2.Strategy'!M4=\"Beans\",4,IF('2.Strategy'!M4=\"D/L Cotton\",5,IF('2.Strategy'!M4=\"Irrig Cotton\",6,IF('2.Strategy'!M4=\"Cover Crop\",7,IF('2.Strategy'!M4=\"Winter Fallow\",8,IF('2.Strategy'!M4=\"Summer Fallow\",9,-1)))))))))","v":8}]
[null,"Wheat 1st crop after Clover x 2",19,"Wheat",{"$f":"(1+'+Options'!AS171)*E$228","v":2.0160000000000005},null,null,null,null,null,null,null,{"$f":"'+Options'!$AS$161","v":0},null,null,null,null,null,null,null,{"$f":"U246&T246","v":"68"},{"$f":"V246&U246","v":"86"},"68","86","68","86","68","86","68",{"$f":"AD246&AC246","v":"86"},"2-phase code"]
[null,"Wheat 1st crop after Clover x 3",20,"Wheat",{"$f":"(1+'+Options'!AS172)*E$228","v":2.0160000000000005},null,null,null,null,null,null,null,{"$f":"'+Options'!$AS$162","v":0},null,null,null,null,null,null,null,{"$f":"U246&T246&S246","v":"689"},{"$f":"V246&U246&T246","v":"868"},{"$f":"W246&V246&U246","v":"686"},"868","686","868","686","868","686",{"$f":"AD246&AC246&AB246","v":"868"},"3-phase code"]
[null,"Wheat 1st crop after Cadiz x 1",21,"Wheat",{"$f":"(1+'+Options'!AS173)*E$228","v":1.9836000000000003},null,null,null,null,null,null,null,{"$f":"'+Options'!$AS$163","v":0},null,null,null,null,null,null,null,{"$f":"U246&T246&S246&R246&Q246","v":"68985"},"86898","68689","86868","68686","86868","68686","86868","68686","86868","5-phase code"]
[null,"Wheat 1st crop after Cadiz x 2",22,"Wheat",{"$f":"(1+'+Options'!AS174)*E$228","v":2.0160000000000005},null,null,null,null,null,null,null,{"$f":"'+Options'!$AS$164","v":0},null,null,null,null,null,null,null,{"$f":"IF(U246>5,U246,IF(U246=4,U247,IF(U246=5,U249,U248)))","v":6},8,6,8,6,8,6,8,6,{"$f":"IF(AD246>5,AD246,IF(AD246=4,AD247,IF(AD246=5,AD249,AD248)))","v":8},"if namecode>5, use namecode"]
[null,"Wheat 1st crop after Cadiz x 3",23,"Wheat",{"$f":"(1+'+Options'!AS175)*E$228","v":2.0160000000000005},null,null,null,null,null,null,null,{"$f":"'+Options'!$AS$165","v":0},null,null,null,null,null,null,"Codes as numbers:",{"$f":"VALUE(U250)","v":6},{"$f":"VALUE(V250)","v":8},6,8,6,8,6,8,6,8,"if namecode=5, use 5-phase code"]
[null,"Wheat 2nd cereal after Cotton",24,"Wheat",{"$f":"'+Options'!AG55","v":1.8},null,null,null,null,null,null,null,0,null,null,null,null,null,null,null,null,null,null,null,null,null,null,null,null,null,"if namecode=4, use 2-phase code"]
[null,"Wheat 2nd cereal after Legume crop",25,"Wheat",{"$f":"(1+'+Options'!AG$64)*E$228","v":1.8},null,null,null,null,null,null,null,{"$f":"'+Prices'!AJ88","v":0},null,null,null,null,null,null,null,null,null,null,null,null,null,null,null,null,null,"if namecode<4, use 3-phase code"]
[null,"Wheat 2nd cereal after Vol. past. x 1",26,"Wheat",{"$f":"(1+'+Options'!AT167)*E$228","v":1.8432000000000002},null,null,null,null,null,null,null,{"$f":"'+Options'!AT157","v":0},null,null,"Table 8 (BYGUM new)"]
[null,"Wheat 2nd cereal after Vol. past. x 2",27,"Wheat",{"$f":"(1+'+Options'!AT168)*E$228","v":1.8540000000000001},null,null,null,null,null,null,null,{"$f":"'+Options'!AT158","v":0},null,null,"Enterprise","Enter-prise no.","Label for enter-prise","Weed- free crop yield","N saving from legumes ($/ha)","BYG suppression"]
[null,"Wheat 2nd cereal after Vol. past. x 3",28,"Wheat",{"$f":"(1+'+Options'!AT169)*E$228","v":1.8540000000000001},null,null,null,null,null,null,null,{"$f":"'+Options'!AT159","v":0},null,null,"If no selection",-1,"?          ",0,0]
[null,"Wheat 2nd cereal after Clover x 1",29,"Wheat",{"$f":"(1+'+Options'!AT170)*E$228","v":1.8864000000000001},null,null,null,null,null,null,null,{"$f":"'+Options'!$AT$160","v":0},null,null,"Irrigated cotton",6,"Irrig cotton",{"$f":"'+Options'!AI55","v":3.1779999999999999},0]
[null,"Wheat 2nd cereal after Clover x 2",30,"Wheat",{"$f":"(1+'+Options'!AT171)*E$228","v":1.9080000000000001},null,null,null,null,null,null,null,{"$f":"'+Options'!$AT$161","v":0},null,null,"Cover crop",7,"Cover crop",0,0]
[null,"Wheat 2nd cereal after Clover x 3",31,"Wheat",{"$f":"(1+'+Options'!AT172)*E$228","v":1.9080000000000001},null,null,null,null,null,null,null,{"$f":"'+Options'!$AT$162","v":0},null,null,"Winter fallow",8,"Winter fallow",0,0,0]
[null,"Wheat 2nd cereal after Cadiz x 1",32,"Wheat",{"$f":"(1+'+Options'!AT173)*E$228","v":1.8864000000000001},null,null,null,null,null,null,null,{"$f":"'+Options'!$AT$163","v":0},null,null,"Summer fallow",9,"Summer fallow",0,0,0]
[null,"Wheat 2nd cereal after Cadiz x 2",33,"Wheat",{"$f":"(1+'+Options'!AT174)*E$228","v":1.9080000000000001},null,null,null,null,null,null,null,{"$f":"'+Options'!$AT$164","v":0},null,null,"beans preceded by Winter Crop",41,"Beans",{"$f":"'+Options'!AL55","v":1},0]
[null,"Wheat 2nd cereal after Cadiz x 3",34,"Wheat",{"$f":"(1+'+Options'!AT175)*E$228","v":1.9080000000000001},null,null,null,null,null,null,null,{"$f":"'+Options'!$AT$165","v":0},null,null,"beans preceded by fallow",48,"Beans",{"$f":"S261","v":1},0]
[null,"Sorghum 1st crop after Cotton",35,"Sorghum",{"$f":"'+Options'!AH55*(1+'+Options'!AH65)","v":4.32},null,null,null,null,null,null,null,0,null,null,"wc prec by sc (prec by wc)",121,"Winter crop",{"$f":"'+Options'!AG55*(1-'+Options'!AG79)","v":0.54000000000000015},0,0]
[null,"Sorghum 1st crop after Legume crop",36,"Sorghum",{"$f":"(1+'+Options'!AH$63)*E$229","v":4.4800000000000004},null,null,null,null,null,null,null,{"$f":"'+Prices'!AK87","v":0},null,null,"wc prec by sc (prec by wf)",128,"Winter crop",{"$f":"S263","v":0.54000000000000015},0,0]
[null,"Sorghum 1st crop after Vol. past. x 1",37,"Sorghum",{"$f":"(1+'+Options'!AS167)*E$229","v":4.1920000000000002},null,null,null,null,null,null,null,{"$f":"'+Options'!AS157","v":0},null,null,"wc prec by beans prec by wc",141,"Winter crop",{"$f":"'+Options'!AG55+('+Options'!AG63*'+Options'!AG55)","v":2.016},{"$f":"'+Prices'!AO87","v":5},0]
[null,"Sorghum 1st crop after Vol. past. x 2",38,"Sorghum",{"$f":"(1+'+Options'!AS168)*E$229","v":4.24},null,null,null,null,null,null,null,{"$f":"'+Options'!AS158","v":0},null,null,"wc prec by beans prec by wf",148,"Winter crop",{"$f":"S265","v":2.016},{"$f":"T265","v":5},0]
[null,"Sorghum 1st crop after Vol. past. x 3",39,"Sorghum",{"$f":"(1+'+Options'!AS169)*E$229","v":4.24},null,null,null,null,null,null,null,{"$f":"'+Options'!AS159","v":0},null,null,"wc prec by DLC (prec by wc)",151,"Winter crop",{"$f":"S263","v":0.54000000000000015},0,0]
[null,"Sorghum 1st crop after Clover x 1",40,"Sorghum",{"$f":"(1+'+Options'!AS170)*E$229","v":4.4080000000000004},null,null,null,null,null,null,null,{"$f":"'+Options'!$AS$160","v":0},null,null,"wc prec by DLC (prec by wf)",158,"Winter crop",{"$f":"S263","v":0.54000000000000015},0,0]
[null,"Sorghum 1st crop after Clover x 2",41,"Sorghum",{"$f":"(1+'+Options'!AS171)*E$229","v":4.4800000000000004},null,null,null,null,null,null,null,{"$f":"'+Options'!$AS$161","v":0},null,null,"wc prec by IC (prec by wc)",161,"Winter crop",{"$f":"'+Options'!AG55*(1-('+Options'!AG79/2))","v":1.1700000000000002},0,0]
[null,"Sorghum 1st crop after Clover x 3",42,"Sorghum",{"$f":"(1+'+Options'!AS172)*E$229","v":4.4800000000000004},null,null,null,null,null,null,null,{"$f":"'+Options'!$AS$162","v":0},null,null,"wc prec by IC (prec by wf)",168,"Winter crop",{"$f":"S269","v":1.1700000000000002},0,0]
[null,"Sorghum 1st crop after Cadiz x 1",43,"Sorghum",{"$f":"(1+'+Options'!AS173)*E$229","v":4.4080000000000004},null,null,null,null,null,null,null,{"$f":"'+Options'!$AS$163","v":0},null,null,"wc prec by CC (prec by wc)",171,"Winter crop",{"$f":"'+Options'!AG55*(1+'+Options'!AG65)","v":1.9440000000000002},0,0]
[null,"Sorghum 1st crop after Cadiz x 2",44,"Sorghum",{"$f":"(1+'+Options'!AS174)*E$229","v":4.4800000000000004},null,null,null,null,null,null,null,{"$f":"'+Options'!$AS$164","v":0},null,null,"wc prec by CC (prec by wf)",178,"Winter crop",{"$f":"S271","v":1.9440000000000002},0,0]
[null,"Sorghum 1st crop after Cadiz x 3",45,"Sorghum",{"$f":"(1+'+Options'!AS175)*E$229","v":4.4800000000000004},null,null,null,null,null,null,null,{"$f":"'+Options'!$AS$165","v":0},null,null,"wc prec by sf prec by wc",191,"Winter crop",{"$f":"'+Options'!AG55","v":1.8},0,0]
[null,"Sorghum 2nd cereal after Cotton",46,"Sorghum",{"$f":"'+Options'!AH55","v":4},null,null,null,null,null,null,null,0,null,null,"wc prec by sf prec by wf",198,"Winter crop",{"$f":"'+Options'!AG55","v":1.8},0,0]
[null,"Sorghum 2nd cereal after Legume crop",47,"Sorghum",{"$f":"(1+'+Options'!AH$64)*E$229","v":4},null,null,null,null,null,null,null,{"$f":"'+Prices'!AK88","v":0},null,null,"sorghum prec by wc prec by sc",213,"Sorghum",{"$f":"'+Options'!AH55*'+Options'!AH79","v":2},0]
[null,"Sorghum 2nd cereal after Vol. past. x 1",48,"Sorghum",{"$f":"(1+'+Options'!AT167)*E$229","v":4.0960000000000001},null,null,null,null,null,null,null,{"$f":"'+Options'!AT157","v":0},null,null,"sorghum prec by wc prec by IC",216,"Sorghum",{"$f":"S275","v":2},0]
[null,"Sorghum 2nd cereal after Vol. past. x 2",49,"Sorghum",{"$f":"(1+'+Options'!AT168)*E$229","v":4.12},null,null,null,null,null,null,null,{"$f":"'+Options'!AT158","v":0},null,null,"sorghum prec by wc prec by cc",217,"Sorghum",{"$f":"S275","v":2},0]
[null,"Sorghum 2nd cereal after Vol. past. x 3",50,"Sorghum",{"$f":"(1+'+Options'!AT169)*E$229","v":4.12},null,null,null,null,null,null,null,{"$f":"'+Options'!AT159","v":0},null,null,"sorghum prec by wc prec by sf",219,"Sorghum",{"$f":"S275","v":2},0]
[null,"Sorghum 2nd cereal after Clover x 1",51,"Sorghum",{"$f":"(1+'+Options'!AT170)*E$229","v":4.1920000000000002},null,null,null,null,null,null,null,{"$f":"'+Options'!$AT$160","v":0},null,null,"sorghum prec by wf prec by sc",283,"Sorghum",{"$f":"'+Options'!AH55","v":4},0]
[null,"Sorghum 2nd cereal after Clover x 2",52,"Sorghum",{"$f":"(1+'+Options'!AT171)*E$229","v":4.24},null,null,null,null,null,null,null,{"$f":"'+Options'!$AT$161","v":0},null,null,"sorghum prec by wf prec by DLC",285,"Sorghum",{"$f":"S279","v":4},0]
[null,"Sorghum 2nd cereal after Clover x 3",53,"Sorghum",{"$f":"(1+'+Options'!AT172)*E$229","v":4.24},null,null,null,null,null,null,null,{"$f":"'+Options'!$AT$162","v":0},null,null,"sorghum prec by wf prec by IC",286,"Sorghum",{"$f":"S279","v":4},0]
[null,"Sorghum 2nd cereal after Cadiz x 1",54,"Sorghum",{"$f":"(1+'+Options'!AT173)*E$229","v":4.1920000000000002},null,null,null,null,null,null,null,{"$f":"'+Options'!$AT$163","v":0},null,null,"sorghum prec by wf prec by cc",287,"Sorghum",{"$f":"'+Options'!AH55*(1+'+Options'!AH65)","v":4.32},0]
[null,"Sorghum 2nd cereal after Cadiz x 2",55,"Sorghum",{"$f":"(1+'+Options'!AT174)*E$229","v":4.24},null,null,null,null,null,null,null,{"$f":"'+Options'!$AT$164","v":0},null,null,"sorghum after long fallow",289,"Sorghum",{"$f":"'+Options'!AH55","v":4},0]
[null,"Sorghum 2nd cereal after Cadiz x 3",56,"Sorghum",{"$f":"(1+'+Options'!AT175)*E$229","v":4.24},null,null,null,null,null,null,null,{"$f":"'+Options'!$AT$165","v":0},null,null,"corn prec by wc prec by sc",313,"Corn",{"$f":"'+Options'!AK55*(1-'+Options'!AK79)","v":7},0]
[null,"Cotton, 1 year break, wheat",57,"Cotton",{"$f":"'+Options'!AK55*(1-'+Options'!AK74)","v":14},null,null,null,null,null,null,null,0,null,null,"corn prec by wc prec by IC",316,"Corn",{"$f":"S284","v":7},0]
[null,"Cotton, 1 year break, Sorghum",58,"Cotton",{"$f":"'+Options'!AK55*(1-'+Options'!AK74)","v":14},null,null,null,null,null,null,null,0,null,null,"corn prec by wc prec by cc",317,"Corn",{"$f":"S284","v":7},0]
[null,"Cotton, 1 year break, Cotton",59,null,null,null,null,null,null,null,null,null,null,null,null,"corn prec by wc prec by sf",319,"Corn",{"$f":"S284","v":7},0]
[null,"Cotton, 1 year break, Legume crop",60,"Cotton",{"$f":"E312*(1+'+Options'!AK63)*(1-'+Options'!AK74)","v":15.680000000000001},null,null,null,null,null,null,null,{"$f":"'+Prices'!AL87","v":5},null,null,"corn prec by wf prec by sc",383,"Corn",{"$f":"'+Options'!AK55","v":14},0]
[null,"Cotton, 1 year break, vol past x 1",61,"Cotton",{"$f":"E312*(1+'+Options'!AU167)*(1-'+Options'!AK74)","v":14.672000000000001},null,null,null,null,null,null,null,{"$f":"'+Options'!AU157","v":0},null,null,"corn prec by wf prec by DLC",385,"Corn",{"$f":"S288","v":14},0]
[null,"Cotton, 1 year break, vol past x 2",62,null,null,null,null,null,null,null,null,null,null,null,null,"corn prec by wf prec by IC",386,"Corn",{"$f":"S288","v":14},0]
[null,"Cotton, 1 year break, vol past x 3",63,null,null,null,null,null,null,null,null,null,null,null,null,"corn prec by wf prec by cc",387,"Corn",{"$f":"S288","v":14},0]
[null,"Cotton, 1 year break, clover x 1",64,"Cotton",{"$f":"E312*(1+'+Options'!AU170)*(1-'+Options'!AK74)","v":14},null,null,null,null,null,null,null,{"$f":"'+Options'!$AU$160","v":0},null,null,"corn after long fallow",389,"Corn",{"$f":"S288","v":14},0]
[null,"Cotton, 1 year break, clover x 2",65,null,null,null,null,null,null,null,null,null,null,null,null,"preceded by wc; nothing else matters",51313,"D/L cotton",{"$f":"'+Options'!AJ55*(1-'+Options'!AK79)","v":1.2484999999999999},0]
[null,"Cotton, 1 year break, clover x 3",66,null,null,null,null,null,null,null,null,null,null,null,null,"preceded by wc; nothing else matters",51444,"D/L cotton",{"$f":"S293","v":1.2484999999999999},0]
[null,"Cotton, 1 year break, cadiz x 1",67,"Cotton",{"$f":"E312*(1+'+Options'!AU173)*(1-'+Options'!AK74)","v":14},null,null,null,null,null,null,null,{"$f":"'+Options'!$AU$163","v":0},null,null,"one preceding cc preceded by wc",58715,"D/L cotton",{"$f":"'+Options'!AJ55*(1+'+Options'!AJ65)","v":2.6967600000000003},0]
[null,"Cotton, 1 year break, cadiz x 2",68,null,null,null,null,null,null,null,null,null,null,null,null,"one preceding sf and wf preceded by sc",58782,"D/L cotton",{"$f":"'+Options'!AJ55","v":2.4969999999999999},0]
[null,"Cotton, 1 year break, cadiz x 3",69,null,null,null,null,null,null,null,null,null,null,null,null,"cover crop in between one in one out DLC",58785,"D/L cotton",{"$f":"S295","v":2.6967600000000003},0]
[null,"Cotton, 2 year break, wheat",70,"Cotton",{"$f":"'+Options'!AK55*(1-'+Options'!AK75)","v":14},null,null,null,null,null,null,null,0,null,null,"2-year long fallow with cover crops",58787,"D/L cotton",{"$f":"'+Options'!AJ55*(1+'+Options'!AJ64)*(1+'+Options'!AJ65)","v":4.3148160000000004},0]
[null,"Cotton, 2 year break, Sorghum",71,"Cotton",{"$f":"'+Options'!AK55*(1-'+Options'!AK75)","v":14},null,null,null,null,null,null,null,0,null,null,"2-year long fallow inc one cover crop",58789,"D/L cotton",{"$f":"S298","v":4.3148160000000004},0]
[null,"Cotton, 2 year break, Cotton",72,null,null,null,null,null,null,null,null,null,null,null,null,"one preceding sf preceded by wc",58914,"D/L cotton",{"$f":"'+Options'!AJ55*(1-'+Options'!AJ65)","v":2.2972399999999999},0]
[null,"Cotton, 2 year break, Legume crop",73,"Cotton",{"$f":"E312*(1+'+Options'!AK63)*(1-'+Options'!AK75)","v":15.680000000000001},null,null,null,null,null,null,null,{"$f":"'+Prices'!AL87","v":5},null,null,"one preceding sf and wf preceded by sc",58982,"D/L cotton",{"$f":"'+Options'!AJ55","v":2.4969999999999999},0]
[null,"Cotton, 2 yr break, vol past x 1",74,"Cotton",{"$f":"E312*(1+'+Options'!AU167)*(1-'+Options'!AK75)","v":14.672000000000001},null,null,null,null,null,null,null,{"$f":"'+Options'!AU157","v":0},null,null,"one in one out DLC",58985,"D/L cotton",{"$f":"S301","v":2.4969999999999999},0]
[null,"Cotton, 2 yr break, vol past x 2",75,"Cotton",{"$f":"E312*(1+'+Options'!AU168)*(1-'+Options'!AK75)","v":14.84},null,null,null,null,null,null,null,{"$f":"'+Options'!AU158","v":0},null,null,"2-year long fallow inc one cover crop",58987,"D/L cotton",{"$f":"S299","v":4.3148160000000004},0]
[null,"Cotton, 2 yr break, vol past x 3",76,null,null,null,null,null,null,null,null,null,null,null,null,"2-year long fallow",58989,"D/L cotton",{"$f":"'+Options'!AJ55*(1+'+Options'!AJ64)","v":3.9952000000000001},0]
[null,"Cotton, 2 yr break, clover x 1",77,"Cotton",{"$f":"E312*(1+'+Options'!AU170)*(1-'+Options'!AK75)","v":14},null,null,null,null,null,null,null,{"$f":"'+Options'!$AU$160","v":0}]
[null,"Cotton, 2 yr break, clover x 2",78,"Cotton",{"$f":"E312*(1+'+Options'!AU171)*(1-'+Options'!AK75)","v":12.74},null,null,null,null,null,null,null,{"$f":"'+Options'!$AU$161","v":0}]
[null,"Cotton, 2 yr break, clover x 3",79]
[null,"Cotton, 2 yr break, cadiz x 1",80,"Cotton",{"$f":"E312*(1+'+Options'!AU173)*(1-'+Options'!AK75)","v":14},null,null,null,null,null,null,null,{"$f":"'+Options'!$AU$163","v":0}]
[null,"Cotton, 2 yr break, cadiz x 2",81,"Cotton",{"$f":"E312*(1+'+Options'!AU174)*(1-'+Options'!AK75)","v":12.74},null,null,null,null,null,null,null,{"$f":"'+Options'!$AU$164","v":0}]
[null,"Cotton, 2 yr break, cadiz x 3",82]
[null,"Cotton, 3+ yr break, wheat",83,"Cotton",{"$f":"'+Options'!AK55","v":14},null,null,null,null,null,null,null,0]
[null,"Cotton, 3+ yr break, Sorghum",84,"Cotton",{"$f":"'+Options'!AK55","v":14},null,null,null,null,null,null,null,0]
[null,"Cotton, 3+ yr break, Cotton",85]
[null,"Cotton, 3+ yr break, Legume crop",86,"Cotton",{"$f":"E312*(1+'+Options'!AK63)","v":15.680000000000001},null,null,null,null,null,null,null,{"$f":"'+Prices'!AL87","v":5}]
[null,"Cotton, 3+ yr break, vol past x 1",87,"Cotton",{"$f":"E312*(1+'+Options'!AU167)","v":14.672000000000001},null,null,null,null,null,null,null,{"$f":"'+Options'!AU157","v":0}]
[null,"Cotton, 3+ yr break, vol past x 2",88,"Cotton",{"$f":"E312*(1+'+Options'!AU168)","v":14.84},null,null,null,null,null,null,null,{"$f":"'+Options'!AU158","v":0}]
[null,"Cotton, 3+ yr break, vol past x 3",89,"Cotton",{"$f":"E312*(1+'+Options'!AU169)","v":14.84},null,null,null,null,null,null,null,{"$f":"'+Options'!AU159","v":0}]
[null,"Cotton, 3+ yr break, clover x 1",90,"Cotton",{"$f":"E312*(1+'+Options'!AU170)","v":14},null,null,null,null,null,null,null,{"$f":"'+Options'!$AU$160","v":0}]
[null,"Cotton, 3+ yr break, clover x 2",91,"Cotton",{"$f":"E312*(1+'+Options'!AU171)","v":12.74},null,null,null,null,null,null,null,{"$f":"'+Options'!$AU$161","v":0}]
[null,"Cotton, 3+ yr break, clover x 3",92,"Cotton",{"$f":"E312*(1+'+Options'!AU172)","v":11.48},null,null,null,null,null,null,null,{"$f":"'+Options'!$AU$162","v":0}]
[null,"Cotton, 3+ yr break, cadiz x 1",93,"Cotton",{"$f":"E312*(1+'+Options'!AU173)","v":14},null,null,null,null,null,null,null,{"$f":"'+Options'!$AU$163","v":0}]
[null,"Cotton, 3+ yr break, cadiz x 2",94,"Cotton",{"$f":"E312*(1+'+Options'!AU174)","v":12.74},null,null,null,null,null,null,null,{"$f":"'+Options'!$AU$164","v":0}]
[null,"Cotton, 3+ yr break, cadiz x 3",95,"Cotton",{"$f":"E312*(1+'+Options'!AU175)","v":11.48},null,null,null,null,null,null,null,{"$f":"'+Options'!$AU$165","v":0}]
[null,"Cotton, 2 yr break, Legume crop-cereal",96,"Cotton",{"$f":"E312*(1+'+Options'!AK64)*(1-'+Options'!AK75)","v":14},null,null,null,null,null,null,null,{"$f":"'+Prices'!AL88","v":2.5}]
[null,"Cotton, 3+ yr break, Legume crop-cereal",97,"Cotton",{"$f":"E312*(1+'+Options'!AK64)","v":14},null,null,null,null,null,null,null,{"$f":"'+Prices'!AL88","v":2.5}]
[null,"Note: gaps indicate impossible options. They are included here to allow consistency in the structure which simplifies subsequent formulas."]
[]
[]
[null,"Table 9. Production costs ($/ha)","See comment. Feeds into the Eco results page (non-weed costs). N Savings from the rotation table."]
[null,"Value of total N saving ($/ha)",{"$f":"VLOOKUP(U251,$Q$256:$T$304,4)","v":0},{"$f":"VLOOKUP(V251,$Q$256:$T$304,4)","v":0},0,0,0,0,0,0,0,0]
[null,"Environmental cost of cultivation ($/ha)",{"$f":"IF(C20<>\"\",$AC$132/2,0)+IF(C19<>\"\",$AC$132/2,0)","v":5},{"$f":"IF(D20<>\"\",$AC$132/2,0)+IF(D19<>\"\",$AC$132/2,0)","v":0},2.5,0,2.5,0,2.5,0,0,0]
[null,"Winter Crop",{"$f":"IF(U246=1,'+Prices'!$AO$96+C331-C330,0)","v":0},{"$f":"IF(V246=1,'+Prices'!$AO$96+D331-D330,0)","v":0},{"$f":"IF(W246=1,'+Prices'!$AO$96+E331-E330,0)","v":0},{"$f":"IF(X246=1,'+Prices'!$AO$96+F331-F330,0)","v":0},{"$f":"IF(Y246=1,'+Prices'!$AO$96+G331-G330,0)","v":0},{"$f":"IF(Z246=1,'+Prices'!$AO$96+H331-H330,0)","v":0},{"$f":"IF(AA246=1,'+Prices'!$AO$96+I331-I330,0)","v":0},{"$f":"IF(AB246=1,'+Prices'!$AO$96+J331-J330,0)","v":0},{"$f":"IF(AC246=1,'+Prices'!$AO$96+K331-K330,0)","v":0},{"$f":"IF(AD246=1,'+Prices'!$AO$96+L331-L330,0)","v":0}]
[null,"Sorghum",{"$f":"IF(U246=2,'+Prices'!$AL$96+C331-C330,0)","v":0},{"$f":"IF(V246=2,'+Prices'!$AL$96+D331-D330,0)","v":0},{"$f":"IF(W246=2,'+Prices'!$AL$96+E331-E330,0)","v":0},{"$f":"IF(X246=2,'+Prices'!$AL$96+F331-F330,0)","v":0},{"$f":"IF(Y246=2,'+Prices'!$AL$96+G331-G330,0)","v":0},{"$f":"IF(Z246=2,'+Prices'!$AL$96+H331-H330,0)","v":0},{"$f":"IF(AA246=2,'+Prices'!$AL$96+I331-I330,0)","v":0},{"$f":"IF(AB246=2,'+Prices'!$AL$96+J331-J330,0)","v":0},{"$f":"IF(AC246=2,'+Prices'!$AL$96+K331-K330,0)","v":0},{"$f":"IF(AD246=2,'+Prices'!$AL$96+L331-L330,0)","v":0}]
[null,"Corn",{"$f":"IF(U246=3,'+Prices'!$AM$96+C331-C330,0)","v":0},{"$f":"IF(V246=3,'+Prices'!$AM$96+D331-D330,0)","v":0},{"$f":"IF(W246=3,'+Prices'!$AM$96+E331-E330,0)","v":0},{"$f":"IF(X246=3,'+Prices'!$AM$96+F331-F330,0)","v":0},{"$f":"IF(Y246=3,'+Prices'!$AM$96+G331-G330,0)","v":0},{"$f":"IF(Z246=3,'+Prices'!$AM$96+H331-H330,0)","v":0},{"$f":"IF(AA246=3,'+Prices'!$AM$96+I331-I330,0)","v":0},{"$f":"IF(AB246=3,'+Prices'!$AM$96+J331-J330,0)","v":0},{"$f":"IF(AC246=3,'+Prices'!$AM$96+K331-K330,0)","v":0},{"$f":"IF(AD246=3,'+Prices'!$AM$96+L331-L330,0)","v":0}]
[null,"Beans",{"$f":"IF(U246=4,'+Prices'!$AN$96+C331-C330,0)","v":0},{"$f":"IF(V246=4,'+Prices'!$AN$96+D331-D330,0)","v":0},{"$f":"IF(W246=4,'+Prices'!$AN$96+E331-E330,0)","v":0},{"$f":"IF(X246=4,'+Prices'!$AN$96+F331-F330,0)","v":0},{"$f":"IF(Y246=4,'+Prices'!$AN$96+G331-G330,0)","v":0},{"$f":"IF(Z246=4,'+Prices'!$AN$96+H331-H330,0)","v":0},{"$f":"IF(AA246=4,'+Prices'!$AN$96+I331-I330,0)","v":0},{"$f":"IF(AB246=4,'+Prices'!$AN$96+J331-J330,0)","v":0},{"$f":"IF(AC246=4,'+Prices'!$AN$96+K331-K330,0)","v":0},{"$f":"IF(AD246=4,'+Prices'!$AN$96+L331-L330,0)","v":0}]
[null,"D/L Cotton",{"$f":"IF(U246=5,'+Prices'!$AK$96+C331-C330,0)","v":0},{"$f":"IF(V246=5,'+Prices'!$AK$96+D331-D330,0)","v":0},{"$f":"IF(W246=5,'+Prices'!$AK$96+E331-E330,0)","v":0},{"$f":"IF(X246=5,'+Prices'!$AK$96+F331-F330,0)","v":0},{"$f":"IF(Y246=5,'+Prices'!$AK$96+G331-G330,0)","v":0},{"$f":"IF(Z246=5,'+Prices'!$AK$96+H331-H330,0)","v":0},{"$f":"IF(AA246=5,'+Prices'!$AK$96+I331-I330,0)","v":0},{"$f":"IF(AB246=5,'+Prices'!$AK$96+J331-J330,0)","v":0},{"$f":"IF(AC246=5,'+Prices'!$AK$96+K331-K330,0)","v":0},{"$f":"IF(AD246=5,'+Prices'!$AK$96+L331-L330,0)","v":0}]
[null,"Irrig cotton",{"$f":"IF(U246=6,'+Prices'!$AJ$96+C331-C330,0)","v":267.64999999999998},{"$f":"IF(V246=6,'+Prices'!$AJ$96+D331-D330,0)","v":0},{"$f":"IF(W246=6,'+Prices'!$AJ$96+E331-E330,0)","v":265.14999999999998},{"$f":"IF(X246=6,'+Prices'!$AJ$96+F331-F330,0)","v":0},{"$f":"IF(Y246=6,'+Prices'!$AJ$96+G331-G330,0)","v":265.14999999999998},{"$f":"IF(Z246=6,'+Prices'!$AJ$96+H331-H330,0)","v":0},{"$f":"IF(AA246=6,'+Prices'!$AJ$96+I331-I330,0)","v":265.14999999999998},{"$f":"IF(AB246=6,'+Prices'!$AJ$96+J331-J330,0)","v":0},{"$f":"IF(AC246=6,'+Prices'!$AJ$96+K331-K330,0)","v":262.64999999999998},{"$f":"IF(AD246=6,'+Prices'!$AJ$96+L331-L330,0)","v":0}]
[null,"Cover crop",{"$f":"IF(U246=7,'1.Profile'!$M$7+C331,0)","v":0},{"$f":"IF(V246=7,'1.Profile'!$M$7+D331,0)","v":0},{"$f":"IF(W246=7,'1.Profile'!$M$7+E331,0)","v":0},{"$f":"IF(X246=7,'1.Profile'!$M$7+F331,0)","v":0},{"$f":"IF(Y246=7,'1.Profile'!$M$7+G331,0)","v":0},{"$f":"IF(Z246=7,'1.Profile'!$M$7+H331,0)","v":0},{"$f":"IF(AA246=7,'1.Profile'!$M$7+I331,0)","v":0},{"$f":"IF(AB246=7,'1.Profile'!$M$7+J331,0)","v":0},{"$f":"IF(AC246=7,'1.Profile'!$M$7+K331,0)","v":0},{"$f":"IF(AD246=7,'1.Profile'!$M$7+L331,0)","v":0}]
[null,"Winter Fallow",{"$f":"IF(U246=8,C331+'+Prices'!$F$26,0)","v":0},{"$f":"IF(V246=8,D331+'+Prices'!$F$26,0)","v":12},{"$f":"IF(W246=8,E331+'+Prices'!$F$26,0)","v":0},{"$f":"IF(X246=8,F331+'+Prices'!$F$26,0)","v":12},{"$f":"IF(Y246=8,G331+'+Prices'!$F$26,0)","v":0},{"$f":"IF(Z246=8,H331+'+Prices'!$F$26,0)","v":12},{"$f":"IF(AA246=8,I331+'+Prices'!$F$26,0)","v":0},{"$f":"IF(AB246=8,J331+'+Prices'!$F$26,0)","v":12},{"$f":"IF(AC246=8,K331+'+Prices'!$F$26,0)","v":0},{"$f":"IF(AD246=8,L331+'+Prices'!$F$26,0)","v":12}]
[null,"Summer Fallow",{"$f":"IF(U246=9,C331+'+Prices'!$F$27,0)","v":0},{"$f":"IF(V246=9,D331+'+Prices'!$F$27,0)","v":0},{"$f":"IF(W246=9,E331+'+Prices'!$F$27,0)","v":0},{"$f":"IF(X246=9,F331+'+Prices'!$F$27,0)","v":0},{"$f":"IF(Y246=9,G331+'+Prices'!$F$27,0)","v":0},{"$f":"IF(Z246=9,H331+'+Prices'!$F$27,0)","v":0},{"$f":"IF(AA246=9,I331+'+Prices'!$F$27,0)","v":0},{"$f":"IF(AB246=9,J331+'+Prices'!$F$27,0)","v":0},{"$f":"IF(AC246=9,K331+'+Prices'!$F$27,0)","v":0},{"$f":"IF(AD246=9,L331+'+Prices'!$F$27,0)","v":0}]
[]
[null,"Table 10. RG control after grazing","Proportion of weeds remaining after grazing. When haying, dealt with in the 'Selected RG control' table."]
[null,"Normal grazing, no hay (1=yes, 0 = no)",0,0,0,0,0,0,0,0,0,0]
[null,"Proportion of weeds killed",0,0,0,0,0,0,0,0,0,0]
[null,"High intensity grazing (1=yes, 0 = no)",0,0,0,0,0,0,0,0,0,0]
[null,"Proportion of weeds killed",0,0,0,0,0,0,0,0,0,0]
[null,"Weed proportion remaining after grazing",{"$f":"1-C346-C344","v":1},1,1,1,1,1,1,1,1,1]
[]
[]
[null,"Table 11.  Returns from pastures ($/ha)","From Options, last line feeds into the Eco results."]
[null,"Standard grazing (1=yes, 0 = no)",0,0,0,0,0,0,0,0,0,0]
[null,"Stocking rate (DSE/ha)",0,0,0,0,0,0,0,0,0,0]
[null,"High intensity grazing (1=yes, 0 = no)",0,0,0,0,0,0,0,0,0,0]
[null,"Stocking rate (DSE/ha)",0,0,0,0,0,0,0,0,0,0]
[null,"if hay, silage, g manure (1=yes, 0 = no)",0,0,0,0,0,0,0,0,0,0]
[null,"Stocking rate (DSE/ha)",0,0,0,0,0,0,0,0,0,0]
[null,"if hay, etc - high intensity grazing (1=yes, 0 = no)",0,0,0,0,0,0,0,0,0,0]
[null,"Stocking rate (DSE/ha)",0,0,0,0,0,0,0,0,0,0]
[null,"if hay, etc - NO grazing (1=yes, 0 = no)",0,0,0,0,0,0,0,0,0,0]
[null,"Normal pasture returns",0,0,0,0,0,0,0,0,0,0]
[null,"Total pasture returns ($/ha)",0,0,0,0,0,0,0,0,0,0]
[null,null,null,null,null,null,null,null,null,null,null,null,null,null," "]
[]
[null,"Table 12. Pasture fodder produced (t/ha)","From Options, last line feeds into the Eco results."]
[null,"Clover Standard Grazing - Hay",0,0,0,0,0,0,0,0,0,0]
[null,"Cadiz Standard Grazing - Hay",0,0,0,0,0,0,0,0,0,0]
[null,"Volunt Standard Grazing - Hay",0,0,0,0,0,0,0,0,0,0]
[null,"Clover High Grazing - Hay",0,0,0,0,0,0,0,0,0,0]
[null,"Cadiz High Grazing - Hay",0,0,0,0,0,0,0,0,0,0]
[null,"Volunt High Grazing - Hay",0,0,0,0,0,0,0,0,0,0]
[null,"Clover NO Grazing - Hay",0,0,0,0,0,0,0,0,0,0]
[null,"Cadiz NO Grazing - Hay",0,0,0,0,0,0,0,0,0,0]
[null,"Volunt NO Grazing - Hay",0,0,0,0,0,0,0,0,0,0]
[null,"Normal Pasture Hay",0,0,0,0,0,0,0,0,0,0]
[null,"Sum Pasture Hay",0,0,0,0,0,0,0,0,0,0]
[]
[]
[null,"Table 13. HWSM Machinery repayments","If the harvest machinery is used once then the cost is included for the specified number of years."]
[null,"Harvest: Cart+B.",{"$f":"(IF((ISERROR(FIND('2.Strategy'!D$4,'2.Strategy'!$AV$18,1))=TRUE),IF(C53<>\"\",1,0),0))","v":0},{"$f":"(IF((ISERROR(FIND('2.Strategy'!E$4,'2.Strategy'!$AV$18,1))=TRUE),IF(D53<>\"\",1,0),0))","v":0},{"$f":"(IF((ISERROR(FIND('2.Strategy'!F$4,'2.Strategy'!$AV$18,1))=TRUE),IF(E53<>\"\",1,0),0))","v":0},{"$f":"(IF((ISERROR(FIND('2.Strategy'!G$4,'2.Strategy'!$AV$18,1))=TRUE),IF(F53<>\"\",1,0),0))","v":0},{"$f":"(IF((ISERROR(FIND('2.Strategy'!H$4,'2.Strategy'!$AV$18,1))=TRUE),IF(G53<>\"\",1,0),0))","v":0},{"$f":"(IF((ISERROR(FIND('2.Strategy'!I$4,'2.Strategy'!$AV$18,1))=TRUE),IF(H53<>\"\",1,0),0))","v":0},{"$f":"(IF((ISERROR(FIND('2.Strategy'!J$4,'2.Strategy'!$AV$18,1))=TRUE),IF(I53<>\"\",1,0),0))","v":0},{"$f":"(IF((ISERROR(FIND('2.Strategy'!K$4,'2.Strategy'!$AV$18,1))=TRUE),IF(J53<>\"\",1,0),0))","v":0},{"$f":"(IF((ISERROR(FIND('2.Strategy'!L$4,'2.Strategy'!$AV$18,1))=TRUE),IF(K53<>\"\",1,0),0))","v":0},{"$f":"(IF((ISERROR(FIND('2.Strategy'!M$4,'2.Strategy'!$AV$18,1))=TRUE),IF(L53<>\"\",1,0),0))","v":0}]
[null,"Harvest: Narr+B.",{"$f":"(IF((ISERROR(FIND('2.Strategy'!D$4,'2.Strategy'!$AV$18,1))=TRUE),IF(C54<>\"\",1,0),0))","v":0},{"$f":"(IF((ISERROR(FIND('2.Strategy'!E$4,'2.Strategy'!$AV$18,1))=TRUE),IF(D54<>\"\",1,0),0))","v":0},{"$f":"(IF((ISERROR(FIND('2.Strategy'!F$4,'2.Strategy'!$AV$18,1))=TRUE),IF(E54<>\"\",1,0),0))","v":0},{"$f":"(IF((ISERROR(FIND('2.Strategy'!G$4,'2.Strategy'!$AV$18,1))=TRUE),IF(F54<>\"\",1,0),0))","v":0},{"$f":"(IF((ISERROR(FIND('2.Strategy'!H$4,'2.Strategy'!$AV$18,1))=TRUE),IF(G54<>\"\",1,0),0))","v":0},{"$f":"(IF((ISERROR(FIND('2.Strategy'!I$4,'2.Strategy'!$AV$18,1))=TRUE),IF(H54<>\"\",1,0),0))","v":0},{"$f":"(IF((ISERROR(FIND('2.Strategy'!J$4,'2.Strategy'!$AV$18,1))=TRUE),IF(I54<>\"\",1,0),0))","v":0},{"$f":"(IF((ISERROR(FIND('2.Strategy'!K$4,'2.Strategy'!$AV$18,1))=TRUE),IF(J54<>\"\",1,0),0))","v":0},{"$f":"(IF((ISERROR(FIND('2.Strategy'!L$4,'2.Strategy'!$AV$18,1))=TRUE),IF(K54<>\"\",1,0),0))","v":0},{"$f":"(IF((ISERROR(FIND('2.Strategy'!M$4,'2.Strategy'!$AV$18,1))=TRUE),IF(L54<>\"\",1,0),0))","v":0}]
[null,"Harvest: HSD",{"$f":"(IF((ISERROR(FIND('2.Strategy'!D$4,'2.Strategy'!$AV$18,1))=TRUE),IF(C55<>\"\",1,0),0))","v":0},{"$f":"(IF((ISERROR(FIND('2.Strategy'!E$4,'2.Strategy'!$AV$18,1))=TRUE),IF(D55<>\"\",1,0),0))","v":0},{"$f":"(IF((ISERROR(FIND('2.Strategy'!F$4,'2.Strategy'!$AV$18,1))=TRUE),IF(E55<>\"\",1,0),0))","v":0},{"$f":"(IF((ISERROR(FIND('2.Strategy'!G$4,'2.Strategy'!$AV$18,1))=TRUE),IF(F55<>\"\",1,0),0))","v":0},{"$f":"(IF((ISERROR(FIND('2.Strategy'!H$4,'2.Strategy'!$AV$18,1))=TRUE),IF(G55<>\"\",1,0),0))","v":0},{"$f":"(IF((ISERROR(FIND('2.Strategy'!I$4,'2.Strategy'!$AV$18,1))=TRUE),IF(H55<>\"\",1,0),0))","v":0},{"$f":"(IF((ISERROR(FIND('2.Strategy'!J$4,'2.Strategy'!$AV$18,1))=TRUE),IF(I55<>\"\",1,0),0))","v":0},{"$f":"(IF((ISERROR(FIND('2.Strategy'!K$4,'2.Strategy'!$AV$18,1))=TRUE),IF(J55<>\"\",1,0),0))","v":0},{"$f":"(IF((ISERROR(FIND('2.Strategy'!L$4,'2.Strategy'!$AV$18,1))=TRUE),IF(K55<>\"\",1,0),0))","v":0},{"$f":"(IF((ISERROR(FIND('2.Strategy'!M$4,'2.Strategy'!$AV$18,1))=TRUE),IF(L55<>\"\",1,0),0))","v":0}]
[null,"Harvest: Tram.",{"$f":"(IF((ISERROR(FIND('2.Strategy'!D$4,'2.Strategy'!$AV$18,1))=TRUE),IF(C56<>\"\",1,0),0))","v":0},{"$f":"(IF((ISERROR(FIND('2.Strategy'!E$4,'2.Strategy'!$AV$18,1))=TRUE),IF(D56<>\"\",1,0),0))","v":0},{"$f":"(IF((ISERROR(FIND('2.Strategy'!F$4,'2.Strategy'!$AV$18,1))=TRUE),IF(E56<>\"\",1,0),0))","v":0},{"$f":"(IF((ISERROR(FIND('2.Strategy'!G$4,'2.Strategy'!$AV$18,1))=TRUE),IF(F56<>\"\",1,0),0))","v":0},{"$f":"(IF((ISERROR(FIND('2.Strategy'!H$4,'2.Strategy'!$AV$18,1))=TRUE),IF(G56<>\"\",1,0),0))","v":0},{"$f":"(IF((ISERROR(FIND('2.Strategy'!I$4,'2.Strategy'!$AV$18,1))=TRUE),IF(H56<>\"\",1,0),0))","v":0},{"$f":"(IF((ISERROR(FIND('2.Strategy'!J$4,'2.Strategy'!$AV$18,1))=TRUE),IF(I56<>\"\",1,0),0))","v":0},{"$f":"(IF((ISERROR(FIND('2.Strategy'!K$4,'2.Strategy'!$AV$18,1))=TRUE),IF(J56<>\"\",1,0),0))","v":0},{"$f":"(IF((ISERROR(FIND('2.Strategy'!L$4,'2.Strategy'!$AV$18,1))=TRUE),IF(K56<>\"\",1,0),0))","v":0},{"$f":"(IF((ISERROR(FIND('2.Strategy'!M$4,'2.Strategy'!$AV$18,1))=TRUE),IF(L56<>\"\",1,0),0))","v":0}]
[null,"Harvest: to specify",{"$f":"(IF((ISERROR(FIND('2.Strategy'!D$4,'2.Strategy'!$AV$18,1))=TRUE),IF(C57<>\"\",1,0),0))","v":0},{"$f":"(IF((ISERROR(FIND('2.Strategy'!E$4,'2.Strategy'!$AV$18,1))=TRUE),IF(D57<>\"\",1,0),0))","v":0},{"$f":"(IF((ISERROR(FIND('2.Strategy'!F$4,'2.Strategy'!$AV$18,1))=TRUE),IF(E57<>\"\",1,0),0))","v":0},{"$f":"(IF((ISERROR(FIND('2.Strategy'!G$4,'2.Strategy'!$AV$18,1))=TRUE),IF(F57<>\"\",1,0),0))","v":0},{"$f":"(IF((ISERROR(FIND('2.Strategy'!H$4,'2.Strategy'!$AV$18,1))=TRUE),IF(G57<>\"\",1,0),0))","v":0},{"$f":"(IF((ISERROR(FIND('2.Strategy'!I$4,'2.Strategy'!$AV$18,1))=TRUE),IF(H57<>\"\",1,0),0))","v":0},{"$f":"(IF((ISERROR(FIND('2.Strategy'!J$4,'2.Strategy'!$AV$18,1))=TRUE),IF(I57<>\"\",1,0),0))","v":0},{"$f":"(IF((ISERROR(FIND('2.Strategy'!K$4,'2.Strategy'!$AV$18,1))=TRUE),IF(J57<>\"\",1,0),0))","v":0},{"$f":"(IF((ISERROR(FIND('2.Strategy'!L$4,'2.Strategy'!$AV$18,1))=TRUE),IF(K57<>\"\",1,0),0))","v":0},{"$f":"(IF((ISERROR(FIND('2.Strategy'!M$4,'2.Strategy'!$AV$18,1))=TRUE),IF(L57<>\"\",1,0),0))","v":0}]
[null,"Harvest: BDS+E.",{"$f":"(IF((ISERROR(FIND('2.Strategy'!D$4,'2.Strategy'!$AV$18,1))=TRUE),IF(C58<>\"\",1,0),0))","v":0},{"$f":"(IF((ISERROR(FIND('2.Strategy'!E$4,'2.Strategy'!$AV$18,1))=TRUE),IF(D58<>\"\",1,0),0))","v":0},{"$f":"(IF((ISERROR(FIND('2.Strategy'!F$4,'2.Strategy'!$AV$18,1))=TRUE),IF(E58<>\"\",1,0),0))","v":0},{"$f":"(IF((ISERROR(FIND('2.Strategy'!G$4,'2.Strategy'!$AV$18,1))=TRUE),IF(F58<>\"\",1,0),0))","v":0},{"$f":"(IF((ISERROR(FIND('2.Strategy'!H$4,'2.Strategy'!$AV$18,1))=TRUE),IF(G58<>\"\",1,0),0))","v":0},{"$f":"(IF((ISERROR(FIND('2.Strategy'!I$4,'2.Strategy'!$AV$18,1))=TRUE),IF(H58<>\"\",1,0),0))","v":0},{"$f":"(IF((ISERROR(FIND('2.Strategy'!J$4,'2.Strategy'!$AV$18,1))=TRUE),IF(I58<>\"\",1,0),0))","v":0},{"$f":"(IF((ISERROR(FIND('2.Strategy'!K$4,'2.Strategy'!$AV$18,1))=TRUE),IF(J58<>\"\",1,0),0))","v":0},{"$f":"(IF((ISERROR(FIND('2.Strategy'!L$4,'2.Strategy'!$AV$18,1))=TRUE),IF(K58<>\"\",1,0),0))","v":0},{"$f":"(IF((ISERROR(FIND('2.Strategy'!M$4,'2.Strategy'!$AV$18,1))=TRUE),IF(L58<>\"\",1,0),0))","v":0}]
[null,"Age of: Chaff cart system (burning dumps)",{"$f":"IF(C379=1,1,0)","v":0},{"$f":"IF(C385>0,C385+1,IF(D379=1,1,0))","v":0},0,0,0,0,0,0,0,0]
[null,"Age of: Narrow windrows burning system",0,{"$f":"IF(C386>0,C386+1,IF(D380=1,1,0))","v":0},0,0,0,0,0,0,0,0]
[null,"Age of: HSD - Harrington seed destructor",0,0,0,0,0,0,0,0,0,0]
[null,"Age of: Chaff-tramlining",0,0,0,0,0,0,0,0,0,0]
[null,"Age of: to specify, baling for stock feed",0,0,0,0,0,0,0,0,0,0]
[null,"Age of: BDS - Bale direct system",0,0,0,0,0,0,0,0,0,0]
[null,"Machinery repayments (from '+Prices', goes to 'Eco results')",{"$f":"IF(AND(Calcs!C385<('+Prices'!$O$37+1),Calcs!C385>0),'+Prices'!$AR$72,0)+IF(AND(Calcs!C387<('+Prices'!$O$37+1),Calcs!C387>0),'+Prices'!$AR$74,0)+IF(AND(Calcs!C388<('+Prices'!$O$37+1),Calcs!C388>0),'+Prices'!$AR$75,0)+IF(AND(Calcs!C389<('+Prices'!$O$37+1),Calcs!C389>0),'+Prices'!$AR$76,0)+IF(AND(Calcs!C390<('+Prices'!$O$37+1),Calcs!C390>0),'+Prices'!$AR$77,0)+IF(AND(Calcs!C386<('+Prices'!$O$37+1),Calcs!C386>0),'+Prices'!$AR$73,0)","v":0},{"$f":"IF(AND(Calcs!D385<('+Prices'!$O$37+1),Calcs!D385>0),'+Prices'!$AR$72,0)+IF(AND(Calcs!D387<('+Prices'!$O$37+1),Calcs!D387>0),'+Prices'!$AR$74,0)+IF(AND(Calcs!D388<('+Prices'!$O$37+1),Calcs!D388>0),'+Prices'!$AR$75,0)+IF(AND(Calcs!D389<('+Prices'!$O$37+1),Calcs!D389>0),'+Prices'!$AR$76,0)+IF(AND(Calcs!D390<('+Prices'!$O$37+1),Calcs!D390>0),'+Prices'!$AR$77,0)+IF(AND(Calcs!D386<('+Prices'!$O$37+1),Calcs!D386>0),'+Prices'!$AR$73,0)","v":0},{"$f":"IF(AND(Calcs!E385<('+Prices'!$O$37+1),Calcs!E385>0),'+Prices'!$AR$72,0)+IF(AND(Calcs!E387<('+Prices'!$O$37+1),Calcs!E387>0),'+Prices'!$AR$74,0)+IF(AND(Calcs!E388<('+Prices'!$O$37+1),Calcs!E388>0),'+Prices'!$AR$75,0)+IF(AND(Calcs!E389<('+Prices'!$O$37+1),Calcs!E389>0),'+Prices'!$AR$76,0)+IF(AND(Calcs!E390<('+Prices'!$O$37+1),Calcs!E390>0),'+Prices'!$AR$77,0)+IF(AND(Calcs!E386<('+Prices'!$O$37+1),Calcs!E386>0),'+Prices'!$AR$73,0)","v":0},{"$f":"IF(AND(Calcs!F385<('+Prices'!$O$37+1),Calcs!F385>0),'+Prices'!$AR$72,0)+IF(AND(Calcs!F387<('+Prices'!$O$37+1),Calcs!F387>0),'+Prices'!$AR$74,0)+IF(AND(Calcs!F388<('+Prices'!$O$37+1),Calcs!F388>0),'+Prices'!$AR$75,0)+IF(AND(Calcs!F389<('+Prices'!$O$37+1),Calcs!F389>0),'+Prices'!$AR$76,0)+IF(AND(Calcs!F390<('+Prices'!$O$37+1),Calcs!F390>0),'+Prices'!$AR$77,0)+IF(AND(Calcs!F386<('+Prices'!$O$37+1),Calcs!F386>0),'+Prices'!$AR$73,0)","v":0},{"$f":"IF(AND(Calcs!G385<('+Prices'!$O$37+1),Calcs!G385>0),'+Prices'!$AR$72,0)+IF(AND(Calcs!G387<('+Prices'!$O$37+1),Calcs!G387>0),'+Prices'!$AR$74,0)+IF(AND(Calcs!G388<('+Prices'!$O$37+1),Calcs!G388>0),'+Prices'!$AR$75,0)+IF(AND(Calcs!G389<('+Prices'!$O$37+1),Calcs!G389>0),'+Prices'!$AR$76,0)+IF(AND(Calcs!G390<('+Prices'!$O$37+1),Calcs!G390>0),'+Prices'!$AR$77,0)+IF(AND(Calcs!G386<('+Prices'!$O$37+1),Calcs!G386>0),'+Prices'!$AR$73,0)","v":0},{"$f":"IF(AND(Calcs!H385<('+Prices'!$O$37+1),Calcs!H385>0),'+Prices'!$AR$72,0)+IF(AND(Calcs!H387<('+Prices'!$O$37+1),Calcs!H387>0),'+Prices'!$AR$74,0)+IF(AND(Calcs!H388<('+Prices'!$O$37+1),Calcs!H388>0),'+Prices'!$AR$75,0)+IF(AND(Calcs!H389<('+Prices'!$O$37+1),Calcs!H389>0),'+Prices'!$AR$76,0)+IF(AND(Calcs!H390<('+Prices'!$O$37+1),Calcs!H390>0),'+Prices'!$AR$77,0)+IF(AND(Calcs!H386<('+Prices'!$O$37+1),Calcs!H386>0),'+Prices'!$AR$73,0)","v":0},{"$f":"IF(AND(Calcs!I385<('+Prices'!$O$37+1),Calcs!I385>0),'+Prices'!$AR$72,0)+IF(AND(Calcs!I387<('+Prices'!$O$37+1),Calcs!I387>0),'+Prices'!$AR$74,0)+IF(AND(Calcs!I388<('+Prices'!$O$37+1),Calcs!I388>0),'+Prices'!$AR$75,0)+IF(AND(Calcs!I389<('+Prices'!$O$37+1),Calcs!I389>0),'+Prices'!$AR$76,0)+IF(AND(Calcs!I390<('+Prices'!$O$37+1),Calcs!I390>0),'+Prices'!$AR$77,0)+IF(AND(Calcs!I386<('+Prices'!$O$37+1),Calcs!I386>0),'+Prices'!$AR$73,0)","v":0},{"$f":"IF(AND(Calcs!J385<('+Prices'!$O$37+1),Calcs!J385>0),'+Prices'!$AR$72,0)+IF(AND(Calcs!J387<('+Prices'!$O$37+1),Calcs!J387>0),'+Prices'!$AR$74,0)+IF(AND(Calcs!J388<('+Prices'!$O$37+1),Calcs!J388>0),'+Prices'!$AR$75,0)+IF(AND(Calcs!J389<('+Prices'!$O$37+1),Calcs!J389>0),'+Prices'!$AR$76,0)+IF(AND(Calcs!J390<('+Prices'!$O$37+1),Calcs!J390>0),'+Prices'!$AR$77,0)+IF(AND(Calcs!J386<('+Prices'!$O$37+1),Calcs!J386>0),'+Prices'!$AR$73,0)","v":0},{"$f":"IF(AND(Calcs!K385<('+Prices'!$O$37+1),Calcs!K385>0),'+Prices'!$AR$72,0)+IF(AND(Calcs!K387<('+Prices'!$O$37+1),Calcs!K387>0),'+Prices'!$AR$74,0)+IF(AND(Calcs!K388<('+Prices'!$O$37+1),Calcs!K388>0),'+Prices'!$AR$75,0)+IF(AND(Calcs!K389<('+Prices'!$O$37+1),Calcs!K389>0),'+Prices'!$AR$76,0)+IF(AND(Calcs!K390<('+Prices'!$O$37+1),Calcs!K390>0),'+Prices'!$AR$77,0)+IF(AND(Calcs!K386<('+Prices'!$O$37+1),Calcs!K386>0),'+Prices'!$AR$73,0)","v":0},{"$f":"IF(AND(Calcs!L385<('+Prices'!$O$37+1),Calcs!L385>0),'+Prices'!$AR$72,0)+IF(AND(Calcs!L387<('+Prices'!$O$37+1),Calcs!L387>0),'+Prices'!$AR$74,0)+IF(AND(Calcs!L388<('+Prices'!$O$37+1),Calcs!L388>0),'+Prices'!$AR$75,0)+IF(AND(Calcs!L389<('+Prices'!$O$37+1),Calcs!L389>0),'+Prices'!$AR$76,0)+IF(AND(Calcs!L390<('+Prices'!$O$37+1),Calcs!L390>0),'+Prices'!$AR$77,0)+IF(AND(Calcs!L386<('+Prices'!$O$37+1),Calcs!L386>0),'+Prices'!$AR$73,0)","v":0},null,null," "]
[]
[]
[null,"Table 14. Inflation factors","Feeds into the Eco results page."]
[null,"Increase of potential crop yield",{"$f":"1*(1+'+Prices'!$AV68)","v":1.01},{"$f":"C395*(1+'+Prices'!$AV68)","v":1.0201},{"$f":"D395*(1+'+Prices'!$AV68)","v":1.0303009999999999},{"$f":"E395*(1+'+Prices'!$AV68)","v":1.04060401},{"$f":"F395*(1+'+Prices'!$AV68)","v":1.0510100500999999},{"$f":"G395*(1+'+Prices'!$AV68)","v":1.0615201506009999},{"$f":"H395*(1+'+Prices'!$AV68)","v":1.0721353521070098},{"$f":"I395*(1+'+Prices'!$AV68)","v":1.08285670562808},{"$f":"J395*(1+'+Prices'!$AV68)","v":1.0936852726843609},{"$f":"K395*(1+'+Prices'!$AV68)","v":1.1046221254112045}]
[null,"Increase of sheep/pasture productivity",{"$f":"1*(1+'+Prices'!$AV69)","v":1.0049999999999999},{"$f":"C396*(1+'+Prices'!$AV69)","v":1.0100249999999997},{"$f":"D396*(1+'+Prices'!$AV69)","v":1.0150751249999996},{"$f":"E396*(1+'+Prices'!$AV69)","v":1.0201505006249996},{"$f":"F396*(1+'+Prices'!$AV69)","v":1.0252512531281244},{"$f":"G396*(1+'+Prices'!$AV69)","v":1.0303775093937648},{"$f":"H396*(1+'+Prices'!$AV69)","v":1.0355293969407335},{"$f":"I396*(1+'+Prices'!$AV69)","v":1.0407070439254371},{"$f":"J396*(1+'+Prices'!$AV69)","v":1.0459105791450642},{"$f":"K396*(1+'+Prices'!$AV69)","v":1.0511401320407894}]
[null,"Inflation for crop sale prices",{"$f":"1*(1+'+Prices'!$AV70)","v":1.01},{"$f":"C397*(1+'+Prices'!$AV70)","v":1.0201},{"$f":"D397*(1+'+Prices'!$AV70)","v":1.0303009999999999},{"$f":"E397*(1+'+Prices'!$AV70)","v":1.04060401},{"$f":"F397*(1+'+Prices'!$AV70)","v":1.0510100500999999},{"$f":"G397*(1+'+Prices'!$AV70)","v":1.0615201506009999},{"$f":"H397*(1+'+Prices'!$AV70)","v":1.0721353521070098},{"$f":"I397*(1+'+Prices'!$AV70)","v":1.08285670562808},{"$f":"J397*(1+'+Prices'!$AV70)","v":1.0936852726843609},{"$f":"K397*(1+'+Prices'!$AV70)","v":1.1046221254112045}]
[null,"Inflation for sheep product prices",{"$f":"1*(1+'+Prices'!$AV71)","v":1.0049999999999999},{"$f":"C398*(1+'+Prices'!$AV71)","v":1.0100249999999997},{"$f":"D398*(1+'+Prices'!$AV71)","v":1.0150751249999996},{"$f":"E398*(1+'+Prices'!$AV71)","v":1.0201505006249996},{"$f":"F398*(1+'+Prices'!$AV71)","v":1.0252512531281244},{"$f":"G398*(1+'+Prices'!$AV71)","v":1.0303775093937648},{"$f":"H398*(1+'+Prices'!$AV71)","v":1.0355293969407335},{"$f":"I398*(1+'+Prices'!$AV71)","v":1.0407070439254371},{"$f":"J398*(1+'+Prices'!$AV71)","v":1.0459105791450642},{"$f":"K398*(1+'+Prices'!$AV71)","v":1.0511401320407894}]
[null,"Inflation for input costs",{"$f":"1*(1+'+Prices'!$AV72)","v":1.03},{"$f":"C399*(1+'+Prices'!$AV72)","v":1.0609},{"$f":"D399*(1+'+Prices'!$AV72)","v":1.092727},{"$f":"E399*(1+'+Prices'!$AV72)","v":1.1255088100000001},{"$f":"F399*(1+'+Prices'!$AV72)","v":1.1592740743000001},{"$f":"G399*(1+'+Prices'!$AV72)","v":1.1940522965290001},{"$f":"H399*(1+'+Prices'!$AV72)","v":1.2298738654248702},{"$f":"I399*(1+'+Prices'!$AV72)","v":1.2667700813876164},{"$f":"J399*(1+'+Prices'!$AV72)","v":1.3047731838292449},{"$f":"K399*(1+'+Prices'!$AV72)","v":1.3439163793441222}]
[]
[]
[null,"Table 15. Competition functions","Showing yields at different weed densities. Used to generate the competition chart that illustrates RIM bio parameters (does not feed anywhere)"]
[null,"Weed density","Winter Crop","Winter Crop","Sorghum","Sorghum","Cotton","Cotton","Legumes","Legumes"]
[null," ->",{"$f":"'+Options'!AG58","v":70.945945945945951},{"$f":"'+Options'!AG59","v":94.594594594594582},{"$f":"'+Options'!AH58","v":6.4285714285714288},{"$f":"'+Options'!AH59","v":8},{"$f":"'+Options'!AK58","v":2.6842105263157894},{"$f":"'+Options'!AK59","v":3.4526315789473681},{"$f":"'+Options'!AL58","v":3.84},{"$f":"'+Options'!AL59","v":4.8000000000000007},null,"Winter Crop (high density)"]
[null,"Crop density","Standard ","High ","Standard ","High ","Standard ","High ","Standard ","High ",null,"Winter Crop"]
[null,0,{"$f":"(1+'+Options'!$AG$88/'+Options'!$AG$87)*C$404/('+Options'!$AG$88+C$404+'+Options'!$AG$135*$B406)*'+Options'!$AG$85+(1-'+Options'!$AG$85)","v":0.983637981235846},{"$f":"(1+'+Options'!$AG$88/'+Options'!$AG$87)*D$404/('+Options'!$AG$88+D$404+'+Options'!$AG$135*$B406)*'+Options'!$AG$85+(1-'+Options'!$AG$85)","v":0.99507832737140745},{"$f":"(1+'+Options'!$AH$88/'+Options'!$AH$87)*E$404/('+Options'!$AH$88+E$404+'+Options'!$AG$136*$B406)*'+Options'!$AH$85+(1-'+Options'!$AH$85)","v":0.80235109717868336},{"$f":"(1+'+Options'!$AH$88/'+Options'!$AH$87)*F$404/('+Options'!$AH$88+F$404+'+Options'!$AG$136*$B406)*'+Options'!$AH$85+(1-'+Options'!$AH$85)","v":0.83250783699059561},{"$f":"(1+'+Options'!$AK$88/'+Options'!$AK$87)*G$404/('+Options'!$AK$88+G$404+'+Options'!$AG$137*$B406)*'+Options'!$AK$85+(1-'+Options'!$AK$85)","v":0.68919540229885057},{"$f":"(1+'+Options'!$AK$88/'+Options'!$AK$87)*H$404/('+Options'!$AK$88+H$404+'+Options'!$AG$137*$B406)*'+Options'!$AK$85+(1-'+Options'!$AK$85)","v":0.72768633627721213},{"$f":"(1+'+Options'!$AL$88/'+Options'!$AL$87)*I$404/('+Options'!$AL$88+I$404+'+Options'!$AG$138*$B406)*'+Options'!$AL$85+(1-'+Options'!$AL$85)","v":0.39943925233644861},{"$f":"(1+'+Options'!$AL$88/'+Options'!$AL$87)*J$404/('+Options'!$AL$88+J$404+'+Options'!$AG$138*$B406)*'+Options'!$AL$85+(1-'+Options'!$AL$85)","v":0.44826086956521743},null,{"$f":"D406","v":0.99507832737140745}]
[null,50,{"$f":"(1+'+Options'!$AG$88/'+Options'!$AG$87)*C$404/('+Options'!$AG$88+C$404+'+Options'!$AG$135*$B407)*'+Options'!$AG$85+(1-'+Options'!$AG$85)","v":0.86162044358214507},{"$f":"(1+'+Options'!$AG$88/'+Options'!$AG$87)*D$404/('+Options'!$AG$88+D$404+'+Options'!$AG$135*$B407)*'+Options'!$AG$85+(1-'+Options'!$AG$85)","v":0.89628998634935075},{"$f":"(1+'+Options'!$AH$88/'+Options'!$AH$87)*E$404/('+Options'!$AH$88+E$404+'+Options'!$AG$136*$B407)*'+Options'!$AH$85+(1-'+Options'!$AH$85)","v":0.60194238323876037},{"$f":"(1+'+Options'!$AH$88/'+Options'!$AH$87)*F$404/('+Options'!$AH$88+F$404+'+Options'!$AG$136*$B407)*'+Options'!$AH$85+(1-'+Options'!$AH$85)","v":0.63689655172413784},{"$f":"(1+'+Options'!$AK$88/'+Options'!$AK$87)*G$404/('+Options'!$AK$88+G$404+'+Options'!$AG$137*$B407)*'+Options'!$AK$85+(1-'+Options'!$AK$85)","v":0.55385765245456087},{"$f":"(1+'+Options'!$AK$88/'+Options'!$AK$87)*H$404/('+Options'!$AK$88+H$404+'+Options'!$AG$137*$B407)*'+Options'!$AK$85+(1-'+Options'!$AK$85)","v":0.58462474645030427},{"$f":"(1+'+Options'!$AL$88/'+Options'!$AL$87)*I$404/('+Options'!$AL$88+I$404+'+Options'!$AG$138*$B407)*'+Options'!$AL$85+(1-'+Options'!$AL$85)","v":0.25172849250197316},{"$f":"(1+'+Options'!$AL$88/'+Options'!$AL$87)*J$404/('+Options'!$AL$88+J$404+'+Options'!$AG$138*$B407)*'+Options'!$AL$85+(1-'+Options'!$AL$85)","v":0.28273764258555134},null,0.89628998634935075]
[null,100,{"$f":"(1+'+Options'!$AG$88/'+Options'!$AG$87)*C$404/('+Options'!$AG$88+C$404+'+Options'!$AG$135*$B408)*'+Options'!$AG$85+(1-'+Options'!$AG$85)","v":0.77656232380866475},{"$f":"(1+'+Options'!$AG$88/'+Options'!$AG$87)*D$404/('+Options'!$AG$88+D$404+'+Options'!$AG$135*$B408)*'+Options'!$AG$85+(1-'+Options'!$AG$85)","v":0.8220879813215729},{"$f":"(1+'+Options'!$AH$88/'+Options'!$AH$87)*E$404/('+Options'!$AH$88+E$404+'+Options'!$AG$136*$B408)*'+Options'!$AH$85+(1-'+Options'!$AH$85)","v":0.52459165154264975},{"$f":"(1+'+Options'!$AH$88/'+Options'!$AH$87)*F$404/('+Options'!$AH$88+F$404+'+Options'!$AG$136*$B408)*'+Options'!$AH$85+(1-'+Options'!$AH$85)","v":0.55413793103448272},{"$f":"(1+'+Options'!$AK$88/'+Options'!$AK$87)*G$404/('+Options'!$AK$88+G$404+'+Options'!$AG$137*$B408)*'+Options'!$AK$85+(1-'+Options'!$AK$85)","v":0.50480907197408009},{"$f":"(1+'+Options'!$AK$88/'+Options'!$AK$87)*H$404/('+Options'!$AK$88+H$404+'+Options'!$AG$137*$B408)*'+Options'!$AK$85+(1-'+Options'!$AK$85)","v":0.52851677807929054},{"$f":"(1+'+Options'!$AL$88/'+Options'!$AL$87)*I$404/('+Options'!$AL$88+I$404+'+Options'!$AG$138*$B408)*'+Options'!$AL$85+(1-'+Options'!$AL$85)","v":0.20160676532769553},{"$f":"(1+'+Options'!$AL$88/'+Options'!$AL$87)*J$404/('+Options'!$AL$88+J$404+'+Options'!$AG$138*$B408)*'+Options'!$AL$85+(1-'+Options'!$AL$85)","v":0.22386597938144331},null,0.8220879813215729]
[null,150,{"$f":"(1+'+Options'!$AG$88/'+Options'!$AG$87)*C$404/('+Options'!$AG$88+C$404+'+Options'!$AG$135*$B409)*'+Options'!$AG$85+(1-'+Options'!$AG$85)","v":0.71387972148502155},{"$f":"(1+'+Options'!$AG$88/'+Options'!$AG$87)*D$404/('+Options'!$AG$88+D$404+'+Options'!$AG$135*$B409)*'+Options'!$AG$85+(1-'+Options'!$AG$85)","v":0.76430955068678252},{"$f":"(1+'+Options'!$AH$88/'+Options'!$AH$87)*E$404/('+Options'!$AH$88+E$404+'+Options'!$AG$136*$B409)*'+Options'!$AH$85+(1-'+Options'!$AH$85)","v":0.48358018977088635},{"$f":"(1+'+Options'!$AH$88/'+Options'!$AH$87)*F$404/('+Options'!$AH$88+F$404+'+Options'!$AG$136*$B409)*'+Options'!$AH$85+(1-'+Options'!$AH$85)","v":0.50843540916109109},{"$f":"(1+'+Options'!$AK$88/'+Options'!$AK$87)*G$404/('+Options'!$AK$88+G$404+'+Options'!$AG$137*$B409)*'+Options'!$AK$85+(1-'+Options'!$AK$85)","v":0.47947354566991318},{"$f":"(1+'+Options'!$AK$88/'+Options'!$AK$87)*H$404/('+Options'!$AK$88+H$404+'+Options'!$AG$137*$B409)*'+Options'!$AK$85+(1-'+Options'!$AK$85)","v":0.49856316199113399},{"$f":"(1+'+Options'!$AL$88/'+Options'!$AL$87)*I$404/('+Options'!$AL$88+I$404+'+Options'!$AG$138*$B409)*'+Options'!$AL$85+(1-'+Options'!$AL$85)","v":0.17637663885578067},{"$f":"(1+'+Options'!$AL$88/'+Options'!$AL$87)*J$404/('+Options'!$AL$88+J$404+'+Options'!$AG$138*$B409)*'+Options'!$AL$85+(1-'+Options'!$AL$85)","v":0.19368421052631579},null,0.76430955068678252]
[null,200,{"$f":"(1+'+Options'!$AG$88/'+Options'!$AG$87)*C$404/('+Options'!$AG$88+C$404+'+Options'!$AG$135*$B410)*'+Options'!$AG$85+(1-'+Options'!$AG$85)","v":0.6657697500519284},{"$f":"(1+'+Options'!$AG$88/'+Options'!$AG$87)*D$404/('+Options'!$AG$88+D$404+'+Options'!$AG$135*$B410)*'+Options'!$AG$85+(1-'+Options'!$AG$85)","v":0.71804531358962564},{"$f":"(1+'+Options'!$AH$88/'+Options'!$AH$87)*E$404/('+Options'!$AH$88+E$404+'+Options'!$AG$136*$B410)*'+Options'!$AH$85+(1-'+Options'!$AH$85)","v":0.45817091454272862},{"$f":"(1+'+Options'!$AH$88/'+Options'!$AH$87)*F$404/('+Options'!$AH$88+F$404+'+Options'!$AG$136*$B410)*'+Options'!$AH$85+(1-'+Options'!$AH$85)","v":0.47945332211942804},{"$f":"(1+'+Options'!$AK$88/'+Options'!$AK$87)*G$404/('+Options'!$AK$88+G$404+'+Options'!$AG$137*$B410)*'+Options'!$AK$85+(1-'+Options'!$AK$85)","v":0.46400226116449972},{"$f":"(1+'+Options'!$AK$88/'+Options'!$AK$87)*H$404/('+Options'!$AK$88+H$404+'+Options'!$AG$137*$B410)*'+Options'!$AK$85+(1-'+Options'!$AK$85)","v":0.47993303785830921},{"$f":"(1+'+Options'!$AL$88/'+Options'!$AL$87)*I$404/('+Options'!$AL$88+I$404+'+Options'!$AG$138*$B410)*'+Options'!$AL$85+(1-'+Options'!$AL$85)","v":0.16118395926161677},{"$f":"(1+'+Options'!$AL$88/'+Options'!$AL$87)*J$404/('+Options'!$AL$88+J$404+'+Options'!$AG$138*$B410)*'+Options'!$AL$85+(1-'+Options'!$AL$85)","v":0.17532915360501566},null,0.71804531358962564]
[null,300,{"$f":"(1+'+Options'!$AG$88/'+Options'!$AG$87)*C$404/('+Options'!$AG$88+C$404+'+Options'!$AG$135*$B411)*'+Options'!$AG$85+(1-'+Options'!$AG$85)","v":0.59677471454854436},{"$f":"(1+'+Options'!$AG$88/'+Options'!$AG$87)*D$404/('+Options'!$AG$88+D$404+'+Options'!$AG$135*$B411)*'+Options'!$AG$85+(1-'+Options'!$AG$85)","v":0.64857970010392441},{"$f":"(1+'+Options'!$AH$88/'+Options'!$AH$87)*E$404/('+Options'!$AH$88+E$404+'+Options'!$AG$136*$B411)*'+Options'!$AH$85+(1-'+Options'!$AH$85)","v":0.42836003258213412},{"$f":"(1+'+Options'!$AH$88/'+Options'!$AH$87)*F$404/('+Options'!$AH$88+F$404+'+Options'!$AG$136*$B411)*'+Options'!$AH$85+(1-'+Options'!$AH$85)","v":0.44477832512315268},{"$f":"(1+'+Options'!$AK$88/'+Options'!$AK$87)*G$404/('+Options'!$AK$88+G$404+'+Options'!$AG$137*$B411)*'+Options'!$AK$85+(1-'+Options'!$AK$85)","v":0.44606652425999394},{"$f":"(1+'+Options'!$AK$88/'+Options'!$AK$87)*H$404/('+Options'!$AK$88+H$404+'+Options'!$AG$137*$B411)*'+Options'!$AK$85+(1-'+Options'!$AK$85)","v":0.45800511814551864},{"$f":"(1+'+Options'!$AL$88/'+Options'!$AL$87)*I$404/('+Options'!$AL$88+I$404+'+Options'!$AG$138*$B411)*'+Options'!$AL$85+(1-'+Options'!$AL$85)","v":0.14377049180327867},{"$f":"(1+'+Options'!$AL$88/'+Options'!$AL$87)*J$404/('+Options'!$AL$88+J$404+'+Options'!$AG$138*$B411)*'+Options'!$AL$85+(1-'+Options'!$AL$85)","v":0.1541216216216216},null,0.64857970010392441]
[null,400,{"$f":"(1+'+Options'!$AG$88/'+Options'!$AG$87)*C$404/('+Options'!$AG$88+C$404+'+Options'!$AG$135*$B412)*'+Options'!$AG$85+(1-'+Options'!$AG$85)","v":0.54967802537987098},{"$f":"(1+'+Options'!$AG$88/'+Options'!$AG$87)*D$404/('+Options'!$AG$88+D$404+'+Options'!$AG$135*$B412)*'+Options'!$AG$85+(1-'+Options'!$AG$85)","v":0.59891044886960398},{"$f":"(1+'+Options'!$AH$88/'+Options'!$AH$87)*E$404/('+Options'!$AH$88+E$404+'+Options'!$AG$136*$B412)*'+Options'!$AH$85+(1-'+Options'!$AH$85)","v":0.4114303959131545},{"$f":"(1+'+Options'!$AH$88/'+Options'!$AH$87)*F$404/('+Options'!$AH$88+F$404+'+Options'!$AG$136*$B412)*'+Options'!$AH$85+(1-'+Options'!$AH$85)","v":0.42475473530840213},{"$f":"(1+'+Options'!$AK$88/'+Options'!$AK$87)*G$404/('+Options'!$AK$88+G$404+'+Options'!$AG$137*$B412)*'+Options'!$AK$85+(1-'+Options'!$AK$85)","v":0.43598283807405053},{"$f":"(1+'+Options'!$AK$88/'+Options'!$AK$87)*H$404/('+Options'!$AK$88+H$404+'+Options'!$AG$137*$B412)*'+Options'!$AK$85+(1-'+Options'!$AK$85)","v":0.44551817904779767},{"$f":"(1+'+Options'!$AL$88/'+Options'!$AL$87)*I$404/('+Options'!$AL$88+I$404+'+Options'!$AG$138*$B412)*'+Options'!$AL$85+(1-'+Options'!$AL$85)","v":0.13407302375044308},{"$f":"(1+'+Options'!$AL$88/'+Options'!$AL$87)*J$404/('+Options'!$AL$88+J$404+'+Options'!$AG$138*$B412)*'+Options'!$AL$85+(1-'+Options'!$AL$85)","v":0.14223198594024603},null,0.59891044886960398]
[null,500,{"$f":"(1+'+Options'!$AG$88/'+Options'!$AG$87)*C$404/('+Options'!$AG$88+C$404+'+Options'!$AG$135*$B413)*'+Options'!$AG$85+(1-'+Options'!$AG$85)","v":0.51548207821342995},{"$f":"(1+'+Options'!$AG$88/'+Options'!$AG$87)*D$404/('+Options'!$AG$88+D$404+'+Options'!$AG$135*$B413)*'+Options'!$AG$85+(1-'+Options'!$AG$85)","v":0.56163060637013651},{"$f":"(1+'+Options'!$AH$88/'+Options'!$AH$87)*E$404/('+Options'!$AH$88+E$404+'+Options'!$AG$136*$B413)*'+Options'!$AH$85+(1-'+Options'!$AH$85)","v":0.400516366182391},{"$f":"(1+'+Options'!$AH$88/'+Options'!$AH$87)*F$404/('+Options'!$AH$88+F$404+'+Options'!$AG$136*$B413)*'+Options'!$AH$85+(1-'+Options'!$AH$85)","v":0.41171611868484359},{"$f":"(1+'+Options'!$AK$88/'+Options'!$AK$87)*G$404/('+Options'!$AK$88+G$404+'+Options'!$AG$137*$B413)*'+Options'!$AK$85+(1-'+Options'!$AK$85)","v":0.42952089172804903},{"$f":"(1+'+Options'!$AK$88/'+Options'!$AK$87)*H$404/('+Options'!$AK$88+H$404+'+Options'!$AG$137*$B413)*'+Options'!$AK$85+(1-'+Options'!$AK$85)","v":0.4374551042584246},{"$f":"(1+'+Options'!$AL$88/'+Options'!$AL$87)*I$404/('+Options'!$AL$88+I$404+'+Options'!$AG$138*$B413)*'+Options'!$AL$85+(1-'+Options'!$AL$85)","v":0.12789320951828204},{"$f":"(1+'+Options'!$AL$88/'+Options'!$AL$87)*J$404/('+Options'!$AL$88+J$404+'+Options'!$AG$138*$B413)*'+Options'!$AL$85+(1-'+Options'!$AL$85)","v":0.13462536023054752},null,0.56163060637013651]
[null,600,{"$f":"(1+'+Options'!$AG$88/'+Options'!$AG$87)*C$404/('+Options'!$AG$88+C$404+'+Options'!$AG$135*$B414)*'+Options'!$AG$85+(1-'+Options'!$AG$85)","v":0.48952473631341042},{"$f":"(1+'+Options'!$AG$88/'+Options'!$AG$87)*D$404/('+Options'!$AG$88+D$404+'+Options'!$AG$135*$B414)*'+Options'!$AG$85+(1-'+Options'!$AG$85)","v":0.5326186210483731},{"$f":"(1+'+Options'!$AH$88/'+Options'!$AH$87)*E$404/('+Options'!$AH$88+E$404+'+Options'!$AG$136*$B414)*'+Options'!$AH$85+(1-'+Options'!$AH$85)","v":0.39289536266349584},{"$f":"(1+'+Options'!$AH$88/'+Options'!$AH$87)*F$404/('+Options'!$AH$88+F$404+'+Options'!$AG$136*$B414)*'+Options'!$AH$85+(1-'+Options'!$AH$85)","v":0.40255035848412424},{"$f":"(1+'+Options'!$AK$88/'+Options'!$AK$87)*G$404/('+Options'!$AK$88+G$404+'+Options'!$AG$137*$B414)*'+Options'!$AK$85+(1-'+Options'!$AK$85)","v":0.42502652519893902},{"$f":"(1+'+Options'!$AK$88/'+Options'!$AK$87)*H$404/('+Options'!$AK$88+H$404+'+Options'!$AG$137*$B414)*'+Options'!$AK$85+(1-'+Options'!$AK$85)","v":0.4318187429333013},{"$f":"(1+'+Options'!$AL$88/'+Options'!$AL$87)*I$404/('+Options'!$AL$88+I$404+'+Options'!$AG$138*$B414)*'+Options'!$AL$85+(1-'+Options'!$AL$85)","v":0.12361090641120116},{"$f":"(1+'+Options'!$AL$88/'+Options'!$AL$87)*J$404/('+Options'!$AL$88+J$404+'+Options'!$AG$138*$B414)*'+Options'!$AL$85+(1-'+Options'!$AL$85)","v":0.12934065934065933},null,0.5326186210483731]
[null,700,{"$f":"(1+'+Options'!$AG$88/'+Options'!$AG$87)*C$404/('+Options'!$AG$88+C$404+'+Options'!$AG$135*$B415)*'+Options'!$AG$85+(1-'+Options'!$AG$85)","v":0.46914878288920736},{"$f":"(1+'+Options'!$AG$88/'+Options'!$AG$87)*D$404/('+Options'!$AG$88+D$404+'+Options'!$AG$135*$B415)*'+Options'!$AG$85+(1-'+Options'!$AG$85)","v":0.50939859682501931},{"$f":"(1+'+Options'!$AH$88/'+Options'!$AH$87)*E$404/('+Options'!$AH$88+E$404+'+Options'!$AG$136*$B415)*'+Options'!$AH$85+(1-'+Options'!$AH$85)","v":0.38727237504843082},{"$f":"(1+'+Options'!$AH$88/'+Options'!$AH$87)*F$404/('+Options'!$AH$88+F$404+'+Options'!$AG$136*$B415)*'+Options'!$AH$85+(1-'+Options'!$AH$85)","v":0.39575505350772888},{"$f":"(1+'+Options'!$AK$88/'+Options'!$AK$87)*G$404/('+Options'!$AK$88+G$404+'+Options'!$AG$137*$B415)*'+Options'!$AK$85+(1-'+Options'!$AK$85)","v":0.42171982159129062},{"$f":"(1+'+Options'!$AK$88/'+Options'!$AK$87)*H$404/('+Options'!$AK$88+H$404+'+Options'!$AG$137*$B415)*'+Options'!$AK$85+(1-'+Options'!$AK$85)","v":0.42765685311000018},{"$f":"(1+'+Options'!$AL$88/'+Options'!$AL$87)*I$404/('+Options'!$AL$88+I$404+'+Options'!$AG$138*$B415)*'+Options'!$AL$85+(1-'+Options'!$AL$85)","v":0.12046848381601361},{"$f":"(1+'+Options'!$AL$88/'+Options'!$AL$87)*J$404/('+Options'!$AL$88+J$404+'+Options'!$AG$138*$B415)*'+Options'!$AL$85+(1-'+Options'!$AL$85)","v":0.12545550847457626},null,0.50939859682501931]
[null,800,{"$f":"(1+'+Options'!$AG$88/'+Options'!$AG$87)*C$404/('+Options'!$AG$88+C$404+'+Options'!$AG$135*$B416)*'+Options'!$AG$85+(1-'+Options'!$AG$85)","v":0.45272879052891779},{"$f":"(1+'+Options'!$AG$88/'+Options'!$AG$87)*D$404/('+Options'!$AG$88+D$404+'+Options'!$AG$135*$B416)*'+Options'!$AG$85+(1-'+Options'!$AG$85)","v":0.49039349114425301},{"$f":"(1+'+Options'!$AH$88/'+Options'!$AH$87)*E$404/('+Options'!$AH$88+E$404+'+Options'!$AG$136*$B416)*'+Options'!$AH$85+(1-'+Options'!$AH$85)","v":0.38295272893354648},{"$f":"(1+'+Options'!$AH$88/'+Options'!$AH$87)*F$404/('+Options'!$AH$88+F$404+'+Options'!$AG$136*$B416)*'+Options'!$AH$85+(1-'+Options'!$AH$85)","v":0.39051592524348511},{"$f":"(1+'+Options'!$AK$88/'+Options'!$AK$87)*G$404/('+Options'!$AK$88+G$404+'+Options'!$AG$137*$B416)*'+Options'!$AK$85+(1-'+Options'!$AK$85)","v":0.41918495297805647},{"$f":"(1+'+Options'!$AK$88/'+Options'!$AK$87)*H$404/('+Options'!$AK$88+H$404+'+Options'!$AG$137*$B416)*'+Options'!$AK$85+(1-'+Options'!$AK$85)","v":0.42445777719930977},{"$f":"(1+'+Options'!$AL$88/'+Options'!$AL$87)*I$404/('+Options'!$AL$88+I$404+'+Options'!$AG$138*$B416)*'+Options'!$AL$85+(1-'+Options'!$AL$85)","v":0.11806427363277577},{"$f":"(1+'+Options'!$AL$88/'+Options'!$AL$87)*J$404/('+Options'!$AL$88+J$404+'+Options'!$AG$138*$B416)*'+Options'!$AL$85+(1-'+Options'!$AL$85)","v":0.12247895229186154},null,0.49039349114425301]
[null,900,{"$f":"(1+'+Options'!$AG$88/'+Options'!$AG$87)*C$404/('+Options'!$AG$88+C$404+'+Options'!$AG$135*$B417)*'+Options'!$AG$85+(1-'+Options'!$AG$85)","v":0.43921463347146372},{"$f":"(1+'+Options'!$AG$88/'+Options'!$AG$87)*D$404/('+Options'!$AG$88+D$404+'+Options'!$AG$135*$B417)*'+Options'!$AG$85+(1-'+Options'!$AG$85)","v":0.47455115417497862},{"$f":"(1+'+Options'!$AH$88/'+Options'!$AH$87)*E$404/('+Options'!$AH$88+E$404+'+Options'!$AG$136*$B417)*'+Options'!$AH$85+(1-'+Options'!$AH$85)","v":0.37953033868822261},{"$f":"(1+'+Options'!$AH$88/'+Options'!$AH$87)*F$404/('+Options'!$AH$88+F$404+'+Options'!$AG$136*$B417)*'+Options'!$AH$85+(1-'+Options'!$AH$85)","v":0.38635333018422291},{"$f":"(1+'+Options'!$AK$88/'+Options'!$AK$87)*G$404/('+Options'!$AK$88+G$404+'+Options'!$AG$137*$B417)*'+Options'!$AK$85+(1-'+Options'!$AK$85)","v":0.41717992488904065},{"$f":"(1+'+Options'!$AK$88/'+Options'!$AK$87)*H$404/('+Options'!$AK$88+H$404+'+Options'!$AG$137*$B417)*'+Options'!$AK$85+(1-'+Options'!$AK$85)","v":0.42192204781599163},{"$f":"(1+'+Options'!$AL$88/'+Options'!$AL$87)*I$404/('+Options'!$AL$88+I$404+'+Options'!$AG$138*$B417)*'+Options'!$AL$85+(1-'+Options'!$AL$85)","v":0.11616548940464175},{"$f":"(1+'+Options'!$AL$88/'+Options'!$AL$87)*J$404/('+Options'!$AL$88+J$404+'+Options'!$AG$138*$B417)*'+Options'!$AL$85+(1-'+Options'!$AL$85)","v":0.12012562814070349},null,0.47455115417497862]
[null,1000,{"$f":"(1+'+Options'!$AG$88/'+Options'!$AG$87)*C$404/('+Options'!$AG$88+C$404+'+Options'!$AG$135*$B418)*'+Options'!$AG$85+(1-'+Options'!$AG$85)","v":0.42789765161602716},{"$f":"(1+'+Options'!$AG$88/'+Options'!$AG$87)*D$404/('+Options'!$AG$88+D$404+'+Options'!$AG$135*$B418)*'+Options'!$AG$85+(1-'+Options'!$AG$85)","v":0.46114272641482457},{"$f":"(1+'+Options'!$AH$88/'+Options'!$AH$87)*E$404/('+Options'!$AH$88+E$404+'+Options'!$AG$136*$B418)*'+Options'!$AH$85+(1-'+Options'!$AH$85)","v":0.37675194660734146},{"$f":"(1+'+Options'!$AH$88/'+Options'!$AH$87)*F$404/('+Options'!$AH$88+F$404+'+Options'!$AG$136*$B418)*'+Options'!$AH$85+(1-'+Options'!$AH$85)","v":0.38296637395587918},{"$f":"(1+'+Options'!$AK$88/'+Options'!$AK$87)*G$404/('+Options'!$AK$88+G$404+'+Options'!$AG$137*$B418)*'+Options'!$AK$85+(1-'+Options'!$AK$85)","v":0.41555433438659156},{"$f":"(1+'+Options'!$AK$88/'+Options'!$AK$87)*H$404/('+Options'!$AK$88+H$404+'+Options'!$AG$137*$B418)*'+Options'!$AK$85+(1-'+Options'!$AK$85)","v":0.41986272363669841},{"$f":"(1+'+Options'!$AL$88/'+Options'!$AL$87)*I$404/('+Options'!$AL$88+I$404+'+Options'!$AG$138*$B418)*'+Options'!$AL$85+(1-'+Options'!$AL$85)","v":0.11462791051590319},{"$f":"(1+'+Options'!$AL$88/'+Options'!$AL$87)*J$404/('+Options'!$AL$88+J$404+'+Options'!$AG$138*$B418)*'+Options'!$AL$85+(1-'+Options'!$AL$85)","v":0.11821834723275207},null,0.46114272641482457]
[]
[]
[]
[]
[]
[]
[]
[]
[]
[]
[]
[]
[]
[]
[null,null,null,null,null,null,null,null,null,null,null,null,null,null,null,null,"Effect of weed density on crop yields (standard crop densities)"]
[null,null,null,null,null,null,null,null,null,null,null,null,"Sorghum","Winter Crop","Cotton","Lupins"]
[null,null,null,null,null,null,null,null,null,null,null,null,{"$f":"E406","v":0.80235109717868336},{"$f":"C406","v":0.983637981235846},{"$f":"G406","v":0.68919540229885057},{"$f":"I406","v":0.39943925233644861}]
[null,null,null,null,null,null,null,null,null,null,null,null,0.60194238323876037,0.86162044358214507,0.55385765245456087,0.25172849250197316]
[null,null,null,null,null,null,null,null,null,null,null,null,0.52459165154264975,0.77656232380866475,0.50480907197408009,0.20160676532769553]
[null,null,null,null,null,null,null,null,null,null,null,null,0.48358018977088635,0.71387972148502155,0.47947354566991318,0.17637663885578067]
[null,null,null,null,null,null,null,null,null,null,null,null,0.45817091454272862,0.6657697500519284,0.46400226116449972,0.16118395926161677]
[null,null,null,null,null,null,null,null,null,null,null,null,0.42836003258213412,0.59677471454854436,0.44606652425999394,0.14377049180327867]
[null,null,null,null,null,null,null,null,null,null,null,null,0.4114303959131545,0.54967802537987098,0.43598283807405053,0.13407302375044308]
[null,null,null,null,null,null,null,null,null,null,null,null,0.400516366182391,0.51548207821342995,0.42952089172804903,0.12789320951828204]
[null,null,null,null,null,null,null,null,null,null,null,null,0.39289536266349584,0.48952473631341042,0.42502652519893902,0.12361090641120116]
[null,null,null,null,null,null,null,null,null,null,null,null,0.38727237504843082,0.46914878288920736,0.42171982159129062,0.12046848381601361]
[null,null,null,null,null,null,null,null,null,null,null,null,0.38295272893354648,0.45272879052891779,0.41918495297805647,0.11806427363277577]
[null,null,null,null,null,null,null,null,null,null,null,null,0.37953033868822261,0.43921463347146372,0.41717992488904065,0.11616548940464175]
[null,null,null,null,null,null,null,null,null,null,null,null,0.37675194660734146,0.42789765161602716,0.41555433438659156,0.11462791051590319]

{"sheet":"Bio results","index":7,"n_rows":147,"n_cols":32,"rows_kept":147,"cut":false,"hidden":false,"merged":[]}
[null,null,null,{"$f":"'2.Strategy'!D63","v":"Irrig cotton   1"},{"$f":"'2.Strategy'!E63","v":"Winter fallow   2"},{"$f":"'2.Strategy'!F63","v":"Irrig cotton   3"},{"$f":"'2.Strategy'!G63","v":"Winter fallow   4"},{"$f":"'2.Strategy'!H63","v":"Irrig cotton   5"},{"$f":"'2.Strategy'!I63","v":"Winter fallow   6"},{"$f":"'2.Strategy'!J63","v":"Irrig cotton   7"},{"$f":"'2.Strategy'!K63","v":"Winter fallow   8"},{"$f":"'2.Strategy'!L63","v":"Irrig cotton   9"},{"$f":"'2.Strategy'!M63","v":"Winter fallow   10"},"\"Dates\"","Active","Plants/m2","Seeds/m2",null,null,null,"Strategy A","Plants/m2","Seeds",null,null,null,"Strategy B","Plants/m2","Seeds"]
[null,null,"Table 1. BYG plants per m2",null,null,null,null,null,null,null,null,null,null,null,"2001-04-01",0,{"$f":"'Bio results'!D11","v":200}," ",null,null,"2001-04-01",0,200," ",null,null,"2001-04-01",0,200," "]
[null,null,"First chance to germinate",{"$f":"D11*Calcs!C184","v":3.8},0,{"$f":"F11*Calcs!E184","v":11.464749548440269},0,{"$f":"H11*Calcs!G184","v":22.84118703042946},0,{"$f":"J11*Calcs!I184","v":62.820678901585602},0,{"$f":"L11*Calcs!K184","v":131.66745753421023},0,"2000-05-01","2001-05-01",{"$f":"'Bio results'!D3","v":3.8},{"$f":"'Bio results'!D12","v":196.2},null,null,null,"2001-05-01",3.8,196.2,null,null,null,"2001-05-01",3.8,196.2]
[null,null,"Avg mid-September",{"$f":"D3*Calcs!C197+D12*Calcs!C185*Calcs!C200","v":8.8325299999999984},0,{"$f":"F3*Calcs!E197+F12*Calcs!E185*Calcs!E200","v":27.507946829050155},0,{"$f":"H3*Calcs!G197+H12*Calcs!G185*Calcs!G200","v":28.594493743215125},0,{"$f":"J3*Calcs!I197+J12*Calcs!I185*Calcs!I200","v":150.7287959225194},0,{"$f":"L3*Calcs!K197+L12*Calcs!K185*Calcs!K200","v":315.91631423470733},0,"2000-05-10","2001-05-10",{"$f":"'Bio results'!D4","v":8.8325299999999984},{"$f":"'Bio results'!D13","v":57.270780000000002},null,null,null,"2001-05-10",8.8325299999999984,57.270780000000002,null,null,null,"2001-05-10",8.8325299999999984,57.270780000000002]
[null,null,"Avg late October",{"$f":"D4*Calcs!C198+D13*Calcs!C186*Calcs!C200","v":0.88818091599999993},0,{"$f":"F4*Calcs!E198+F13*Calcs!E186*Calcs!E200","v":2.6456845405987175},0,{"$f":"H4*Calcs!G198+H13*Calcs!G186*Calcs!G200","v":0.97874576191255314},0,{"$f":"J4*Calcs!I198+J13*Calcs!I186*Calcs!I200","v":14.496932383704131},0,{"$f":"L4*Calcs!K198+L13*Calcs!K186*Calcs!K200","v":109.7060651497238},0,"2000-05-20","2001-05-20",{"$f":"'Bio results'!D5","v":0.88818091599999993},{"$f":"'Bio results'!D14","v":56.354447520000001},null,null,null,"2001-05-20",0.88818091599999993,56.354447520000001,null,null,null,"2001-05-20",0.88818091599999993,56.354447520000001]
[null,null,"Avg mid-December",{"$f":"D5*Calcs!C199+D14*Calcs!C187*Calcs!C200","v":1.0080700983919999},0,{"$f":"F5*Calcs!E199+F14*Calcs!E187*Calcs!E200","v":2.8657740918695667},0,{"$f":"H5*Calcs!G199+H14*Calcs!G187*Calcs!G200","v":1.0292035849964896},0,{"$f":"J5*Calcs!I199+J14*Calcs!I187*Calcs!I200","v":15.70290508913153},0,{"$f":"L5*Calcs!K199+L14*Calcs!K187*Calcs!K200","v":214.34904322737708},0,"2000-06-10","2001-06-10",{"$f":"'Bio results'!D6","v":1.0080700983919999},{"$f":"'Bio results'!D15","v":55.340067464640001},null,null,null,"2001-06-10",1.0080700983919999,55.340067464640001,null,null,null,"2001-06-10",1.0080700983919999,55.340067464640001]
[null,null,"Late summer/layby time",{"$f":"D6*Calcs!C201+D15*Calcs!C188","v":1.3370713881992597},0,{"$f":"F6*Calcs!E201+F15*Calcs!E188","v":3.6631392973639043},0,{"$f":"H6*Calcs!G201+H15*Calcs!G188","v":3.321687142211097},0,{"$f":"J6*Calcs!I201+J15*Calcs!I188","v":22.074159181672634},0,{"$f":"L6*Calcs!K201+L15*Calcs!K188","v":91.941740289493964},0,"2000-09-01","2001-09-01",{"$f":"'Bio results'!D7","v":1.3370713881992597},{"$f":"'Bio results'!D16","v":27.365663361264481},null,null,null,"2001-09-01",1.3370713881992597,27.365663361264481,null,null,null,"2001-09-01",1.3370713881992597,27.365663361264481]
[null,null,"Mature BYG setting seed setting seed (≈ late Feb.)",{"$f":"D7*Calcs!C202","v":0.34095320399081125},0,{"$f":"F7*Calcs!E202","v":0.73262785947278075},0,{"$f":"H7*Calcs!G202","v":2.8234340708794323},0,{"$f":"J7*Calcs!I202","v":18.763035304421738},0,{"$f":"L7*Calcs!K202","v":18.388348057898789},0,"2000-10-01","2001-10-01",{"$f":"'Bio results'!D8","v":0.34095320399081125},{"$f":"'Bio results'!D20","v":20.675052679072909},null,null,null,"2001-10-01",0.34095320399081125,20.675052679072909,null,null,null,"2001-10-01",0.34095320399081125,20.675052679072909]
[null,null,null,null,null,null,null,null,null,null,null,null,null,null,"2001-11-01",0,{"$f":"'Bio results'!D21","v":48.040716040337387},null,null,null,"2001-11-01",0,48.040716040337387,null,null,null,"2001-11-01",0,48.040716040337387]
[null,null,"Table 2. Current BYG seedbank per m2",null,null,null,null,null,null,null,null,null,null,null,"2002-04-01",0,{"$f":"'Bio results'!E11","v":0},null,null,null,37347,0,0,null,null,null,"2002-04-01",0,0]
[null,null,"Start of season",{"$f":"'+Options'!$AG$95*'+Options'!AG123","v":200},0,{"$f":"D22","v":636.93053046890384},0,{"$f":"F22","v":1268.954835023859},0,{"$f":"H22","v":3490.0377167547558},0,{"$f":"J22","v":7314.8587519005696},0,"2000-04-01","2002-05-01",{"$f":"'Bio results'!E3","v":0},{"$f":"'Bio results'!E12","v":0},null,null,null,"2002-05-01",0,0,null,null,null,"2002-05-01",0,0]
[null,null,"after First chance to germinate",{"$f":"D11*(1-Calcs!C184)","v":196.2},{"$f":"E11*(1-Calcs!D184)","v":0},{"$f":"F11*(1-Calcs!E184)","v":625.46578092046354},{"$f":"G11*(1-Calcs!F184)","v":0},{"$f":"H11*(1-Calcs!G184)","v":1246.1136479934296},{"$f":"I11*(1-Calcs!H184)","v":0},{"$f":"J11*(1-Calcs!I184)","v":3427.21703785317},{"$f":"K11*(1-Calcs!J184)","v":0},{"$f":"L11*(1-Calcs!K184)","v":7183.1912943663592},{"$f":"M11*(1-Calcs!L184)","v":0},"2000-05-01","2002-05-10",{"$f":"'Bio results'!E4","v":0},{"$f":"'Bio results'!E13","v":0},null,null,null,"2002-05-10",0,0,null,null,null,"2002-05-10",0,0]
[null,null,"after Avg mid-September germs",{"$f":"D12*(1-Calcs!C185)*Calcs!C192","v":57.270780000000002},{"$f":"E12*(1-Calcs!D185)*Calcs!D192","v":0},{"$f":"F12*(1-Calcs!E185)*Calcs!E192","v":182.57346145068334},{"$f":"G12*(1-Calcs!F185)*Calcs!F192","v":0},{"$f":"H12*(1-Calcs!G185)*Calcs!G192","v":363.74057384928216},{"$f":"I12*(1-Calcs!H185)*Calcs!H192","v":0},{"$f":"J12*(1-Calcs!I185)*Calcs!I192","v":1000.4046533493404},{"$f":"K12*(1-Calcs!J185)*Calcs!J192","v":0},{"$f":"L12*(1-Calcs!K185)*Calcs!K192","v":6989.2451294184675},{"$f":"M12*(1-Calcs!L185)*Calcs!L192","v":0},"2000-05-10","2002-05-20",{"$f":"'Bio results'!E5","v":0},{"$f":"'Bio results'!E14","v":0},null,null,null,"2002-05-20",0,0,null,null,null,"2002-05-20",0,0]
[null,null,"after Avg late October germs",{"$f":"D13*(1-Calcs!C186)*Calcs!C193","v":56.354447520000001},{"$f":"E13*(1-Calcs!D186)*Calcs!D193","v":0},{"$f":"F13*(1-Calcs!E186)*Calcs!E193","v":179.83485952892309},{"$f":"G13*(1-Calcs!F186)*Calcs!F193","v":0},{"$f":"H13*(1-Calcs!G186)*Calcs!G193","v":358.28446524154293},{"$f":"I13*(1-Calcs!H186)*Calcs!H193","v":0},{"$f":"J13*(1-Calcs!I186)*Calcs!I193","v":985.39858354910029},{"$f":"K13*(1-Calcs!J186)*Calcs!J193","v":0},{"$f":"L13*(1-Calcs!K186)*Calcs!K193","v":6884.4064524771902},{"$f":"M13*(1-Calcs!L186)*Calcs!L193","v":0},"2000-05-20","2002-06-10",{"$f":"'Bio results'!E6","v":0},{"$f":"'Bio results'!E15","v":0},null,null,null,"2002-06-10",0,0,null,null,null,"2002-06-10",0,0]
[null,null,"after Avg mid-December germs",{"$f":"D14*(1-Calcs!C187)","v":55.340067464640001},{"$f":"E14*(1-Calcs!D187)","v":0},{"$f":"F14*(1-Calcs!E187)","v":176.9575017764603},{"$f":"G14*(1-Calcs!F187)","v":0},{"$f":"H14*(1-Calcs!G187)","v":352.55191379767825},{"$f":"I14*(1-Calcs!H187)","v":0},{"$f":"J14*(1-Calcs!I187)","v":969.63220621231471},{"$f":"K14*(1-Calcs!J187)","v":0},{"$f":"L14*(1-Calcs!K187)","v":6774.2559492375549},{"$f":"M14*(1-Calcs!L187)","v":0},"2000-06-10","2002-09-01",{"$f":"'Bio results'!E7","v":0},{"$f":"'Bio results'!E16","v":0},null,null,null,"2002-09-01",0,0,null,null,null,"2002-09-01",0,0]
[null,null,"after Late summer/layby time germs & mortality",{"$f":"D15*(1-Calcs!C188)*(1-'+Options'!$AG$128)","v":27.365663361264481},{"$f":"E15*(1-Calcs!D188)*(1-'+Options'!$AG$128)","v":0},{"$f":"F15*(1-Calcs!E188)*(1-'+Options'!$AG$128)","v":87.682442130236083},{"$f":"G15*(1-Calcs!F188)*(1-'+Options'!$AG$128)","v":0},{"$f":"H15*(1-Calcs!G188)*(1-'+Options'!$AG$128)","v":174.68947328674957},{"$f":"I15*(1-Calcs!H188)*(1-'+Options'!$AG$128)","v":0},{"$f":"J15*(1-Calcs!I188)*(1-'+Options'!$AG$128)","v":480.45275817820192},{"$f":"K15*(1-Calcs!J188)*(1-'+Options'!$AG$128)","v":0},{"$f":"L15*(1-Calcs!K188)*(1-'+Options'!$AG$128)","v":3356.6438228472084},{"$f":"M15*(1-Calcs!L188)*(1-'+Options'!$AG$128)","v":0},"2000-09-01","2002-10-01",{"$f":"'Bio results'!E8","v":0},{"$f":"'Bio results'!E20","v":0},null,null,null,"2002-10-01",0,0,null,null,null,"2002-10-01",0,0]
[null,null,"Crop competitiveness factor",{"$f":"IF(Calcs!U246=1,0,IF(Calcs!U246=2,'+Options'!$AH$86,IF(Calcs!U246=3,'+Options'!$AK$86,IF(Calcs!U246=4,'+Options'!$AL$86,IF(Calcs!U246=5,'+Options'!$AJ$86,IF(Calcs!U246=6,'+Options'!$AI$86,IF(Calcs!U246=7,'+Options'!$AG$86,0)))))))","v":3.5},{"$f":"IF(Calcs!V246=1,0,IF(Calcs!V246=2,'+Options'!$AH$86,IF(Calcs!V246=3,'+Options'!$AK$86,IF(Calcs!V246=4,'+Options'!$AL$86,IF(Calcs!V246=5,'+Options'!$AJ$86,IF(Calcs!V246=6,'+Options'!$AI$86,IF(Calcs!V246=7,'+Options'!$AG$86,0)))))))","v":0},{"$f":"IF(Calcs!W246=1,0,IF(Calcs!W246=2,'+Options'!$AH$86,IF(Calcs!W246=3,'+Options'!$AK$86,IF(Calcs!W246=4,'+Options'!$AL$86,IF(Calcs!W246=5,'+Options'!$AJ$86,IF(Calcs!W246=6,'+Options'!$AI$86,IF(Calcs!W246=7,'+Options'!$AG$86,0)))))))","v":3.5},{"$f":"IF(Calcs!X246=1,0,IF(Calcs!X246=2,'+Options'!$AH$86,IF(Calcs!X246=3,'+Options'!$AK$86,IF(Calcs!X246=4,'+Options'!$AL$86,IF(Calcs!X246=5,'+Options'!$AJ$86,IF(Calcs!X246=6,'+Options'!$AI$86,IF(Calcs!X246=7,'+Options'!$AG$86,0)))))))","v":0},{"$f":"IF(Calcs!Y246=1,0,IF(Calcs!Y246=2,'+Options'!$AH$86,IF(Calcs!Y246=3,'+Options'!$AK$86,IF(Calcs!Y246=4,'+Options'!$AL$86,IF(Calcs!Y246=5,'+Options'!$AJ$86,IF(Calcs!Y246=6,'+Options'!$AI$86,IF(Calcs!Y246=7,'+Options'!$AG$86,0)))))))","v":3.5},{"$f":"IF(Calcs!Z246=1,0,IF(Calcs!Z246=2,'+Options'!$AH$86,IF(Calcs!Z246=3,'+Options'!$AK$86,IF(Calcs!Z246=4,'+Options'!$AL$86,IF(Calcs!Z246=5,'+Options'!$AJ$86,IF(Calcs!Z246=6,'+Options'!$AI$86,IF(Calcs!Z246=7,'+Options'!$AG$86,0)))))))","v":0},{"$f":"IF(Calcs!AA246=1,0,IF(Calcs!AA246=2,'+Options'!$AH$86,IF(Calcs!AA246=3,'+Options'!$AK$86,IF(Calcs!AA246=4,'+Options'!$AL$86,IF(Calcs!AA246=5,'+Options'!$AJ$86,IF(Calcs!AA246=6,'+Options'!$AI$86,IF(Calcs!AA246=7,'+Options'!$AG$86,0)))))))","v":3.5},{"$f":"IF(Calcs!AB246=1,0,IF(Calcs!AB246=2,'+Options'!$AH$86,IF(Calcs!AB246=3,'+Options'!$AK$86,IF(Calcs!AB246=4,'+Options'!$AL$86,IF(Calcs!AB246=5,'+Options'!$AJ$86,IF(Calcs!AB246=6,'+Options'!$AI$86,IF(Calcs!AB246=7,'+Options'!$AG$86,0)))))))","v":0},{"$f":"IF(Calcs!AC246=1,0,IF(Calcs!AC246=2,'+Options'!$AH$86,IF(Calcs!AC246=3,'+Options'!$AK$86,IF(Calcs!AC246=4,'+Options'!$AL$86,IF(Calcs!AC246=5,'+Options'!$AJ$86,IF(Calcs!AC246=6,'+Options'!$AI$86,IF(Calcs!AC246=7,'+Options'!$AG$86,0)))))))","v":3.5},{"$f":"IF(Calcs!AD246=1,0,IF(Calcs!AD246=2,'+Options'!$AH$86,IF(Calcs!AD246=3,'+Options'!$AK$86,IF(Calcs!AD246=4,'+Options'!$AL$86,IF(Calcs!AD246=5,'+Options'!$AJ$86,IF(Calcs!AD246=6,'+Options'!$AI$86,IF(Calcs!AD246=7,'+Options'!$AG$86,0)))))))","v":0},null,"2002-11-01",0,{"$f":"'Bio results'!E21","v":0},null,null,null,"2002-11-01",0,0,null,null,null,"2002-11-01",0,0]
[null,null,"Crop density",{"$f":"IF(Calcs!C17<>\"\",IF(Calcs!U246=2,'+Options'!$AH$59,IF(Calcs!U246=3,'+Options'!$AK$59,IF(Calcs!U246=4,'+Options'!$AL$59,IF(Calcs!U246=5,'+Options'!$AJ$59,IF(Calcs!U246=6,'+Options'!$AI$59,IF(Calcs!U246=7,'+Options'!$AG$59,)))))),IF(Calcs!U246=2,'+Options'!$AH$58,IF(Calcs!U246=3,'+Options'!$AK$58,IF(Calcs!U246=4,'+Options'!$AL$58,IF(Calcs!U246=5,'+Options'!$AJ$58,IF(Calcs!U246=6,'+Options'!$AI$58,IF(Calcs!U246=7,'+Options'!$AG$58,0)))))))","v":12.589473684210526},{"$f":"IF(Calcs!D17<>\"\",IF(Calcs!V246=2,'+Options'!$AH$59,IF(Calcs!V246=3,'+Options'!$AK$59,IF(Calcs!V246=4,'+Options'!$AL$59,IF(Calcs!V246=5,'+Options'!$AJ$59,IF(Calcs!V246=6,'+Options'!$AI$59,IF(Calcs!V246=7,'+Options'!$AG$59,)))))),IF(Calcs!V246=2,'+Options'!$AH$58,IF(Calcs!V246=3,'+Options'!$AK$58,IF(Calcs!V246=4,'+Options'!$AL$58,IF(Calcs!V246=5,'+Options'!$AJ$58,IF(Calcs!V246=6,'+Options'!$AI$58,IF(Calcs!V246=7,'+Options'!$AG$58,0)))))))","v":0},{"$f":"IF(Calcs!E17<>\"\",IF(Calcs!W246=2,'+Options'!$AH$59,IF(Calcs!W246=3,'+Options'!$AK$59,IF(Calcs!W246=4,'+Options'!$AL$59,IF(Calcs!W246=5,'+Options'!$AJ$59,IF(Calcs!W246=6,'+Options'!$AI$59,IF(Calcs!W246=7,'+Options'!$AG$59,)))))),IF(Calcs!W246=2,'+Options'!$AH$58,IF(Calcs!W246=3,'+Options'!$AK$58,IF(Calcs!W246=4,'+Options'!$AL$58,IF(Calcs!W246=5,'+Options'!$AJ$58,IF(Calcs!W246=6,'+Options'!$AI$58,IF(Calcs!W246=7,'+Options'!$AG$58,0)))))))","v":12.589473684210526},{"$f":"IF(Calcs!F17<>\"\",IF(Calcs!X246=2,'+Options'!$AH$59,IF(Calcs!X246=3,'+Options'!$AK$59,IF(Calcs!X246=4,'+Options'!$AL$59,IF(Calcs!X246=5,'+Options'!$AJ$59,IF(Calcs!X246=6,'+Options'!$AI$59,IF(Calcs!X246=7,'+Options'!$AG$59,)))))),IF(Calcs!X246=2,'+Options'!$AH$58,IF(Calcs!X246=3,'+Options'!$AK$58,IF(Calcs!X246=4,'+Options'!$AL$58,IF(Calcs!X246=5,'+Options'!$AJ$58,IF(Calcs!X246=6,'+Options'!$AI$58,IF(Calcs!X246=7,'+Options'!$AG$58,0)))))))","v":0},{"$f":"IF(Calcs!G17<>\"\",IF(Calcs!Y246=2,'+Options'!$AH$59,IF(Calcs!Y246=3,'+Options'!$AK$59,IF(Calcs!Y246=4,'+Options'!$AL$59,IF(Calcs!Y246=5,'+Options'!$AJ$59,IF(Calcs!Y246=6,'+Options'!$AI$59,IF(Calcs!Y246=7,'+Options'!$AG$59,)))))),IF(Calcs!Y246=2,'+Options'!$AH$58,IF(Calcs!Y246=3,'+Options'!$AK$58,IF(Calcs!Y246=4,'+Options'!$AL$58,IF(Calcs!Y246=5,'+Options'!$AJ$58,IF(Calcs!Y246=6,'+Options'!$AI$58,IF(Calcs!Y246=7,'+Options'!$AG$58,0)))))))","v":12.589473684210526},{"$f":"IF(Calcs!H17<>\"\",IF(Calcs!Z246=2,'+Options'!$AH$59,IF(Calcs!Z246=3,'+Options'!$AK$59,IF(Calcs!Z246=4,'+Options'!$AL$59,IF(Calcs!Z246=5,'+Options'!$AJ$59,IF(Calcs!Z246=6,'+Options'!$AI$59,IF(Calcs!Z246=7,'+Options'!$AG$59,)))))),IF(Calcs!Z246=2,'+Options'!$AH$58,IF(Calcs!Z246=3,'+Options'!$AK$58,IF(Calcs!Z246=4,'+Options'!$AL$58,IF(Calcs!Z246=5,'+Options'!$AJ$58,IF(Calcs!Z246=6,'+Options'!$AI$58,IF(Calcs!Z246=7,'+Options'!$AG$58,0)))))))","v":0},{"$f":"IF(Calcs!I17<>\"\",IF(Calcs!AA246=2,'+Options'!$AH$59,IF(Calcs!AA246=3,'+Options'!$AK$59,IF(Calcs!AA246=4,'+Options'!$AL$59,IF(Calcs!AA246=5,'+Options'!$AJ$59,IF(Calcs!AA246=6,'+Options'!$AI$59,IF(Calcs!AA246=7,'+Options'!$AG$59,)))))),IF(Calcs!AA246=2,'+Options'!$AH$58,IF(Calcs!AA246=3,'+Options'!$AK$58,IF(Calcs!AA246=4,'+Options'!$AL$58,IF(Calcs!AA246=5,'+Options'!$AJ$58,IF(Calcs!AA246=6,'+Options'!$AI$58,IF(Calcs!AA246=7,'+Options'!$AG$58,0)))))))","v":12.589473684210526},{"$f":"IF(Calcs!J17<>\"\",IF(Calcs!AB246=2,'+Options'!$AH$59,IF(Calcs!AB246=3,'+Options'!$AK$59,IF(Calcs!AB246=4,'+Options'!$AL$59,IF(Calcs!AB246=5,'+Options'!$AJ$59,IF(Calcs!AB246=6,'+Options'!$AI$59,IF(Calcs!AB246=7,'+Options'!$AG$59,)))))),IF(Calcs!AB246=2,'+Options'!$AH$58,IF(Calcs!AB246=3,'+Options'!$AK$58,IF(Calcs!AB246=4,'+Options'!$AL$58,IF(Calcs!AB246=5,'+Options'!$AJ$58,IF(Calcs!AB246=6,'+Options'!$AI$58,IF(Calcs!AB246=7,'+Options'!$AG$58,0)))))))","v":0},{"$f":"IF(Calcs!K17<>\"\",IF(Calcs!AC246=2,'+Options'!$AH$59,IF(Calcs!AC246=3,'+Options'!$AK$59,IF(Calcs!AC246=4,'+Options'!$AL$59,IF(Calcs!AC246=5,'+Options'!$AJ$59,IF(Calcs!AC246=6,'+Options'!$AI$59,IF(Calcs!AC246=7,'+Options'!$AG$59,)))))),IF(Calcs!AC246=2,'+Options'!$AH$58,IF(Calcs!AC246=3,'+Options'!$AK$58,IF(Calcs!AC246=4,'+Options'!$AL$58,IF(Calcs!AC246=5,'+Options'!$AJ$58,IF(Calcs!AC246=6,'+Options'!$AI$58,IF(Calcs!AC246=7,'+Options'!$AG$58,0)))))))","v":12.589473684210526},{"$f":"IF(Calcs!L17<>\"\",IF(Calcs!AD246=2,'+Options'!$AH$59,IF(Calcs!AD246=3,'+Options'!$AK$59,IF(Calcs!AD246=4,'+Options'!$AL$59,IF(Calcs!AD246=5,'+Options'!$AJ$59,IF(Calcs!AD246=6,'+Options'!$AI$59,IF(Calcs!AD246=7,'+Options'!$AG$59,)))))),IF(Calcs!AD246=2,'+Options'!$AH$58,IF(Calcs!AD246=3,'+Options'!$AK$58,IF(Calcs!AD246=4,'+Options'!$AL$58,IF(Calcs!AD246=5,'+Options'!$AJ$58,IF(Calcs!AD246=6,'+Options'!$AI$58,IF(Calcs!AD246=7,'+Options'!$AG$58,0)))))))","v":0}]
[null,null,"Late summer, seed produced per plant",{"$f":"('+Options'!$AG$132*(IF(Calcs!U246=3,1/('+Options'!$AG$134+Calcs!C210+('+Options'!$AL$86*IF(Calcs!C17<>\"\",'+Options'!$AL$59,'+Options'!$AL$58))),0)+IF(Calcs!E217=1,1/('+Options'!$AG$134+Calcs!C210+('+Options'!$AH$86*IF(Calcs!C17<>\"\",'+Options'!$AH$59,'+Options'!$AH$58))),0)+IF(Calcs!E217=2,1/('+Options'!$AG$134+Calcs!C210+('+Options'!$AK$86*IF(Calcs!C17<>\"\",'+Options'!$AK$59,'+Options'!$AK$58))),0)+IF(Calcs!E217=0,1/('+Options'!$AG$134+Calcs!C210+('+Options'!$AG$86*IF(Calcs!C17<>\"\",'+Options'!$AG$59,'+Options'!$AG$58))),0)+((1/('+Options'!$AG$134+Calcs!C210+'+Options'!$AS$181))*(IF(Calcs!E217=4,1,0)+IF(Calcs!E217=5,1,0)+IF(Calcs!E217=6,1,0)))))*Calcs!C210/D7*IF(Calcs!P48>0,1-'+Options'!$AG$130,1)*IF(Calcs!P49>0,1-'+Options'!$AG$131,1)","v":60.638974607289818},0,{"$f":"('+Options'!$AG$132*(IF(Calcs!G217=3,1/('+Options'!$AG$134+Calcs!E210+('+Options'!$AL$86*IF(Calcs!E17<>\"\",'+Options'!$AL$59,'+Options'!$AL$58))),0)+IF(Calcs!G217=1,1/('+Options'!$AG$134+Calcs!E210+('+Options'!$AH$86*IF(Calcs!E17<>\"\",'+Options'!$AH$59,'+Options'!$AH$58))),0)+IF(Calcs!G217=2,1/('+Options'!$AG$134+Calcs!E210+('+Options'!$AK$86*IF(Calcs!E17<>\"\",'+Options'!$AK$59,'+Options'!$AK$58))),0)+IF(Calcs!G217=0,1/('+Options'!$AG$134+Calcs!E210+('+Options'!$AG$86*IF(Calcs!E17<>\"\",'+Options'!$AG$59,'+Options'!$AG$58))),0)+((1/('+Options'!$AG$134+Calcs!E210+'+Options'!$AS$181))*(IF(Calcs!G217=4,1,0)+IF(Calcs!G217=5,1,0)+IF(Calcs!G217=6,1,0)))))*Calcs!E210/F7*IF(Calcs!R48>0,1-'+Options'!$AG$130,1)*IF(Calcs!R49>0,1-'+Options'!$AG$131,1)","v":62.229576052887815},0,{"$f":"('+Options'!$AG$132*(IF(Calcs!I217=3,1/('+Options'!$AG$134+Calcs!G210+('+Options'!$AL$86*IF(Calcs!G17<>\"\",'+Options'!$AL$59,'+Options'!$AL$58))),0)+IF(Calcs!I217=1,1/('+Options'!$AG$134+Calcs!G210+('+Options'!$AH$86*IF(Calcs!G17<>\"\",'+Options'!$AH$59,'+Options'!$AH$58))),0)+IF(Calcs!I217=2,1/('+Options'!$AG$134+Calcs!G210+('+Options'!$AK$86*IF(Calcs!G17<>\"\",'+Options'!$AK$59,'+Options'!$AK$58))),0)+IF(Calcs!I217=0,1/('+Options'!$AG$134+Calcs!G210+('+Options'!$AG$86*IF(Calcs!G17<>\"\",'+Options'!$AG$59,'+Options'!$AG$58))),0)+((1/('+Options'!$AG$134+Calcs!G210+'+Options'!$AS$181))*(IF(Calcs!I217=4,1,0)+IF(Calcs!I217=5,1,0)+IF(Calcs!I217=6,1,0)))))*Calcs!G210/H7*IF(Calcs!T48>0,1-'+Options'!$AG$130,1)*IF(Calcs!T49>0,1-'+Options'!$AG$131,1)","v":19.19120871314081},0,{"$f":"('+Options'!$AG$132*(IF(Calcs!K217=3,1/('+Options'!$AG$134+Calcs!I210+('+Options'!$AL$86*IF(Calcs!I17<>\"\",'+Options'!$AL$59,'+Options'!$AL$58))),0)+IF(Calcs!K217=1,1/('+Options'!$AG$134+Calcs!I210+('+Options'!$AH$86*IF(Calcs!I17<>\"\",'+Options'!$AH$59,'+Options'!$AH$58))),0)+IF(Calcs!K217=2,1/('+Options'!$AG$134+Calcs!I210+('+Options'!$AK$86*IF(Calcs!I17<>\"\",'+Options'!$AK$59,'+Options'!$AK$58))),0)+IF(Calcs!K217=0,1/('+Options'!$AG$134+Calcs!I210+('+Options'!$AG$86*IF(Calcs!I17<>\"\",'+Options'!$AG$59,'+Options'!$AG$58))),0)+((1/('+Options'!$AG$134+Calcs!I210+'+Options'!$AS$181))*(IF(Calcs!K217=4,1,0)+IF(Calcs!K217=5,1,0)+IF(Calcs!K217=6,1,0)))))*Calcs!I210/J7*IF(Calcs!V48>0,1-'+Options'!$AG$130,1)*IF(Calcs!V49>0,1-'+Options'!$AG$131,1)","v":64.192022591219668},0,{"$f":"('+Options'!$AG$132*(IF(Calcs!M217=3,1/('+Options'!$AG$134+Calcs!K210+('+Options'!$AL$86*IF(Calcs!K17<>\"\",'+Options'!$AL$59,'+Options'!$AL$58))),0)+IF(Calcs!M217=1,1/('+Options'!$AG$134+Calcs!K210+('+Options'!$AH$86*IF(Calcs!K17<>\"\",'+Options'!$AH$59,'+Options'!$AH$58))),0)+IF(Calcs!M217=2,1/('+Options'!$AG$134+Calcs!K210+('+Options'!$AK$86*IF(Calcs!K17<>\"\",'+Options'!$AK$59,'+Options'!$AK$58))),0)+IF(Calcs!M217=0,1/('+Options'!$AG$134+Calcs!K210+('+Options'!$AG$86*IF(Calcs!K17<>\"\",'+Options'!$AG$59,'+Options'!$AG$58))),0)+((1/('+Options'!$AG$134+Calcs!K210+'+Options'!$AS$181))*(IF(Calcs!M217=4,1,0)+IF(Calcs!M217=5,1,0)+IF(Calcs!M217=6,1,0)))))*Calcs!K210/L7*IF(Calcs!X48>0,1-'+Options'!$AG$130,1)*IF(Calcs!X49>0,1-'+Options'!$AG$131,1)","v":46.843391566278704},0,"2000-10-01","2003-04-01",0,{"$f":"'Bio results'!F11","v":636.93053046890384},null,null,null,37712,0,636.93053046890384,null,null,null,"2003-04-01",0,636.93053046890384]
[null,null,"Late summer, seed produced per m2",{"$f":"(D19*D8)","v":20.675052679072909},0,45.591121099525814,0,54.185112542039988,0,1204.4371861412924,0,861.37258833317355,0,"2000-11-01","2003-05-01",{"$f":"'Bio results'!F3","v":11.464749548440269},{"$f":"'Bio results'!F12","v":625.46578092046354},null,null,null,"2003-05-01",11.464749548440269,625.46578092046354,null,null,null,"2003-05-01",11.464749548440269,625.46578092046354]
[null,null,"Around harvest (summer)",{"$f":"D20+D16","v":48.040716040337387},0,133.27356322976189,0,228.87458582878958,0,1684.8899443194944,0,4218.0164111803824,0,null,"2003-05-10",{"$f":"'Bio results'!F4","v":27.507946829050155},{"$f":"'Bio results'!F13","v":182.57346145068334},null,null,null,"2003-05-10",27.507946829050155,182.57346145068334,null,null,null,"2003-05-10",27.507946829050155,182.57346145068334]
[null,null,"Seeds in soil next spring (/m2)",{"$f":"(D16+D23*Calcs!C203)*(1-'+Options'!$AG$129)","v":636.93053046890384},0,{"$f":"(F16+F23*Calcs!E203)*(1-'+Options'!$AG$129)","v":1268.954835023859},0,{"$f":"(H16+H23*Calcs!G203)*(1-'+Options'!$AG$129)","v":3490.0377167547558},0,{"$f":"(J16+J23*Calcs!I203)*(1-'+Options'!$AG$129)","v":7314.8587519005696},0,{"$f":"(L16+L23*Calcs!K203)*(1-'+Options'!$AG$129)","v":7516.3537049522447},0,null,"2003-05-20",{"$f":"'Bio results'!F5","v":2.6456845405987175},{"$f":"'Bio results'!F14","v":179.83485952892309},null,null,null,"2003-05-20",2.6456845405987175,179.83485952892309,null,null,null,"2003-05-20",2.6456845405987175,179.83485952892309]
[null,null,"(Seed/m2 new calc)",{"$f":"'+Options'!$AG$132*'+Options'!$AG$134*D8/(1+('+Options'!$AG$134*D8)+(D17*D18))","v":8440.70847606387},{"$f":"'+Options'!$AG$132*'+Options'!$AG$134*E8/(1+('+Options'!$AG$134*E8)+(E17*E18))","v":0},{"$f":"'+Options'!$AG$132*'+Options'!$AG$134*F8/(1+('+Options'!$AG$134*F8)+(F17*F18))","v":16781.120208157459},{"$f":"'+Options'!$AG$132*'+Options'!$AG$134*G8/(1+('+Options'!$AG$134*G8)+(G17*G18))","v":0},{"$f":"'+Options'!$AG$132*'+Options'!$AG$134*H8/(1+('+Options'!$AG$134*H8)+(H17*H18))","v":46224.236155476297},{"$f":"'+Options'!$AG$132*'+Options'!$AG$134*I8/(1+('+Options'!$AG$134*I8)+(I17*I18))","v":0},{"$f":"'+Options'!$AG$132*'+Options'!$AG$134*J8/(1+('+Options'!$AG$134*J8)+(J17*J18))","v":96760.937915509538},{"$f":"'+Options'!$AG$132*'+Options'!$AG$134*K8/(1+('+Options'!$AG$134*K8)+(K17*K18))","v":0},{"$f":"'+Options'!$AG$132*'+Options'!$AG$134*L8/(1+('+Options'!$AG$134*L8)+(L17*L18))","v":96380.614350059463},{"$f":"'+Options'!$AG$132*'+Options'!$AG$134*M8/(1+('+Options'!$AG$134*M8)+(M17*M18))","v":0},null,"2003-06-10",{"$f":"'Bio results'!F6","v":2.8657740918695667},{"$f":"'Bio results'!F15","v":176.9575017764603},null,null,null,"2003-06-10",2.8657740918695667,176.9575017764603,null,null,null,"2003-06-10",2.8657740918695667,176.9575017764603]
[null,null,"Table 3. Yields",null,null,null,null,null,null,null,null,null,null,null,"2003-09-01",{"$f":"'Bio results'!F7","v":3.6631392973639043},{"$f":"'Bio results'!F16","v":87.682442130236083},null,null,null,"2003-09-01",3.6631392973639043,87.682442130236083,null,null,null,"2003-09-01",3.6631392973639043,87.682442130236083]
[null,null,"Yield penalty from phytotoxicity",{"$f":"('+Options'!$AL$80)*Calcs!P40","v":0.06},{"$f":"('+Options'!$AL$80)*Calcs!Q40","v":0.02},{"$f":"('+Options'!$AL$80)*Calcs!R40","v":0.04},{"$f":"('+Options'!$AL$80)*Calcs!S40","v":0.04},{"$f":"('+Options'!$AL$80)*Calcs!T40","v":0.08},{"$f":"('+Options'!$AL$80)*Calcs!U40","v":0.04},{"$f":"('+Options'!$AL$80)*Calcs!V40","v":0.02},{"$f":"('+Options'!$AL$80)*Calcs!W40","v":0},{"$f":"('+Options'!$AL$80)*Calcs!X40","v":0.02},{"$f":"('+Options'!$AL$80)*Calcs!Y40","v":0.04},null,"2003-10-01",{"$f":"'Bio results'!F8","v":0.73262785947278075},{"$f":"'Bio results'!F20","v":45.591121099525814},null,null,null,"2003-10-01",0.73262785947278075,45.591121099525814,null,null,null,"2003-10-01",0.73262785947278075,45.591121099525814]
[null,null,"Yield penalty for late sowing (if any) (%)",{"$f":"IF(Calcs!C24<>\"\",IF(Calcs!U246=1,'+Options'!$E$27,IF(Calcs!U246=2,'+Options'!$F$27,IF(Calcs!U246=3,'+Options'!$I$27,IF(Calcs!U246=4,'+Options'!$J$27,IF(Calcs!U246=5,'+Options'!$H$27,IF(Calcs!U246=6,'+Options'!$G$27,0)))))),0)","v":0},{"$f":"IF(Calcs!D24<>\"\",IF(Calcs!V246=1,'+Options'!$E$27,IF(Calcs!V246=2,'+Options'!$F$27,IF(Calcs!V246=3,'+Options'!$I$27,IF(Calcs!V246=4,'+Options'!$J$27,IF(Calcs!V246=5,'+Options'!$H$27,IF(Calcs!V246=6,'+Options'!$G$27,0)))))),0)","v":0},{"$f":"IF(Calcs!E24<>\"\",IF(Calcs!W246=1,'+Options'!$E$27,IF(Calcs!W246=2,'+Options'!$F$27,IF(Calcs!W246=3,'+Options'!$I$27,IF(Calcs!W246=4,'+Options'!$J$27,IF(Calcs!W246=5,'+Options'!$H$27,IF(Calcs!W246=6,'+Options'!$G$27,0)))))),0)","v":0},{"$f":"IF(Calcs!F24<>\"\",IF(Calcs!X246=1,'+Options'!$E$27,IF(Calcs!X246=2,'+Options'!$F$27,IF(Calcs!X246=3,'+Options'!$I$27,IF(Calcs!X246=4,'+Options'!$J$27,IF(Calcs!X246=5,'+Options'!$H$27,IF(Calcs!X246=6,'+Options'!$G$27,0)))))),0)","v":0},{"$f":"IF(Calcs!G24<>\"\",IF(Calcs!Y246=1,'+Options'!$E$27,IF(Calcs!Y246=2,'+Options'!$F$27,IF(Calcs!Y246=3,'+Options'!$I$27,IF(Calcs!Y246=4,'+Options'!$J$27,IF(Calcs!Y246=5,'+Options'!$H$27,IF(Calcs!Y246=6,'+Options'!$G$27,0)))))),0)","v":0},{"$f":"IF(Calcs!H24<>\"\",IF(Calcs!Z246=1,'+Options'!$E$27,IF(Calcs!Z246=2,'+Options'!$F$27,IF(Calcs!Z246=3,'+Options'!$I$27,IF(Calcs!Z246=4,'+Options'!$J$27,IF(Calcs!Z246=5,'+Options'!$H$27,IF(Calcs!Z246=6,'+Options'!$G$27,0)))))),0)","v":0},{"$f":"IF(Calcs!I24<>\"\",IF(Calcs!AA246=1,'+Options'!$E$27,IF(Calcs!AA246=2,'+Options'!$F$27,IF(Calcs!AA246=3,'+Options'!$I$27,IF(Calcs!AA246=4,'+Options'!$J$27,IF(Calcs!AA246=5,'+Options'!$H$27,IF(Calcs!AA246=6,'+Options'!$G$27,0)))))),0)","v":0},{"$f":"IF(Calcs!J24<>\"\",IF(Calcs!AB246=1,'+Options'!$E$27,IF(Calcs!AB246=2,'+Options'!$F$27,IF(Calcs!AB246=3,'+Options'!$I$27,IF(Calcs!AB246=4,'+Options'!$J$27,IF(Calcs!AB246=5,'+Options'!$H$27,IF(Calcs!AB246=6,'+Options'!$G$27,0)))))),0)","v":0},{"$f":"IF(Calcs!K24<>\"\",IF(Calcs!AC246=1,'+Options'!$E$27,IF(Calcs!AC246=2,'+Options'!$F$27,IF(Calcs!AC246=3,'+Options'!$I$27,IF(Calcs!AC246=4,'+Options'!$J$27,IF(Calcs!AC246=5,'+Options'!$H$27,IF(Calcs!AC246=6,'+Options'!$G$27,0)))))),0)","v":0},{"$f":"IF(Calcs!L24<>\"\",IF(Calcs!AD246=1,'+Options'!$E$27,IF(Calcs!AD246=2,'+Options'!$F$27,IF(Calcs!AD246=3,'+Options'!$I$27,IF(Calcs!AD246=4,'+Options'!$J$27,IF(Calcs!AD246=5,'+Options'!$H$27,IF(Calcs!AD246=6,'+Options'!$G$27,0)))))),0)","v":0},null,"2003-11-01",0,{"$f":"'Bio results'!F21","v":133.27356322976189},null,null,null,"2003-11-01",0,133.27356322976189,null,null,null,"2003-11-01",0,133.27356322976189]
[null,null,"Yield pen. for not swathing crops (%)",0,0,0,0,0,0,0,0,0,0,null,"2004-04-01",0,{"$f":"'Bio results'!G11","v":0},null,null,null,38078,0,0,null,null,null,"2004-04-01",0,0]
[null,null,"Yield pen. for crop topping (%)",{"$f":"IF(Calcs!C40<>\"\",IF(Calcs!U246=1,'+Options'!$AG$73,IF(Calcs!U246=2,'+Options'!$AH$73,IF(Calcs!U246=3,'+Options'!$AK$73,IF(Calcs!U246=4,'+Options'!$AL$73,IF(Calcs!U246=5,'+Options'!$AJ$73,IF(Calcs!U246=6,'+Options'!$AI$73,0)))))),0)","v":0},{"$f":"IF(Calcs!D40<>\"\",IF(Calcs!V246=1,'+Options'!$AG$73,IF(Calcs!V246=2,'+Options'!$AH$73,IF(Calcs!V246=3,'+Options'!$AK$73,IF(Calcs!V246=4,'+Options'!$AL$73,IF(Calcs!V246=5,'+Options'!$AJ$73,IF(Calcs!V246=6,'+Options'!$AI$73,0)))))),0)","v":0},{"$f":"IF(Calcs!E40<>\"\",IF(Calcs!W246=1,'+Options'!$AG$73,IF(Calcs!W246=2,'+Options'!$AH$73,IF(Calcs!W246=3,'+Options'!$AK$73,IF(Calcs!W246=4,'+Options'!$AL$73,IF(Calcs!W246=5,'+Options'!$AJ$73,IF(Calcs!W246=6,'+Options'!$AI$73,0)))))),0)","v":0},{"$f":"IF(Calcs!F40<>\"\",IF(Calcs!X246=1,'+Options'!$AG$73,IF(Calcs!X246=2,'+Options'!$AH$73,IF(Calcs!X246=3,'+Options'!$AK$73,IF(Calcs!X246=4,'+Options'!$AL$73,IF(Calcs!X246=5,'+Options'!$AJ$73,IF(Calcs!X246=6,'+Options'!$AI$73,0)))))),0)","v":0},{"$f":"IF(Calcs!G40<>\"\",IF(Calcs!Y246=1,'+Options'!$AG$73,IF(Calcs!Y246=2,'+Options'!$AH$73,IF(Calcs!Y246=3,'+Options'!$AK$73,IF(Calcs!Y246=4,'+Options'!$AL$73,IF(Calcs!Y246=5,'+Options'!$AJ$73,IF(Calcs!Y246=6,'+Options'!$AI$73,0)))))),0)","v":0},{"$f":"IF(Calcs!H40<>\"\",IF(Calcs!Z246=1,'+Options'!$AG$73,IF(Calcs!Z246=2,'+Options'!$AH$73,IF(Calcs!Z246=3,'+Options'!$AK$73,IF(Calcs!Z246=4,'+Options'!$AL$73,IF(Calcs!Z246=5,'+Options'!$AJ$73,IF(Calcs!Z246=6,'+Options'!$AI$73,0)))))),0)","v":0},{"$f":"IF(Calcs!I40<>\"\",IF(Calcs!AA246=1,'+Options'!$AG$73,IF(Calcs!AA246=2,'+Options'!$AH$73,IF(Calcs!AA246=3,'+Options'!$AK$73,IF(Calcs!AA246=4,'+Options'!$AL$73,IF(Calcs!AA246=5,'+Options'!$AJ$73,IF(Calcs!AA246=6,'+Options'!$AI$73,0)))))),0)","v":0},{"$f":"IF(Calcs!J40<>\"\",IF(Calcs!AB246=1,'+Options'!$AG$73,IF(Calcs!AB246=2,'+Options'!$AH$73,IF(Calcs!AB246=3,'+Options'!$AK$73,IF(Calcs!AB246=4,'+Options'!$AL$73,IF(Calcs!AB246=5,'+Options'!$AJ$73,IF(Calcs!AB246=6,'+Options'!$AI$73,0)))))),0)","v":0},{"$f":"IF(Calcs!K40<>\"\",IF(Calcs!AC246=1,'+Options'!$AG$73,IF(Calcs!AC246=2,'+Options'!$AH$73,IF(Calcs!AC246=3,'+Options'!$AK$73,IF(Calcs!AC246=4,'+Options'!$AL$73,IF(Calcs!AC246=5,'+Options'!$AJ$73,IF(Calcs!AC246=6,'+Options'!$AI$73,0)))))),0)","v":0},{"$f":"IF(Calcs!L40<>\"\",IF(Calcs!AD246=1,'+Options'!$AG$73,IF(Calcs!AD246=2,'+Options'!$AH$73,IF(Calcs!AD246=3,'+Options'!$AK$73,IF(Calcs!AD246=4,'+Options'!$AL$73,IF(Calcs!AD246=5,'+Options'!$AJ$73,IF(Calcs!AD246=6,'+Options'!$AI$73,0)))))),0)","v":0},null,"2004-05-01",{"$f":"'Bio results'!G3","v":0},{"$f":"'Bio results'!G12","v":0},null,null,null,"2004-05-01",0,0,null,null,null,"2004-05-01",0,0]
[null,null,"Yield benefit for mouldboarding (%)",0,0,0,0,0,0,0,0,0,0,null,"2004-05-10",{"$f":"'Bio results'!G4","v":0},{"$f":"'Bio results'!G13","v":0},null,null,null,"2004-05-10",0,0,null,null,null,"2004-05-10",0,0]
[null,null,"Yield benefit for early sowing (if any) (%)",{"$f":"IF(OR(Calcs!C21<>\"\",Calcs!C22<>\"\"),IF(Calcs!U246=1,'+Options'!$AG$66,IF(Calcs!U246=2,'+Options'!$AH$66,IF(Calcs!U246=3,'+Options'!$AK$66,IF(Calcs!U246=4,'+Options'!$AL$66,IF(Calcs!U246=5,'+Options'!$AJ$66,IF(Calcs!U246=6,'+Options'!$AI$66,0)))))),0)","v":0},{"$f":"IF(OR(Calcs!D21<>\"\",Calcs!D22<>\"\"),IF(Calcs!V246=1,'+Options'!$AG$66,IF(Calcs!V246=2,'+Options'!$AH$66,IF(Calcs!V246=3,'+Options'!$AK$66,IF(Calcs!V246=4,'+Options'!$AL$66,IF(Calcs!V246=5,'+Options'!$AJ$66,IF(Calcs!V246=6,'+Options'!$AI$66,0)))))),0)","v":0},{"$f":"IF(OR(Calcs!E21<>\"\",Calcs!E22<>\"\"),IF(Calcs!W246=1,'+Options'!$AG$66,IF(Calcs!W246=2,'+Options'!$AH$66,IF(Calcs!W246=3,'+Options'!$AK$66,IF(Calcs!W246=4,'+Options'!$AL$66,IF(Calcs!W246=5,'+Options'!$AJ$66,IF(Calcs!W246=6,'+Options'!$AI$66,0)))))),0)","v":0},{"$f":"IF(OR(Calcs!F21<>\"\",Calcs!F22<>\"\"),IF(Calcs!X246=1,'+Options'!$AG$66,IF(Calcs!X246=2,'+Options'!$AH$66,IF(Calcs!X246=3,'+Options'!$AK$66,IF(Calcs!X246=4,'+Options'!$AL$66,IF(Calcs!X246=5,'+Options'!$AJ$66,IF(Calcs!X246=6,'+Options'!$AI$66,0)))))),0)","v":0},{"$f":"IF(OR(Calcs!G21<>\"\",Calcs!G22<>\"\"),IF(Calcs!Y246=1,'+Options'!$AG$66,IF(Calcs!Y246=2,'+Options'!$AH$66,IF(Calcs!Y246=3,'+Options'!$AK$66,IF(Calcs!Y246=4,'+Options'!$AL$66,IF(Calcs!Y246=5,'+Options'!$AJ$66,IF(Calcs!Y246=6,'+Options'!$AI$66,0)))))),0)","v":0},{"$f":"IF(OR(Calcs!H21<>\"\",Calcs!H22<>\"\"),IF(Calcs!Z246=1,'+Options'!$AG$66,IF(Calcs!Z246=2,'+Options'!$AH$66,IF(Calcs!Z246=3,'+Options'!$AK$66,IF(Calcs!Z246=4,'+Options'!$AL$66,IF(Calcs!Z246=5,'+Options'!$AJ$66,IF(Calcs!Z246=6,'+Options'!$AI$66,0)))))),0)","v":0},{"$f":"IF(OR(Calcs!I21<>\"\",Calcs!I22<>\"\"),IF(Calcs!AA246=1,'+Options'!$AG$66,IF(Calcs!AA246=2,'+Options'!$AH$66,IF(Calcs!AA246=3,'+Options'!$AK$66,IF(Calcs!AA246=4,'+Options'!$AL$66,IF(Calcs!AA246=5,'+Options'!$AJ$66,IF(Calcs!AA246=6,'+Options'!$AI$66,0)))))),0)","v":0},{"$f":"IF(OR(Calcs!J21<>\"\",Calcs!J22<>\"\"),IF(Calcs!AB246=1,'+Options'!$AG$66,IF(Calcs!AB246=2,'+Options'!$AH$66,IF(Calcs!AB246=3,'+Options'!$AK$66,IF(Calcs!AB246=4,'+Options'!$AL$66,IF(Calcs!AB246=5,'+Options'!$AJ$66,IF(Calcs!AB246=6,'+Options'!$AI$66,0)))))),0)","v":0},{"$f":"IF(OR(Calcs!K21<>\"\",Calcs!K22<>\"\"),IF(Calcs!AC246=1,'+Options'!$AG$66,IF(Calcs!AC246=2,'+Options'!$AH$66,IF(Calcs!AC246=3,'+Options'!$AK$66,IF(Calcs!AC246=4,'+Options'!$AL$66,IF(Calcs!AC246=5,'+Options'!$AJ$66,IF(Calcs!AC246=6,'+Options'!$AI$66,0)))))),0)","v":0},{"$f":"IF(OR(Calcs!L21<>\"\",Calcs!L22<>\"\"),IF(Calcs!AD246=1,'+Options'!$AG$66,IF(Calcs!AD246=2,'+Options'!$AH$66,IF(Calcs!AD246=3,'+Options'!$AK$66,IF(Calcs!AD246=4,'+Options'!$AL$66,IF(Calcs!AD246=5,'+Options'!$AJ$66,IF(Calcs!AD246=6,'+Options'!$AI$66,0)))))),0)","v":0},null,"2004-05-20",{"$f":"'Bio results'!G5","v":0},{"$f":"'Bio results'!G14","v":0},null,null,null,"2004-05-20",0,0,null,null,null,"2004-05-20",0,0]
[null,null,"Yield benefit from previous green/brown manuring/mow (%)",0,0,0,0,0,0,0,0,0,0,null,"2004-06-10",{"$f":"'Bio results'!G6","v":0},{"$f":"'Bio results'!G15","v":0},null,null,null,"2004-06-10",0,0,null,null,null,"2004-06-10",0,0]
[null,null,"Weed-free yield - Winter Crop (t/ha)",{"$f":"IF(Calcs!U246=1,VLOOKUP(Calcs!U251,Calcs!$Q255:$T304,3)*(1-D$25-D$26-D$27-D$28+D29+D$30+D$31),0)","v":0},{"$f":"IF(Calcs!V246=1,VLOOKUP(Calcs!V251,Calcs!$Q255:$T304,3)*(1-E$25-E$26-E$27-E$28+E29+E$30+E$31),0)","v":0},{"$f":"IF(Calcs!W246=1,VLOOKUP(Calcs!W251,Calcs!$Q255:$T304,3)*(1-F$25-F$26-F$27-F$28+F29+F$30+F$31),0)","v":0},{"$f":"IF(Calcs!X246=1,VLOOKUP(Calcs!X251,Calcs!$Q255:$T304,3)*(1-G$25-G$26-G$27-G$28+G29+G$30+G$31),0)","v":0},{"$f":"IF(Calcs!Y246=1,VLOOKUP(Calcs!Y251,Calcs!$Q255:$T304,3)*(1-H$25-H$26-H$27-H$28+H29+H$30+H$31),0)","v":0},{"$f":"IF(Calcs!Z246=1,VLOOKUP(Calcs!Z251,Calcs!$Q255:$T304,3)*(1-I$25-I$26-I$27-I$28+I29+I$30+I$31),0)","v":0},{"$f":"IF(Calcs!AA246=1,VLOOKUP(Calcs!AA251,Calcs!$Q255:$T304,3)*(1-J$25-J$26-J$27-J$28+J29+J$30+J$31),0)","v":0},{"$f":"IF(Calcs!AB246=1,VLOOKUP(Calcs!AB251,Calcs!$Q255:$T304,3)*(1-K$25-K$26-K$27-K$28+K29+K$30+K$31),0)","v":0},{"$f":"IF(Calcs!AC246=1,VLOOKUP(Calcs!AC251,Calcs!$Q255:$T304,3)*(1-L$25-L$26-L$27-L$28+L29+L$30+L$31),0)","v":0},{"$f":"IF(Calcs!AD246=1,VLOOKUP(Calcs!AD251,Calcs!$Q255:$T304,3)*(1-M$25-M$26-M$27-M$28+M29+M$30+M$31),0)","v":0},null,"2004-09-01",{"$f":"'Bio results'!G7","v":0},{"$f":"'Bio results'!G16","v":0},null,null,null,"2004-09-01",0,0,null,null,null,"2004-09-01",0,0]
[null,null,"Weed-free yield - Sorghum (t/ha)",{"$f":"IF(Calcs!U246=2,VLOOKUP(Calcs!U251,Calcs!$Q255:$T304,3)*(1-D$25-D$26-D$27-D$28+D30+D$30+D$31),0)","v":0},{"$f":"IF(Calcs!V246=2,VLOOKUP(Calcs!V251,Calcs!$Q255:$T304,3)*(1-E$25-E$26-E$27-E$28+E30+E$30+E$31),0)","v":0},{"$f":"IF(Calcs!W246=2,VLOOKUP(Calcs!W251,Calcs!$Q255:$T304,3)*(1-F$25-F$26-F$27-F$28+F30+F$30+F$31),0)","v":0},{"$f":"IF(Calcs!X246=2,VLOOKUP(Calcs!X251,Calcs!$Q255:$T304,3)*(1-G$25-G$26-G$27-G$28+G30+G$30+G$31),0)","v":0},{"$f":"IF(Calcs!Y246=2,VLOOKUP(Calcs!Y251,Calcs!$Q255:$T304,3)*(1-H$25-H$26-H$27-H$28+H30+H$30+H$31),0)","v":0},{"$f":"IF(Calcs!Z246=2,VLOOKUP(Calcs!Z251,Calcs!$Q255:$T304,3)*(1-I$25-I$26-I$27-I$28+I30+I$30+I$31),0)","v":0},{"$f":"IF(Calcs!AA246=2,VLOOKUP(Calcs!AA251,Calcs!$Q255:$T304,3)*(1-J$25-J$26-J$27-J$28+J30+J$30+J$31),0)","v":0},{"$f":"IF(Calcs!AB246=2,VLOOKUP(Calcs!AB251,Calcs!$Q255:$T304,3)*(1-K$25-K$26-K$27-K$28+K30+K$30+K$31),0)","v":0},{"$f":"IF(Calcs!AC246=2,VLOOKUP(Calcs!AC251,Calcs!$Q255:$T304,3)*(1-L$25-L$26-L$27-L$28+L30+L$30+L$31),0)","v":0},{"$f":"IF(Calcs!AD246=2,VLOOKUP(Calcs!AD251,Calcs!$Q255:$T304,3)*(1-M$25-M$26-M$27-M$28+M30+M$30+M$31),0)","v":0},null,"2004-10-01",{"$f":"'Bio results'!G8","v":0},{"$f":"'Bio results'!G20","v":0},null,null,null,"2004-10-01",0,0,null,null,null,"2004-10-01",0,0]
[null,null,"Weed-free yield - D/L Cotton (t/ha)",{"$f":"IF(Calcs!U246=5,VLOOKUP(Calcs!U251,Calcs!$Q255:$T304,3)*(1-D$25-D$26-D$27-D$28+D31+D$30+D$31),0)","v":0},{"$f":"IF(Calcs!V246=5,VLOOKUP(Calcs!V251,Calcs!$Q255:$T304,3)*(1-E$25-E$26-E$27-E$28+E31+E$30+E$31),0)","v":0},{"$f":"IF(Calcs!W246=5,VLOOKUP(Calcs!W251,Calcs!$Q255:$T304,3)*(1-F$25-F$26-F$27-F$28+F31+F$30+F$31),0)","v":0},{"$f":"IF(Calcs!X246=5,VLOOKUP(Calcs!X251,Calcs!$Q255:$T304,3)*(1-G$25-G$26-G$27-G$28+G31+G$30+G$31),0)","v":0},{"$f":"IF(Calcs!Y246=5,VLOOKUP(Calcs!Y251,Calcs!$Q255:$T304,3)*(1-H$25-H$26-H$27-H$28+H31+H$30+H$31),0)","v":0},{"$f":"IF(Calcs!Z246=5,VLOOKUP(Calcs!Z251,Calcs!$Q255:$T304,3)*(1-I$25-I$26-I$27-I$28+I31+I$30+I$31),0)","v":0},{"$f":"IF(Calcs!AA246=5,VLOOKUP(Calcs!AA251,Calcs!$Q255:$T304,3)*(1-J$25-J$26-J$27-J$28+J31+J$30+J$31),0)","v":0},{"$f":"IF(Calcs!AB246=5,VLOOKUP(Calcs!AB251,Calcs!$Q255:$T304,3)*(1-K$25-K$26-K$27-K$28+K31+K$30+K$31),0)","v":0},{"$f":"IF(Calcs!AC246=5,VLOOKUP(Calcs!AC251,Calcs!$Q255:$T304,3)*(1-L$25-L$26-L$27-L$28+L31+L$30+L$31),0)","v":0},{"$f":"IF(Calcs!AD246=5,VLOOKUP(Calcs!AD251,Calcs!$Q255:$T304,3)*(1-M$25-M$26-M$27-M$28+M31+M$30+M$31),0)","v":0},null,"2004-11-01",0,{"$f":"'Bio results'!G21","v":0},null,null,null,"2004-11-01",0,0,null,null,null,"2004-11-01",0,0]
[null,null,"Weed-free yield - Corn (t/ha)",{"$f":"IF(Calcs!U246=3,VLOOKUP(Calcs!U251,Calcs!$Q255:$T304,3)*(1-D$25-D$26-D$27-D$28+D32+D$30+D$31),0)","v":0},{"$f":"IF(Calcs!V246=3,VLOOKUP(Calcs!V251,Calcs!$Q255:$T304,3)*(1-E$25-E$26-E$27-E$28+E32+E$30+E$31),0)","v":0},{"$f":"IF(Calcs!W246=3,VLOOKUP(Calcs!W251,Calcs!$Q255:$T304,3)*(1-F$25-F$26-F$27-F$28+F32+F$30+F$31),0)","v":0},{"$f":"IF(Calcs!X246=3,VLOOKUP(Calcs!X251,Calcs!$Q255:$T304,3)*(1-G$25-G$26-G$27-G$28+G32+G$30+G$31),0)","v":0},{"$f":"IF(Calcs!Y246=3,VLOOKUP(Calcs!Y251,Calcs!$Q255:$T304,3)*(1-H$25-H$26-H$27-H$28+H32+H$30+H$31),0)","v":0},{"$f":"IF(Calcs!Z246=3,VLOOKUP(Calcs!Z251,Calcs!$Q255:$T304,3)*(1-I$25-I$26-I$27-I$28+I32+I$30+I$31),0)","v":0},{"$f":"IF(Calcs!AA246=3,VLOOKUP(Calcs!AA251,Calcs!$Q255:$T304,3)*(1-J$25-J$26-J$27-J$28+J32+J$30+J$31),0)","v":0},{"$f":"IF(Calcs!AB246=3,VLOOKUP(Calcs!AB251,Calcs!$Q255:$T304,3)*(1-K$25-K$26-K$27-K$28+K32+K$30+K$31),0)","v":0},{"$f":"IF(Calcs!AC246=3,VLOOKUP(Calcs!AC251,Calcs!$Q255:$T304,3)*(1-L$25-L$26-L$27-L$28+L32+L$30+L$31),0)","v":0},{"$f":"IF(Calcs!AD246=3,VLOOKUP(Calcs!AD251,Calcs!$Q255:$T304,3)*(1-M$25-M$26-M$27-M$28+M32+M$30+M$31),0)","v":0},null,"2005-04-01",0,{"$f":"'Bio results'!H11","v":1268.954835023859},null,null,null,38443,0,1268.954835023859,null,null,null,"2005-04-01",0,1268.954835023859]
[null,null,"Weed-free yield Irrigated Cotton (t/ha)",{"$f":"IF(Calcs!U246=6,VLOOKUP(Calcs!U251,Calcs!$Q255:$T304,3)*(1-D$25-D$26-D$27-D$28+D33+D$30+D$31),0)","v":2.98732},{"$f":"IF(Calcs!V246=6,VLOOKUP(Calcs!V251,Calcs!$Q255:$T304,3)*(1-E$25-E$26-E$27-E$28+E33+E$30+E$31),0)","v":0},{"$f":"IF(Calcs!W246=6,VLOOKUP(Calcs!W251,Calcs!$Q255:$T304,3)*(1-F$25-F$26-F$27-F$28+F33+F$30+F$31),0)","v":3.0508799999999998},{"$f":"IF(Calcs!X246=6,VLOOKUP(Calcs!X251,Calcs!$Q255:$T304,3)*(1-G$25-G$26-G$27-G$28+G33+G$30+G$31),0)","v":0},{"$f":"IF(Calcs!Y246=6,VLOOKUP(Calcs!Y251,Calcs!$Q255:$T304,3)*(1-H$25-H$26-H$27-H$28+H33+H$30+H$31),0)","v":2.9237600000000001},{"$f":"IF(Calcs!Z246=6,VLOOKUP(Calcs!Z251,Calcs!$Q255:$T304,3)*(1-I$25-I$26-I$27-I$28+I33+I$30+I$31),0)","v":0},{"$f":"IF(Calcs!AA246=6,VLOOKUP(Calcs!AA251,Calcs!$Q255:$T304,3)*(1-J$25-J$26-J$27-J$28+J33+J$30+J$31),0)","v":3.1144400000000001},{"$f":"IF(Calcs!AB246=6,VLOOKUP(Calcs!AB251,Calcs!$Q255:$T304,3)*(1-K$25-K$26-K$27-K$28+K33+K$30+K$31),0)","v":0},{"$f":"IF(Calcs!AC246=6,VLOOKUP(Calcs!AC251,Calcs!$Q255:$T304,3)*(1-L$25-L$26-L$27-L$28+L33+L$30+L$31),0)","v":3.1144400000000001},{"$f":"IF(Calcs!AD246=6,VLOOKUP(Calcs!AD251,Calcs!$Q255:$T304,3)*(1-M$25-M$26-M$27-M$28+M33+M$30+M$31),0)","v":0},null,"2005-05-01",{"$f":"'Bio results'!H3","v":22.84118703042946},{"$f":"'Bio results'!H12","v":1246.1136479934296},null,null,null,"2005-05-01",22.84118703042946,1246.1136479934296,null,null,null,"2005-05-01",22.84118703042946,1246.1136479934296]
[null,null,"Weed-free yield - Beans (t/ha)",{"$f":"IF(Calcs!U246=4,VLOOKUP(Calcs!U251,Calcs!$Q255:$T304,3)*(1-D$25-D$26-D$27-D$28+D34+D$30+D$31),0)","v":0},{"$f":"IF(Calcs!V246=4,VLOOKUP(Calcs!V251,Calcs!$Q255:$T304,3)*(1-E$25-E$26-E$27-E$28+E34+E$30+E$31),0)","v":0},{"$f":"IF(Calcs!W246=4,VLOOKUP(Calcs!W251,Calcs!$Q255:$T304,3)*(1-F$25-F$26-F$27-F$28+F34+F$30+F$31),0)","v":0},{"$f":"IF(Calcs!X246=4,VLOOKUP(Calcs!X251,Calcs!$Q255:$T304,3)*(1-G$25-G$26-G$27-G$28+G34+G$30+G$31),0)","v":0},{"$f":"IF(Calcs!Y246=4,VLOOKUP(Calcs!Y251,Calcs!$Q255:$T304,3)*(1-H$25-H$26-H$27-H$28+H34+H$30+H$31),0)","v":0},{"$f":"IF(Calcs!Z246=4,VLOOKUP(Calcs!Z251,Calcs!$Q255:$T304,3)*(1-I$25-I$26-I$27-I$28+I34+I$30+I$31),0)","v":0},{"$f":"IF(Calcs!AA246=4,VLOOKUP(Calcs!AA251,Calcs!$Q255:$T304,3)*(1-J$25-J$26-J$27-J$28+J34+J$30+J$31),0)","v":0},{"$f":"IF(Calcs!AB246=4,VLOOKUP(Calcs!AB251,Calcs!$Q255:$T304,3)*(1-K$25-K$26-K$27-K$28+K34+K$30+K$31),0)","v":0},{"$f":"IF(Calcs!AC246=4,VLOOKUP(Calcs!AC251,Calcs!$Q255:$T304,3)*(1-L$25-L$26-L$27-L$28+L34+L$30+L$31),0)","v":0},{"$f":"IF(Calcs!AD246=4,VLOOKUP(Calcs!AD251,Calcs!$Q255:$T304,3)*(1-M$25-M$26-M$27-M$28+M34+M$30+M$31),0)","v":0},null,"2005-05-10",{"$f":"'Bio results'!H4","v":28.594493743215125},{"$f":"'Bio results'!H13","v":363.74057384928216},null,null,null,"2005-05-10",28.594493743215125,363.74057384928216,null,null,null,"2005-05-10",28.594493743215125,363.74057384928216]
[null,null,"Crop plant density - Winter Crop (plants/m2)",{"$f":"IF(Calcs!U246=1,IF(Calcs!C17<>\"\",'+Options'!$AG$59,'+Options'!$AG$58),0)","v":0},{"$f":"IF(Calcs!V246=1,IF(Calcs!D17<>\"\",'+Options'!$AG$59,'+Options'!$AG$58),0)","v":0},{"$f":"IF(Calcs!W246=1,IF(Calcs!E17<>\"\",'+Options'!$AG$59,'+Options'!$AG$58),0)","v":0},{"$f":"IF(Calcs!X246=1,IF(Calcs!F17<>\"\",'+Options'!$AG$59,'+Options'!$AG$58),0)","v":0},{"$f":"IF(Calcs!Y246=1,IF(Calcs!G17<>\"\",'+Options'!$AG$59,'+Options'!$AG$58),0)","v":0},{"$f":"IF(Calcs!Z246=1,IF(Calcs!H17<>\"\",'+Options'!$AG$59,'+Options'!$AG$58),0)","v":0},{"$f":"IF(Calcs!AA246=1,IF(Calcs!I17<>\"\",'+Options'!$AG$59,'+Options'!$AG$58),0)","v":0},{"$f":"IF(Calcs!AB246=1,IF(Calcs!J17<>\"\",'+Options'!$AG$59,'+Options'!$AG$58),0)","v":0},{"$f":"IF(Calcs!AC246=1,IF(Calcs!K17<>\"\",'+Options'!$AG$59,'+Options'!$AG$58),0)","v":0},{"$f":"IF(Calcs!AD246=1,IF(Calcs!L17<>\"\",'+Options'!$AG$59,'+Options'!$AG$58),0)","v":0},null,"2005-05-20",{"$f":"'Bio results'!H5","v":0.97874576191255314},{"$f":"'Bio results'!H14","v":358.28446524154293},null,null,null,"2005-05-20",0.97874576191255314,358.28446524154293,null,null,null,"2005-05-20",0.97874576191255314,358.28446524154293]
[null,null,"Crop plant density - Sorghum (plants/m2)",{"$f":"IF(Calcs!U246=2,IF(Calcs!C17<>\"\",'+Options'!$AH$59,'+Options'!$AH$58),0)","v":0},{"$f":"IF(Calcs!V246=2,IF(Calcs!D17<>\"\",'+Options'!$AH$59,'+Options'!$AH$58),0)","v":0},{"$f":"IF(Calcs!W246=2,IF(Calcs!E17<>\"\",'+Options'!$AH$59,'+Options'!$AH$58),0)","v":0},{"$f":"IF(Calcs!X246=2,IF(Calcs!F17<>\"\",'+Options'!$AH$59,'+Options'!$AH$58),0)","v":0},{"$f":"IF(Calcs!Y246=2,IF(Calcs!G17<>\"\",'+Options'!$AH$59,'+Options'!$AH$58),0)","v":0},{"$f":"IF(Calcs!Z246=2,IF(Calcs!H17<>\"\",'+Options'!$AH$59,'+Options'!$AH$58),0)","v":0},{"$f":"IF(Calcs!AA246=2,IF(Calcs!I17<>\"\",'+Options'!$AH$59,'+Options'!$AH$58),0)","v":0},{"$f":"IF(Calcs!AB246=2,IF(Calcs!J17<>\"\",'+Options'!$AH$59,'+Options'!$AH$58),0)","v":0},{"$f":"IF(Calcs!AC246=2,IF(Calcs!K17<>\"\",'+Options'!$AH$59,'+Options'!$AH$58),0)","v":0},{"$f":"IF(Calcs!AD246=2,IF(Calcs!L17<>\"\",'+Options'!$AH$59,'+Options'!$AH$58),0)","v":0},null,"2005-06-10",{"$f":"'Bio results'!H6","v":1.0292035849964896},{"$f":"'Bio results'!H15","v":352.55191379767825},null,null,null,"2005-06-10",1.0292035849964896,352.55191379767825,null,null,null,"2005-06-10",1.0292035849964896,352.55191379767825]
[null,null,"Crop plant density - D/L Cotton (plants/m2)",{"$f":"IF(Calcs!U246=5,IF(Calcs!C17<>\"\",'+Options'!$AJ$59,'+Options'!$AJ$58),0)","v":0},{"$f":"IF(Calcs!V246=5,IF(Calcs!D17<>\"\",'+Options'!$AJ$59,'+Options'!$AJ$58),0)","v":0},{"$f":"IF(Calcs!W246=5,IF(Calcs!E17<>\"\",'+Options'!$AJ$59,'+Options'!$AJ$58),0)","v":0},{"$f":"IF(Calcs!X246=5,IF(Calcs!F17<>\"\",'+Options'!$AJ$59,'+Options'!$AJ$58),0)","v":0},{"$f":"IF(Calcs!Y246=5,IF(Calcs!G17<>\"\",'+Options'!$AJ$59,'+Options'!$AJ$58),0)","v":0},{"$f":"IF(Calcs!Z246=5,IF(Calcs!H17<>\"\",'+Options'!$AJ$59,'+Options'!$AJ$58),0)","v":0},{"$f":"IF(Calcs!AA246=5,IF(Calcs!I17<>\"\",'+Options'!$AJ$59,'+Options'!$AJ$58),0)","v":0},{"$f":"IF(Calcs!AB246=5,IF(Calcs!J17<>\"\",'+Options'!$AJ$59,'+Options'!$AJ$58),0)","v":0},{"$f":"IF(Calcs!AC246=5,IF(Calcs!K17<>\"\",'+Options'!$AJ$59,'+Options'!$AJ$58),0)","v":0},{"$f":"IF(Calcs!AD246=5,IF(Calcs!L17<>\"\",'+Options'!$AJ$59,'+Options'!$AJ$58),0)","v":0},null,"2005-09-01",{"$f":"'Bio results'!H7","v":3.321687142211097},{"$f":"'Bio results'!H16","v":174.68947328674957},null,null,null,"2005-09-01",3.321687142211097,174.68947328674957,null,null,null,"2005-09-01",3.321687142211097,174.68947328674957]
[null,null,"Crop plant density - Irrigated Cotton (plants/m2)",{"$f":"IF(Calcs!U246=6,IF(Calcs!C17<>\"\",'+Options'!$AI$59,'+Options'!$AI$58),0)","v":12.589473684210526},{"$f":"IF(Calcs!V246=6,IF(Calcs!D17<>\"\",'+Options'!$AI$59,'+Options'!$AI$58),0)","v":0},{"$f":"IF(Calcs!W246=6,IF(Calcs!E17<>\"\",'+Options'!$AI$59,'+Options'!$AI$58),0)","v":12.589473684210526},{"$f":"IF(Calcs!X246=6,IF(Calcs!F17<>\"\",'+Options'!$AI$59,'+Options'!$AI$58),0)","v":0},{"$f":"IF(Calcs!Y246=6,IF(Calcs!G17<>\"\",'+Options'!$AI$59,'+Options'!$AI$58),0)","v":12.589473684210526},{"$f":"IF(Calcs!Z246=6,IF(Calcs!H17<>\"\",'+Options'!$AI$59,'+Options'!$AI$58),0)","v":0},{"$f":"IF(Calcs!AA246=6,IF(Calcs!I17<>\"\",'+Options'!$AI$59,'+Options'!$AI$58),0)","v":12.589473684210526},{"$f":"IF(Calcs!AB246=6,IF(Calcs!J17<>\"\",'+Options'!$AI$59,'+Options'!$AI$58),0)","v":0},{"$f":"IF(Calcs!AC246=6,IF(Calcs!K17<>\"\",'+Options'!$AI$59,'+Options'!$AI$58),0)","v":12.589473684210526},{"$f":"IF(Calcs!AD246=6,IF(Calcs!L17<>\"\",'+Options'!$AI$59,'+Options'!$AI$58),0)","v":0},null,"2005-10-01",{"$f":"'Bio results'!H8","v":2.8234340708794323},{"$f":"'Bio results'!H20","v":54.185112542039988},null,null,null,"2005-10-01",2.8234340708794323,54.185112542039988,null,null,null,"2005-10-01",2.8234340708794323,54.185112542039988]
[null,null,"Crop plant density - Corn (plants/m2)",{"$f":"IF(Calcs!U246=3,IF(Calcs!C17<>\"\",'+Options'!$AK$59,'+Options'!$AK$58),0)","v":0},{"$f":"IF(Calcs!V246=3,IF(Calcs!D17<>\"\",'+Options'!$AK$59,'+Options'!$AK$58),0)","v":0},{"$f":"IF(Calcs!W246=3,IF(Calcs!E17<>\"\",'+Options'!$AK$59,'+Options'!$AK$58),0)","v":0},{"$f":"IF(Calcs!X246=3,IF(Calcs!F17<>\"\",'+Options'!$AK$59,'+Options'!$AK$58),0)","v":0},{"$f":"IF(Calcs!Y246=3,IF(Calcs!G17<>\"\",'+Options'!$AK$59,'+Options'!$AK$58),0)","v":0},{"$f":"IF(Calcs!Z246=3,IF(Calcs!H17<>\"\",'+Options'!$AK$59,'+Options'!$AK$58),0)","v":0},{"$f":"IF(Calcs!AA246=3,IF(Calcs!I17<>\"\",'+Options'!$AK$59,'+Options'!$AK$58),0)","v":0},{"$f":"IF(Calcs!AB246=3,IF(Calcs!J17<>\"\",'+Options'!$AK$59,'+Options'!$AK$58),0)","v":0},{"$f":"IF(Calcs!AC246=3,IF(Calcs!K17<>\"\",'+Options'!$AK$59,'+Options'!$AK$58),0)","v":0},{"$f":"IF(Calcs!AD246=3,IF(Calcs!L17<>\"\",'+Options'!$AK$59,'+Options'!$AK$58),0)","v":0},null,"2005-11-01",0,{"$f":"'Bio results'!H21","v":228.87458582878958},null,null,null,"2005-11-01",0,228.87458582878958,null,null,null,"2005-11-01",0,228.87458582878958]
[null,null,"Crop plant density - Beans (plants/m2)",{"$f":"IF(Calcs!U246=4,IF(Calcs!C17<>\"\",'+Options'!$AL$59,'+Options'!$AL$58),0)","v":0},{"$f":"IF(Calcs!V246=4,IF(Calcs!D17<>\"\",'+Options'!$AL$59,'+Options'!$AL$58),0)","v":0},{"$f":"IF(Calcs!W246=4,IF(Calcs!E17<>\"\",'+Options'!$AL$59,'+Options'!$AL$58),0)","v":0},{"$f":"IF(Calcs!X246=4,IF(Calcs!F17<>\"\",'+Options'!$AL$59,'+Options'!$AL$58),0)","v":0},{"$f":"IF(Calcs!Y246=4,IF(Calcs!G17<>\"\",'+Options'!$AL$59,'+Options'!$AL$58),0)","v":0},{"$f":"IF(Calcs!Z246=4,IF(Calcs!H17<>\"\",'+Options'!$AL$59,'+Options'!$AL$58),0)","v":0},{"$f":"IF(Calcs!AA246=4,IF(Calcs!I17<>\"\",'+Options'!$AL$59,'+Options'!$AL$58),0)","v":0},{"$f":"IF(Calcs!AB246=4,IF(Calcs!J17<>\"\",'+Options'!$AL$59,'+Options'!$AL$58),0)","v":0},{"$f":"IF(Calcs!AC246=4,IF(Calcs!K17<>\"\",'+Options'!$AL$59,'+Options'!$AL$58),0)","v":0},{"$f":"IF(Calcs!AD246=4,IF(Calcs!L17<>\"\",'+Options'!$AL$59,'+Options'!$AL$58),0)","v":0},null,"2006-04-01",0,{"$f":"'Bio results'!I11","v":0},null,null,null,38808,0,0,null,null,null,"2006-04-01",0,0]
[null,null,"Prop'n of weed-free yield with weeds - Winter Crop",{"$f":"IF(Calcs!U246=1,IF(COUNT(Calcs!C7:C16,Calcs!C25:C52)>4,1,0.62+(0.12*COUNT(Calcs!C7:C16,Calcs!C25:C52))),0)","v":0},{"$f":"IF(Calcs!V246=1,IF(COUNT(Calcs!D7:D16,Calcs!D25:D52)>4,1,0.62+(0.12*COUNT(Calcs!D7:D16,Calcs!D25:D52))),0)","v":0},{"$f":"IF(Calcs!W246=1,IF(COUNT(Calcs!E7:E16,Calcs!E25:E52)>4,1,0.62+(0.12*COUNT(Calcs!E7:E16,Calcs!E25:E52))),0)","v":0},{"$f":"IF(Calcs!X246=1,IF(COUNT(Calcs!F7:F16,Calcs!F25:F52)>4,1,0.62+(0.12*COUNT(Calcs!F7:F16,Calcs!F25:F52))),0)","v":0},{"$f":"IF(Calcs!Y246=1,IF(COUNT(Calcs!G7:G16,Calcs!G25:G52)>4,1,0.62+(0.12*COUNT(Calcs!G7:G16,Calcs!G25:G52))),0)","v":0},{"$f":"IF(Calcs!Z246=1,IF(COUNT(Calcs!H7:H16,Calcs!H25:H52)>4,1,0.62+(0.12*COUNT(Calcs!H7:H16,Calcs!H25:H52))),0)","v":0},{"$f":"IF(Calcs!AA246=1,IF(COUNT(Calcs!I7:I16,Calcs!I25:I52)>4,1,0.62+(0.12*COUNT(Calcs!I7:I16,Calcs!I25:I52))),0)","v":0},{"$f":"IF(Calcs!AB246=1,IF(COUNT(Calcs!J7:J16,Calcs!J25:J52)>4,1,0.62+(0.12*COUNT(Calcs!J7:J16,Calcs!J25:J52))),0)","v":0},{"$f":"IF(Calcs!AC246=1,IF(COUNT(Calcs!K7:K16,Calcs!K25:K52)>4,1,0.62+(0.12*COUNT(Calcs!K7:K16,Calcs!K25:K52))),0)","v":0},{"$f":"IF(Calcs!AD246=1,IF(COUNT(Calcs!L7:L16,Calcs!L25:L52)>4,1,0.62+(0.12*COUNT(Calcs!L7:L16,Calcs!L25:L52))),0)","v":0},null,"2006-05-01",{"$f":"'Bio results'!I3","v":0},{"$f":"'Bio results'!I12","v":0},null,null,null,"2006-05-01",0,0,null,null,null,"2006-05-01",0,0]
[null,null,"Prop'n of weed-free yield with weeds - Sorghum",{"$f":"IF(Calcs!U246=2,(1+'+Options'!$AH$88/'+Options'!$AH$87)*D39/('+Options'!$AH$88+D39+'+Options'!$AG$136*'Bio results'!D7)*'+Options'!$AH$85+(1-'+Options'!$AH$85),0)","v":0},{"$f":"IF(Calcs!V246=2,(1+'+Options'!$AH$88/'+Options'!$AH$87)*E39/('+Options'!$AH$88+E39+'+Options'!$AG$136*'Bio results'!E7)*'+Options'!$AH$85+(1-'+Options'!$AH$85),0)","v":0},{"$f":"IF(Calcs!W246=2,(1+'+Options'!$AH$88/'+Options'!$AH$87)*F39/('+Options'!$AH$88+F39+'+Options'!$AG$136*'Bio results'!F7)*'+Options'!$AH$85+(1-'+Options'!$AH$85),0)","v":0},{"$f":"IF(Calcs!X246=2,(1+'+Options'!$AH$88/'+Options'!$AH$87)*G39/('+Options'!$AH$88+G39+'+Options'!$AG$136*'Bio results'!G7)*'+Options'!$AH$85+(1-'+Options'!$AH$85),0)","v":0},{"$f":"IF(Calcs!Y246=2,(1+'+Options'!$AH$88/'+Options'!$AH$87)*H39/('+Options'!$AH$88+H39+'+Options'!$AG$136*'Bio results'!H7)*'+Options'!$AH$85+(1-'+Options'!$AH$85),0)","v":0},{"$f":"IF(Calcs!Z246=2,(1+'+Options'!$AH$88/'+Options'!$AH$87)*I39/('+Options'!$AH$88+I39+'+Options'!$AG$136*'Bio results'!I7)*'+Options'!$AH$85+(1-'+Options'!$AH$85),0)","v":0},{"$f":"IF(Calcs!AA246=2,(1+'+Options'!$AH$88/'+Options'!$AH$87)*J39/('+Options'!$AH$88+J39+'+Options'!$AG$136*'Bio results'!J7)*'+Options'!$AH$85+(1-'+Options'!$AH$85),0)","v":0},{"$f":"IF(Calcs!AB246=2,(1+'+Options'!$AH$88/'+Options'!$AH$87)*K39/('+Options'!$AH$88+K39+'+Options'!$AG$136*'Bio results'!K7)*'+Options'!$AH$85+(1-'+Options'!$AH$85),0)","v":0},{"$f":"IF(Calcs!AC246=2,(1+'+Options'!$AH$88/'+Options'!$AH$87)*L39/('+Options'!$AH$88+L39+'+Options'!$AG$136*'Bio results'!L7)*'+Options'!$AH$85+(1-'+Options'!$AH$85),0)","v":0},{"$f":"IF(Calcs!AD246=2,(1+'+Options'!$AH$88/'+Options'!$AH$87)*M39/('+Options'!$AH$88+M39+'+Options'!$AG$136*'Bio results'!M7)*'+Options'!$AH$85+(1-'+Options'!$AH$85),0)","v":0},null,"2006-05-10",{"$f":"'Bio results'!I4","v":0},{"$f":"'Bio results'!I13","v":0},null,null,null,"2006-05-10",0,0,null,null,null,"2006-05-10",0,0]
[null,null,"Prop'n of weed-free yield with weeds - D/L Cotton",{"$f":"IF(Calcs!U246=5,(1+'+Options'!$AJ$88/'+Options'!$AJ$87)*D40/('+Options'!$AJ$88+D40+'+Options'!$AG$136*'Bio results'!D7)*'+Options'!$AJ$85+(1-'+Options'!$AJ$85),0)","v":0},{"$f":"IF(Calcs!V246=5,(1+'+Options'!$AJ$88/'+Options'!$AJ$87)*E40/('+Options'!$AJ$88+E40+'+Options'!$AG$136*'Bio results'!E7)*'+Options'!$AJ$85+(1-'+Options'!$AJ$85),0)","v":0},{"$f":"IF(Calcs!W246=5,(1+'+Options'!$AJ$88/'+Options'!$AJ$87)*F40/('+Options'!$AJ$88+F40+'+Options'!$AG$136*'Bio results'!F7)*'+Options'!$AJ$85+(1-'+Options'!$AJ$85),0)","v":0},{"$f":"IF(Calcs!X246=5,(1+'+Options'!$AJ$88/'+Options'!$AJ$87)*G40/('+Options'!$AJ$88+G40+'+Options'!$AG$136*'Bio results'!G7)*'+Options'!$AJ$85+(1-'+Options'!$AJ$85),0)","v":0},{"$f":"IF(Calcs!Y246=5,(1+'+Options'!$AJ$88/'+Options'!$AJ$87)*H40/('+Options'!$AJ$88+H40+'+Options'!$AG$136*'Bio results'!H7)*'+Options'!$AJ$85+(1-'+Options'!$AJ$85),0)","v":0},{"$f":"IF(Calcs!Z246=5,(1+'+Options'!$AJ$88/'+Options'!$AJ$87)*I40/('+Options'!$AJ$88+I40+'+Options'!$AG$136*'Bio results'!I7)*'+Options'!$AJ$85+(1-'+Options'!$AJ$85),0)","v":0},{"$f":"IF(Calcs!AA246=5,(1+'+Options'!$AJ$88/'+Options'!$AJ$87)*J40/('+Options'!$AJ$88+J40+'+Options'!$AG$136*'Bio results'!J7)*'+Options'!$AJ$85+(1-'+Options'!$AJ$85),0)","v":0},{"$f":"IF(Calcs!AB246=5,(1+'+Options'!$AJ$88/'+Options'!$AJ$87)*K40/('+Options'!$AJ$88+K40+'+Options'!$AG$136*'Bio results'!K7)*'+Options'!$AJ$85+(1-'+Options'!$AJ$85),0)","v":0},{"$f":"IF(Calcs!AC246=5,(1+'+Options'!$AJ$88/'+Options'!$AJ$87)*L40/('+Options'!$AJ$88+L40+'+Options'!$AG$136*'Bio results'!L7)*'+Options'!$AJ$85+(1-'+Options'!$AJ$85),0)","v":0},{"$f":"IF(Calcs!AD246=5,(1+'+Options'!$AJ$88/'+Options'!$AJ$87)*M40/('+Options'!$AJ$88+M40+'+Options'!$AG$136*'Bio results'!M7)*'+Options'!$AJ$85+(1-'+Options'!$AJ$85),0)","v":0},null,"2006-05-20",{"$f":"'Bio results'!I5","v":0},{"$f":"'Bio results'!I14","v":0},null,null,null,"2006-05-20",0,0,null,null,null,"2006-05-20",0,0]
[null,null,"Prop'n of weed-free yield with weeds - Irrigated Cotton",{"$f":"IF(Calcs!U246=6,(1+'+Options'!$AI$88/'+Options'!$AI$87)*D41/('+Options'!$AI$88+D41+'+Options'!$AG$137*'Bio results'!D7)*'+Options'!$AI$85+(1-'+Options'!$AI$85),0)","v":0.90800980529323516},{"$f":"IF(Calcs!V246=6,(1+'+Options'!$AI$88/'+Options'!$AI$87)*E41/('+Options'!$AI$88+E41+'+Options'!$AG$137*'Bio results'!E7)*'+Options'!$AI$85+(1-'+Options'!$AI$85),0)","v":0},{"$f":"IF(Calcs!W246=6,(1+'+Options'!$AI$88/'+Options'!$AI$87)*F41/('+Options'!$AI$88+F41+'+Options'!$AG$137*'Bio results'!F7)*'+Options'!$AI$85+(1-'+Options'!$AI$85),0)","v":0.895812737032329},{"$f":"IF(Calcs!X246=6,(1+'+Options'!$AI$88/'+Options'!$AI$87)*G41/('+Options'!$AI$88+G41+'+Options'!$AG$137*'Bio results'!G7)*'+Options'!$AI$85+(1-'+Options'!$AI$85),0)","v":0},{"$f":"IF(Calcs!Y246=6,(1+'+Options'!$AI$88/'+Options'!$AI$87)*H41/('+Options'!$AI$88+H41+'+Options'!$AG$137*'Bio results'!H7)*'+Options'!$AI$85+(1-'+Options'!$AI$85),0)","v":0.89757855093454997},{"$f":"IF(Calcs!Z246=6,(1+'+Options'!$AI$88/'+Options'!$AI$87)*I41/('+Options'!$AI$88+I41+'+Options'!$AG$137*'Bio results'!I7)*'+Options'!$AI$85+(1-'+Options'!$AI$85),0)","v":0},{"$f":"IF(Calcs!AA246=6,(1+'+Options'!$AI$88/'+Options'!$AI$87)*J41/('+Options'!$AI$88+J41+'+Options'!$AG$137*'Bio results'!J7)*'+Options'!$AI$85+(1-'+Options'!$AI$85),0)","v":0.81155633310191588},{"$f":"IF(Calcs!AB246=6,(1+'+Options'!$AI$88/'+Options'!$AI$87)*K41/('+Options'!$AI$88+K41+'+Options'!$AG$137*'Bio results'!K7)*'+Options'!$AI$85+(1-'+Options'!$AI$85),0)","v":0},{"$f":"IF(Calcs!AC246=6,(1+'+Options'!$AI$88/'+Options'!$AI$87)*L41/('+Options'!$AI$88+L41+'+Options'!$AG$137*'Bio results'!L7)*'+Options'!$AI$85+(1-'+Options'!$AI$85),0)","v":0.61304215985118993},{"$f":"IF(Calcs!AD246=6,(1+'+Options'!$AI$88/'+Options'!$AI$87)*M41/('+Options'!$AI$88+M41+'+Options'!$AG$137*'Bio results'!M7)*'+Options'!$AI$85+(1-'+Options'!$AI$85),0)","v":0},null,"2006-06-10",{"$f":"'Bio results'!I6","v":0},{"$f":"'Bio results'!I15","v":0},null,null,null,"2006-06-10",0,0,null,null,null,"2006-06-10",0,0]
[null,null,"Prop'n of weed-free yield with weeds - Corn",{"$f":"IF(Calcs!U246=3,(1+'+Options'!$AK$88/'+Options'!$AK$87)*D42/('+Options'!$AK$88+D42+'+Options'!$AG$136*'Bio results'!D7)*'+Options'!$AK$85+(1-'+Options'!$AK$85),0)","v":0},{"$f":"IF(Calcs!V246=3,(1+'+Options'!$AK$88/'+Options'!$AK$87)*E42/('+Options'!$AK$88+E42+'+Options'!$AG$136*'Bio results'!E7)*'+Options'!$AK$85+(1-'+Options'!$AK$85),0)","v":0},{"$f":"IF(Calcs!W246=3,(1+'+Options'!$AK$88/'+Options'!$AK$87)*F42/('+Options'!$AK$88+F42+'+Options'!$AG$136*'Bio results'!F7)*'+Options'!$AK$85+(1-'+Options'!$AK$85),0)","v":0},{"$f":"IF(Calcs!X246=3,(1+'+Options'!$AK$88/'+Options'!$AK$87)*G42/('+Options'!$AK$88+G42+'+Options'!$AG$136*'Bio results'!G7)*'+Options'!$AK$85+(1-'+Options'!$AK$85),0)","v":0},{"$f":"IF(Calcs!Y246=3,(1+'+Options'!$AK$88/'+Options'!$AK$87)*H42/('+Options'!$AK$88+H42+'+Options'!$AG$136*'Bio results'!H7)*'+Options'!$AK$85+(1-'+Options'!$AK$85),0)","v":0},{"$f":"IF(Calcs!Z246=3,(1+'+Options'!$AK$88/'+Options'!$AK$87)*I42/('+Options'!$AK$88+I42+'+Options'!$AG$136*'Bio results'!I7)*'+Options'!$AK$85+(1-'+Options'!$AK$85),0)","v":0},{"$f":"IF(Calcs!AA246=3,(1+'+Options'!$AK$88/'+Options'!$AK$87)*J42/('+Options'!$AK$88+J42+'+Options'!$AG$136*'Bio results'!J7)*'+Options'!$AK$85+(1-'+Options'!$AK$85),0)","v":0},{"$f":"IF(Calcs!AB246=3,(1+'+Options'!$AK$88/'+Options'!$AK$87)*K42/('+Options'!$AK$88+K42+'+Options'!$AG$136*'Bio results'!K7)*'+Options'!$AK$85+(1-'+Options'!$AK$85),0)","v":0},{"$f":"IF(Calcs!AC246=3,(1+'+Options'!$AK$88/'+Options'!$AK$87)*L42/('+Options'!$AK$88+L42+'+Options'!$AG$136*'Bio results'!L7)*'+Options'!$AK$85+(1-'+Options'!$AK$85),0)","v":0},{"$f":"IF(Calcs!AD246=3,(1+'+Options'!$AK$88/'+Options'!$AK$87)*M42/('+Options'!$AK$88+M42+'+Options'!$AG$136*'Bio results'!M7)*'+Options'!$AK$85+(1-'+Options'!$AK$85),0)","v":0},null,"2006-09-01",{"$f":"'Bio results'!I7","v":0},{"$f":"'Bio results'!I16","v":0},null,null,null,"2006-09-01",0,0,null,null,null,"2006-09-01",0,0]
[null,null,"Prop'n of weed-free yield with weeds - Beans",{"$f":"IF(Calcs!U246=4,(1+'+Options'!$AL$88/'+Options'!$AL$87)*D43/('+Options'!$AL$88+D43+'+Options'!$AG$138*'Bio results'!D7)*'+Options'!$AL$85+(1-'+Options'!$AL$85),0)","v":0},{"$f":"IF(Calcs!V246=4,(1+'+Options'!$AL$88/'+Options'!$AL$87)*E43/('+Options'!$AL$88+E43+'+Options'!$AG$138*'Bio results'!E7)*'+Options'!$AL$85+(1-'+Options'!$AL$85),0)","v":0},{"$f":"IF(Calcs!W246=4,(1+'+Options'!$AL$88/'+Options'!$AL$87)*F43/('+Options'!$AL$88+F43+'+Options'!$AG$138*'Bio results'!F7)*'+Options'!$AL$85+(1-'+Options'!$AL$85),0)","v":0},{"$f":"IF(Calcs!X246=4,(1+'+Options'!$AL$88/'+Options'!$AL$87)*G43/('+Options'!$AL$88+G43+'+Options'!$AG$138*'Bio results'!G7)*'+Options'!$AL$85+(1-'+Options'!$AL$85),0)","v":0},{"$f":"IF(Calcs!Y246=4,(1+'+Options'!$AL$88/'+Options'!$AL$87)*H43/('+Options'!$AL$88+H43+'+Options'!$AG$138*'Bio results'!H7)*'+Options'!$AL$85+(1-'+Options'!$AL$85),0)","v":0},{"$f":"IF(Calcs!Z246=4,(1+'+Options'!$AL$88/'+Options'!$AL$87)*I43/('+Options'!$AL$88+I43+'+Options'!$AG$138*'Bio results'!I7)*'+Options'!$AL$85+(1-'+Options'!$AL$85),0)","v":0},{"$f":"IF(Calcs!AA246=4,(1+'+Options'!$AL$88/'+Options'!$AL$87)*J43/('+Options'!$AL$88+J43+'+Options'!$AG$138*'Bio results'!J7)*'+Options'!$AL$85+(1-'+Options'!$AL$85),0)","v":0},{"$f":"IF(Calcs!AB246=4,(1+'+Options'!$AL$88/'+Options'!$AL$87)*K43/('+Options'!$AL$88+K43+'+Options'!$AG$138*'Bio results'!K7)*'+Options'!$AL$85+(1-'+Options'!$AL$85),0)","v":0},{"$f":"IF(Calcs!AC246=4,(1+'+Options'!$AL$88/'+Options'!$AL$87)*L43/('+Options'!$AL$88+L43+'+Options'!$AG$138*'Bio results'!L7)*'+Options'!$AL$85+(1-'+Options'!$AL$85),0)","v":0},{"$f":"IF(Calcs!AD246=4,(1+'+Options'!$AL$88/'+Options'!$AL$87)*M43/('+Options'!$AL$88+M43+'+Options'!$AG$138*'Bio results'!M7)*'+Options'!$AL$85+(1-'+Options'!$AL$85),0)","v":0},null,"2006-10-01",{"$f":"'Bio results'!I8","v":0},{"$f":"'Bio results'!I20","v":0},null,null,null,"2006-10-01",0,0,null,null,null,"2006-10-01",0,0]
[null,null,"Winter Crop yield after weeds (t/ha)",{"$f":"D32*(IF(D44>1,1,D44))","v":0},{"$f":"E32*(IF(E44>1,1,E44))","v":0},0,0,0,0,0,0,0,0,null,"2006-11-01",0,{"$f":"'Bio results'!I21","v":0},null,null,null,"2006-11-01",0,0,null,null,null,"2006-11-01",0,0]
[null,null,"Sorghum yield after weeds (t/ha)",{"$f":"D33*(IF(D45>1,1,D45))","v":0},0,0,0,0,0,0,0,0,0,null,"2007-04-01",0,{"$f":"'Bio results'!J11","v":3490.0377167547558},null,null,null,39173,0,3490.0377167547558,null,null,null,"2007-04-01",0,3490.0377167547558]
[null,null,"D/L Cotton yield after weeds (t/ha)",{"$f":"D34*(IF(D46>1,1,D46))","v":0},0,0,0,0,0,0,0,0,0,null,"2007-05-01",{"$f":"'Bio results'!J3","v":62.820678901585602},{"$f":"'Bio results'!J12","v":3427.21703785317},null,null,null,"2007-05-01",62.820678901585602,3427.21703785317,null,null,null,"2007-05-01",62.820678901585602,3427.21703785317]
[null,null,"Irrigated cotton yield after weeds (t/ha)",{"$f":"D36*(IF(D47>1,1,D47))","v":2.7125158515485874},0,2.7330171631571916,0,2.6243042640803997,0,2.527543506065931,0,1.9092830243269401,0,null,"2007-05-10",{"$f":"'Bio results'!J4","v":150.7287959225194},{"$f":"'Bio results'!J13","v":1000.4046533493404},null,null,null,"2007-05-10",150.7287959225194,1000.4046533493404,null,null,null,"2007-05-10",150.7287959225194,1000.4046533493404]
[null,null,"Corn yield after weeds  (t/ha)",{"$f":"D35*(IF(D48>1,1,D48))","v":0},0,0,0,0,0,0,0,0,0,null,"2007-05-20",{"$f":"'Bio results'!J5","v":14.496932383704131},{"$f":"'Bio results'!J14","v":985.39858354910029},null,null,null,"2007-05-20",14.496932383704131,985.39858354910029,null,null,null,"2007-05-20",14.496932383704131,985.39858354910029]
[null,null,"Beans yield after weeds (t/ha)",{"$f":"D37*(IF(D49>1,1,D49))","v":0},0,0,0,0,0,0,0,0,{"$f":"M37*(IF(M49>1,1,M49))","v":0},null,"2007-06-10",{"$f":"'Bio results'!J6","v":15.70290508913153},{"$f":"'Bio results'!J15","v":969.63220621231471},null,null,null,"2007-06-10",15.70290508913153,969.63220621231471,null,null,null,"2007-06-10",15.70290508913153,969.63220621231471]
[null,null,"Hay or silage yield - Winter Crop (t/ha)",null,null,null,null,null,null,null,null,null,null,null,"2007-09-01",{"$f":"'Bio results'!J7","v":22.074159181672634},{"$f":"'Bio results'!J16","v":480.45275817820192},null,null,null,"2007-09-01",22.074159181672634,480.45275817820192,null,null,null,"2007-09-01",22.074159181672634,480.45275817820192]
[null,null,"Hay or silage yield - Sorghum (t/ha)",null,null,null,null,null,null,null,null,null,null,null,"2007-10-01",{"$f":"'Bio results'!J8","v":18.763035304421738},{"$f":"'Bio results'!J20","v":1204.4371861412924},null,null,null,"2007-10-01",18.763035304421738,1204.4371861412924,null,null,null,"2007-10-01",18.763035304421738,1204.4371861412924]
[null,null,"Hay or silage yield - Cotton (t/ha)",null,null,null,null,null,null,null,null,null,null,null,"2007-11-01",0,{"$f":"'Bio results'!J21","v":1684.8899443194944},null,null,null,"2007-11-01",0,1684.8899443194944,null,null,null,"2007-11-01",0,1684.8899443194944]
[null,null,"Hay or silage yield - Legumes (t/ha)",null,null,null,null,null,null,null,null,null,null,null,"2008-04-01",0,{"$f":"'Bio results'!K11","v":0},null,null,null,39539,0,0,null,null,null,"2008-04-01",0,0]
[null,null,"Hay yield - pasture (t/ha)",null,null,null,null,null,null,null,null,null,null,null,"2008-05-01",{"$f":"'Bio results'!K3","v":0},{"$f":"'Bio results'!K12","v":0},null,null,null,"2008-05-01",0,0,null,null,null,"2008-05-01",0,0]
[null,null,"Baling (Harvest) - Winter Crop (t/ha)",{"$f":"IF(OR(Calcs!C$57<>\"\",Calcs!C$58<>\"\"),(D50*(1-'+Options'!$AG$60)/'+Options'!$AG$60*'+Options'!$AG$61),0)","v":0},{"$f":"IF(OR(Calcs!D$57<>\"\",Calcs!D$58<>\"\"),(E50*(1-'+Options'!$AG$60)/'+Options'!$AG$60*'+Options'!$AG$61),0)","v":0},{"$f":"IF(OR(Calcs!E$57<>\"\",Calcs!E$58<>\"\"),(F50*(1-'+Options'!$AG$60)/'+Options'!$AG$60*'+Options'!$AG$61),0)","v":0},{"$f":"IF(OR(Calcs!F$57<>\"\",Calcs!F$58<>\"\"),(G50*(1-'+Options'!$AG$60)/'+Options'!$AG$60*'+Options'!$AG$61),0)","v":0},{"$f":"IF(OR(Calcs!G$57<>\"\",Calcs!G$58<>\"\"),(H50*(1-'+Options'!$AG$60)/'+Options'!$AG$60*'+Options'!$AG$61),0)","v":0},{"$f":"IF(OR(Calcs!H$57<>\"\",Calcs!H$58<>\"\"),(I50*(1-'+Options'!$AG$60)/'+Options'!$AG$60*'+Options'!$AG$61),0)","v":0},{"$f":"IF(OR(Calcs!I$57<>\"\",Calcs!I$58<>\"\"),(J50*(1-'+Options'!$AG$60)/'+Options'!$AG$60*'+Options'!$AG$61),0)","v":0},{"$f":"IF(OR(Calcs!J$57<>\"\",Calcs!J$58<>\"\"),(K50*(1-'+Options'!$AG$60)/'+Options'!$AG$60*'+Options'!$AG$61),0)","v":0},{"$f":"IF(OR(Calcs!K$57<>\"\",Calcs!K$58<>\"\"),(L50*(1-'+Options'!$AG$60)/'+Options'!$AG$60*'+Options'!$AG$61),0)","v":0},{"$f":"IF(OR(Calcs!L$57<>\"\",Calcs!L$58<>\"\"),(M50*(1-'+Options'!$AG$60)/'+Options'!$AG$60*'+Options'!$AG$61),0)","v":0},null,"2008-05-10",{"$f":"'Bio results'!K4","v":0},{"$f":"'Bio results'!K13","v":0},null,null,null,"2008-05-10",0,0,null,null,null,"2008-05-10",0,0]
[null,null,"Baling (Harvest) - Sorghum",{"$f":"IF(OR(Calcs!C$57<>\"\",Calcs!C$58<>\"\"),(D51*(1-'+Options'!$AH$60)/'+Options'!$AH$60*'+Options'!$AH$61),0)","v":0},{"$f":"IF(OR(Calcs!D$57<>\"\",Calcs!D$58<>\"\"),(E51*(1-'+Options'!$AH$60)/'+Options'!$AH$60*'+Options'!$AH$61),0)","v":0},{"$f":"IF(OR(Calcs!E$57<>\"\",Calcs!E$58<>\"\"),(F51*(1-'+Options'!$AH$60)/'+Options'!$AH$60*'+Options'!$AH$61),0)","v":0},{"$f":"IF(OR(Calcs!F$57<>\"\",Calcs!F$58<>\"\"),(G51*(1-'+Options'!$AH$60)/'+Options'!$AH$60*'+Options'!$AH$61),0)","v":0},{"$f":"IF(OR(Calcs!G$57<>\"\",Calcs!G$58<>\"\"),(H51*(1-'+Options'!$AH$60)/'+Options'!$AH$60*'+Options'!$AH$61),0)","v":0},{"$f":"IF(OR(Calcs!H$57<>\"\",Calcs!H$58<>\"\"),(I51*(1-'+Options'!$AH$60)/'+Options'!$AH$60*'+Options'!$AH$61),0)","v":0},{"$f":"IF(OR(Calcs!I$57<>\"\",Calcs!I$58<>\"\"),(J51*(1-'+Options'!$AH$60)/'+Options'!$AH$60*'+Options'!$AH$61),0)","v":0},{"$f":"IF(OR(Calcs!J$57<>\"\",Calcs!J$58<>\"\"),(K51*(1-'+Options'!$AH$60)/'+Options'!$AH$60*'+Options'!$AH$61),0)","v":0},{"$f":"IF(OR(Calcs!K$57<>\"\",Calcs!K$58<>\"\"),(L51*(1-'+Options'!$AH$60)/'+Options'!$AH$60*'+Options'!$AH$61),0)","v":0},{"$f":"IF(OR(Calcs!L$57<>\"\",Calcs!L$58<>\"\"),(M51*(1-'+Options'!$AH$60)/'+Options'!$AH$60*'+Options'!$AH$61),0)","v":0},null,"2008-05-20",{"$f":"'Bio results'!K5","v":0},{"$f":"'Bio results'!K14","v":0},null,null,null,"2008-05-20",0,0,null,null,null,"2008-05-20",0,0]
[null,null,"Baling (Harvest) - Cotton",{"$f":"IF(OR(Calcs!C$57<>\"\",Calcs!C$58<>\"\"),(D52*(1-'+Options'!$AK$60)/'+Options'!$AK$60*'+Options'!$AK$61),0)","v":0},{"$f":"IF(OR(Calcs!D$57<>\"\",Calcs!D$58<>\"\"),(E52*(1-'+Options'!$AK$60)/'+Options'!$AK$60*'+Options'!$AK$61),0)","v":0},{"$f":"IF(OR(Calcs!E$57<>\"\",Calcs!E$58<>\"\"),(F52*(1-'+Options'!$AK$60)/'+Options'!$AK$60*'+Options'!$AK$61),0)","v":0},{"$f":"IF(OR(Calcs!F$57<>\"\",Calcs!F$58<>\"\"),(G52*(1-'+Options'!$AK$60)/'+Options'!$AK$60*'+Options'!$AK$61),0)","v":0},{"$f":"IF(OR(Calcs!G$57<>\"\",Calcs!G$58<>\"\"),(H52*(1-'+Options'!$AK$60)/'+Options'!$AK$60*'+Options'!$AK$61),0)","v":0},{"$f":"IF(OR(Calcs!H$57<>\"\",Calcs!H$58<>\"\"),(I52*(1-'+Options'!$AK$60)/'+Options'!$AK$60*'+Options'!$AK$61),0)","v":0},{"$f":"IF(OR(Calcs!I$57<>\"\",Calcs!I$58<>\"\"),(J52*(1-'+Options'!$AK$60)/'+Options'!$AK$60*'+Options'!$AK$61),0)","v":0},{"$f":"IF(OR(Calcs!J$57<>\"\",Calcs!J$58<>\"\"),(K52*(1-'+Options'!$AK$60)/'+Options'!$AK$60*'+Options'!$AK$61),0)","v":0},{"$f":"IF(OR(Calcs!K$57<>\"\",Calcs!K$58<>\"\"),(L52*(1-'+Options'!$AK$60)/'+Options'!$AK$60*'+Options'!$AK$61),0)","v":0},{"$f":"IF(OR(Calcs!L$57<>\"\",Calcs!L$58<>\"\"),(M52*(1-'+Options'!$AK$60)/'+Options'!$AK$60*'+Options'!$AK$61),0)","v":0},null,"2008-06-10",{"$f":"'Bio results'!K6","v":0},{"$f":"'Bio results'!K15","v":0},null,null,null,"2008-06-10",0,0,null,null,null,"2008-06-10",0,0]
[null,null,"Baling (Harvest) - Legume",{"$f":"IF(OR(Calcs!C$57<>\"\",Calcs!C$58<>\"\"),(D55*(1-'+Options'!$AL$60)/'+Options'!$AL$60*'+Options'!$AL$61),0)","v":0},{"$f":"IF(OR(Calcs!D$57<>\"\",Calcs!D$58<>\"\"),(E55*(1-'+Options'!$AL$60)/'+Options'!$AL$60*'+Options'!$AL$61),0)","v":0},{"$f":"IF(OR(Calcs!E$57<>\"\",Calcs!E$58<>\"\"),(F55*(1-'+Options'!$AL$60)/'+Options'!$AL$60*'+Options'!$AL$61),0)","v":0},{"$f":"IF(OR(Calcs!F$57<>\"\",Calcs!F$58<>\"\"),(G55*(1-'+Options'!$AL$60)/'+Options'!$AL$60*'+Options'!$AL$61),0)","v":0},{"$f":"IF(OR(Calcs!G$57<>\"\",Calcs!G$58<>\"\"),(H55*(1-'+Options'!$AL$60)/'+Options'!$AL$60*'+Options'!$AL$61),0)","v":0},{"$f":"IF(OR(Calcs!H$57<>\"\",Calcs!H$58<>\"\"),(I55*(1-'+Options'!$AL$60)/'+Options'!$AL$60*'+Options'!$AL$61),0)","v":0},{"$f":"IF(OR(Calcs!I$57<>\"\",Calcs!I$58<>\"\"),(J55*(1-'+Options'!$AL$60)/'+Options'!$AL$60*'+Options'!$AL$61),0)","v":0},{"$f":"IF(OR(Calcs!J$57<>\"\",Calcs!J$58<>\"\"),(K55*(1-'+Options'!$AL$60)/'+Options'!$AL$60*'+Options'!$AL$61),0)","v":0},{"$f":"IF(OR(Calcs!K$57<>\"\",Calcs!K$58<>\"\"),(L55*(1-'+Options'!$AL$60)/'+Options'!$AL$60*'+Options'!$AL$61),0)","v":0},{"$f":"IF(OR(Calcs!L$57<>\"\",Calcs!L$58<>\"\"),(M55*(1-'+Options'!$AL$60)/'+Options'!$AL$60*'+Options'!$AL$61),0)","v":0},null,"2008-09-01",{"$f":"'Bio results'!K7","v":0},{"$f":"'Bio results'!K16","v":0},null,null,null,"2008-09-01",0,0,null,null,null,"2008-09-01",0,0]
[null,null,null,null,null,null,null,null,null,null,null,null,null,null,"2008-10-01",{"$f":"'Bio results'!K8","v":0},{"$f":"'Bio results'!K20","v":0},null,null,null,"2008-10-01",0,0,null,null,null,"2008-10-01",0,0]
[null,null,"Table 4. Yield and RG summary for outputs",null,null,null,null,null,null,null,null,null,null,null,"2008-11-01",0,{"$f":"'Bio results'!K21","v":0},null,null,null,"2008-11-01",0,0,null,null,null,"2008-11-01",0,0]
[null,null,"Weed-free yield - Winter Crop (t/ha)",{"$f":"IF(D32<>0,D32,\"\")","v":""},"","","","","","","","","",null,"2009-04-01",0,{"$f":"'Bio results'!L11","v":7314.8587519005696},null,null,null,39904,0,7314.8587519005696,null,null,null,"2009-04-01",0,7314.8587519005696]
[null,null,"Weed-free yield - Sorghum (t/ha)",{"$f":"IF(D33<>0,D33,\"\")","v":""},"","","","","","","","","",null,"2009-05-01",{"$f":"'Bio results'!L3","v":131.66745753421023},{"$f":"'Bio results'!L12","v":7183.1912943663592},null,null,null,"2009-05-01",131.66745753421023,7183.1912943663592,null,null,null,"2009-05-01",131.66745753421023,7183.1912943663592]
[null,null,"Weed-free yield - D/L Cotton (t/ha)",{"$f":"IF(D34<>0,D34,\"\")","v":""},"","","","","","","","","",null,"2009-05-10",{"$f":"'Bio results'!L4","v":315.91631423470733},{"$f":"'Bio results'!L13","v":6989.2451294184675},null,null,null,"2009-05-10",315.91631423470733,6989.2451294184675,null,null,null,"2009-05-10",315.91631423470733,6989.2451294184675]
[null,null,"Weed-free yield - Irrigated Cotton (t/ha)",{"$f":"IF(D36<>0,D36,\"\")","v":2.98732},{"$f":"IF(E36<>0,E36,\"\")","v":""},3.0508799999999998,"",2.9237600000000001,"",3.1144400000000001,"",3.1144400000000001,"",null,"2009-05-20",{"$f":"'Bio results'!L5","v":109.7060651497238},{"$f":"'Bio results'!L14","v":6884.4064524771902},null,null,null,"2009-05-20",109.7060651497238,6884.4064524771902,null,null,null,"2009-05-20",109.7060651497238,6884.4064524771902]
[null,null,"Weed-free yield - Corn (t/ha)",{"$f":"IF(D35<>0,D35,\"\")","v":""},{"$f":"IF(E35<>0,E35,\"\")","v":""},"","","","","","","","",null,"2009-06-10",{"$f":"'Bio results'!L6","v":214.34904322737708},{"$f":"'Bio results'!L15","v":6774.2559492375549},null,null,null,"2009-06-10",214.34904322737708,6774.2559492375549,null,null,null,"2009-06-10",214.34904322737708,6774.2559492375549]
[null,null,"Weed-free yield - Beans (t/ha)","","","","","","","","","","",null,"2009-09-01",{"$f":"'Bio results'!L7","v":91.941740289493964},{"$f":"'Bio results'!L16","v":3356.6438228472084},null,null,null,"2009-09-01",91.941740289493964,3356.6438228472084,null,null,null,"2009-09-01",91.941740289493964,3356.6438228472084]
[null,null,"Winter Crop yield after weeds (t/ha)",{"$f":"IF(D50<>0,D50,\"\")","v":""},{"$f":"IF(E50<>0,E50,\"\")","v":""},"","","","","","","","",null,"2009-10-01",{"$f":"'Bio results'!L8","v":18.388348057898789},{"$f":"'Bio results'!L20","v":861.37258833317355},null,null,null,"2009-10-01",18.388348057898789,861.37258833317355,null,null,null,"2009-10-01",18.388348057898789,861.37258833317355]
[null,null,"Sorghum yield after weeds (t/ha)",{"$f":"IF(D51<>0,D51,\"\")","v":""},"","","","","","","","","",null,"2009-11-01",0,{"$f":"'Bio results'!L21","v":4218.0164111803824},null,null,null,"2009-11-01",0,4218.0164111803824,null,null,null,"2009-11-01",0,4218.0164111803824]
[null,null,"D/L Cotton yield after weeds. (t/ha)",{"$f":"IF(D52<>0,D52,\"\")","v":""},"","","","","","","","","",null,"2010-04-01",0,{"$f":"'Bio results'!M11","v":0},null,null,null,40269,0,0,null,null,null,"2010-04-01",0,0]
[null,null,"Irrigated Cotton yield after weeds (t/ha)",{"$f":"IF(D53<>0,D53,\"\")","v":2.7125158515485874},"",2.7330171631571916,"",2.6243042640803997,"",2.527543506065931,"",1.9092830243269401,"",null,"2010-05-01",{"$f":"'Bio results'!M3","v":0},{"$f":"'Bio results'!M12","v":0},null,null,null,"2010-05-01",0,0,null,null,null,"2010-05-01",0,0]
[null,null,"Corn yield after weeds (t/ha)",{"$f":"IF(D54<>0,D54,\"\")","v":""},"","","","","","","","","",null,"2010-05-10",{"$f":"'Bio results'!M4","v":0},{"$f":"'Bio results'!M13","v":0},null,null,null,"2010-05-10",0,0,null,null,null,"2010-05-10",0,0]
[null,null,"Beans yield after weeds (t/ha)",{"$f":"IF(D55<>0,D55,\"\")","v":""},"","","","","","","","","",null,"2010-05-20",{"$f":"'Bio results'!M5","v":0},{"$f":"'Bio results'!M14","v":0},null,null,null,"2010-05-20",0,0,null,null,null,"2010-05-20",0,0]
[null,null,"number of crops",{"$f":"COUNT(D67:M67)","v":0},{"$f":"COUNT(D68:M68)","v":0},{"$f":"COUNT(D69:M69)","v":0},{"$f":"COUNT(D70:M70)","v":5},{"$f":"COUNT(D71:M71)","v":0},{"$f":"COUNT(D72:M72)","v":0},null,null,null,null,null,"2010-06-10",{"$f":"'Bio results'!M6","v":0},{"$f":"'Bio results'!M15","v":0},null,null,null,"2010-06-10",0,0,null,null,null,"2010-06-10",0,0]
[null,null,"Enterprise (number of crops)",{"$f":"\"Winter Crop (\"&COUNT(D67:M67)&\")\"","v":"Winter Crop (0)"},{"$f":"\"Sorghum (\"&COUNT(D68:M68)&\")\"","v":"Sorghum (0)"},{"$f":"\"D/L Cotton (\"&COUNT(D69:M69)&\")\"","v":"D/L Cotton (0)"},{"$f":"\"Irrig Cotton (\"&COUNT(D70:M70)&\")\"","v":"Irrig Cotton (5)"},{"$f":"\"Corn (\"&COUNT(D71:M71)&\")\"","v":"Corn (0)"},{"$f":"\"Beans (\"&COUNT(F70:O70)&\")\"","v":"Beans (5)"},null,null,null,null,null,"2010-09-01",{"$f":"'Bio results'!M7","v":0},{"$f":"'Bio results'!M16","v":0},null,null,null,"2010-09-01",0,0,null,null,null,"2010-09-01",0,0]
[null,null,"  Average long term, weed-free yield (as entered in the Profile)",{"$f":"'1.Profile'!D7","v":1.8},{"$f":"'1.Profile'!E7","v":4},{"$f":"'1.Profile'!G7","v":2.4969999999999999},{"$f":"'1.Profile'!F7","v":3.1779999999999999},{"$f":"'1.Profile'!H7","v":14},{"$f":"'1.Profile'!I7","v":1},null,null,null,null,null,"2010-10-01",{"$f":"'Bio results'!M8","v":0},{"$f":"'Bio results'!M20","v":0},null,null,null,"2010-10-01",0,0,null,null,null,"2010-10-01",0,0]
[null,null,"  Yield after agronomical benefits/penalties (rotations, sowing date, phytotoxicity...)",{"$f":"IF(COUNT(D67:M67)<>0,AVERAGE(D67:M67),D81)","v":1.8},{"$f":"IF(COUNT(D68:M68)<>0,AVERAGE(D68:M68),E81)","v":4},{"$f":"IF(COUNT(D69:M69)<>0,AVERAGE(D69:M69),F81)","v":2.4969999999999999},{"$f":"IF(COUNT(D70:M70)<>0,AVERAGE(D70:M70),G81)","v":3.0381679999999998},{"$f":"IF(COUNT(D71:M71)<>0,AVERAGE(D71:M71),H81)","v":14},{"$f":"IF(COUNT(D72:M72)<>0,AVERAGE(D72:M72),I81)","v":1},null,null,null,null,null,"2010-11-01",0,{"$f":"'Bio results'!M21","v":0},{"$f":"K92","v":-0.17},null,null,"2010-11-01",0,0,-0.17,null,null,"2010-11-01",0,0,-0.17]
[null,null,"  Final yield after weed burden",{"$f":"IF(COUNT(D73:M73)<>0,AVERAGE(D73:M73),D81)","v":1.8},{"$f":"IF(COUNT(D74:M74)<>0,AVERAGE(D74:M74),E81)","v":4},{"$f":"IF(COUNT(D75:M75)<>0,AVERAGE(D75:M75),F81)","v":2.4969999999999999},{"$f":"IF(COUNT(D76:M76)<>0,AVERAGE(D76:M76),G81)","v":2.5013327618358101},{"$f":"IF(COUNT(D77:M77)<>0,AVERAGE(D77:M77),H81)","v":14},{"$f":"IF(COUNT(D78:M78)<>0,AVERAGE(D78:M78),I81)","v":1},null,null,null,null,null,{"$f":"D80","v":"Winter Crop (0)"},"Sorghum (0)","D/L Cotton (0)","Irrig Cotton (5)","Corn (0)","Beans (5)","Winter Crop (0)","Sorghum (0)","D/L Cotton (0)","Irrig Cotton (5)","Corn (0)","Beans (5)","Winter Crop (0)","Sorghum (0)","D/L Cotton (0)","Irrig Cotton (5)","Corn (0)","Beans (5)"]
[null,null,null,null,null,null,null,null,null,null,null,null,null,{"$f":"C81","v":"  Average long term, weed-free yield (as entered in the Profile)"},{"$f":"IF(COUNT(D67:M67)>0,D81,\"\")","v":""},{"$f":"IF(COUNT(D68:M68)>0,E81,\"\")","v":""},{"$f":"IF(COUNT(D69:M69)>0,F81,\"\")","v":""},{"$f":"IF(COUNT(D70:M70)>0,G81,\"\")","v":3.1779999999999999},{"$f":"IF(COUNT(D71:M71)>0,H81,\"\")","v":""},{"$f":"IF(COUNT(D72:M72)>0,I81,\"\")","v":""},"","","",3.1779999999999999,"","","","","",3.1779999999999999,"",""]
[null,null,null,{"$f":"(D82-D81)/D81","v":0},0,0,-4.400000000000006E-2,{"$f":"(H82-H81)/H81","v":0},{"$f":"(I82-I81)/I81","v":0},null,null,null,null,{"$f":"C82","v":"  Yield after agronomical benefits/penalties (rotations, sowing date, phytotoxicity...)"},{"$f":"IF(COUNT(D67:M67)>0,D82,\"\")","v":""},{"$f":"IF(COUNT(D68:M68)>0,E82,\"\")","v":""},{"$f":"IF(COUNT(D69:M69)>0,F82,\"\")","v":""},{"$f":"IF(COUNT(D70:M70)>0,G82,\"\")","v":3.0381679999999998},{"$f":"IF(COUNT(D71:M71)>0,H82,\"\")","v":""},{"$f":"IF(COUNT(D72:M72)>0,I82,\"\")","v":""},"","","",3.0381679999999998,"","","","","",3.0381679999999998,"",""]
[null,null,null,0,0,0,-0.17669702207520771,{"$f":"(H83-H82)/H82","v":0},{"$f":"(I83-I82)/I82","v":0},null,null,null,null,{"$f":"C83","v":"  Final yield after weed burden"},{"$f":"IF(COUNT(D67:M67)>0,D83,\"\")","v":""},{"$f":"IF(COUNT(D68:M68)>0,E83,\"\")","v":""},{"$f":"IF(COUNT(D69:M69)>0,F83,\"\")","v":""},{"$f":"IF(COUNT(D70:M70)>0,G83,\"\")","v":2.5013327618358101},{"$f":"IF(COUNT(D71:M71)>0,H83,\"\")","v":""},{"$f":"IF(COUNT(D72:M72)>0,I83,\"\")","v":""},"","","",2.5013327618358101,"","","","","",2.5013327618358101,"",""]
[null,null,"Number transformations for outputs",null,null,null,null,null,null,null,null,null,null,{"$f":"C91","v":"Agro impact (% initial yield)"},{"$f":"IF(COUNT(D67:M67)>0,D91,\"\")","v":""},{"$f":"IF(COUNT(D68:M68)>0,E91,\"\")","v":""},{"$f":"IF(COUNT(D69:M69)>0,F91,\"\")","v":""},{"$f":"IF(COUNT(D70:M70)>0,G91,\"\")","v":"-4%"},{"$f":"IF(COUNT(D71:M71)>0,H91,\"\")","v":""},{"$f":"IF(COUNT(D72:M72)>0,I91,\"\")","v":""},"","","","-4%","","","","","","-4%","",""]
[null,null,null,{"$f":"TRUNC(D85*100,0)","v":0},0,0,-4,{"$f":"TRUNC(H85*100,0)","v":0},{"$f":"TRUNC(I85*100,0)","v":0},null,null,null,null,{"$f":"C92","v":"Weed burden (%)"},{"$f":"IF(COUNT(D73:M73)>0,D92,\"\")","v":""},{"$f":"IF(COUNT(D74:M74)>0,E92,\"\")","v":""},{"$f":"IF(COUNT(D75:M75)>0,F92,\"\")","v":""},{"$f":"IF(COUNT(D76:M76)>0,G92,\"\")","v":"-17%"},{"$f":"IF(COUNT(D77:M77)>0,H92,\"\")","v":""},{"$f":"IF(COUNT(D78:M78)>0,I92,\"\")","v":""},"","","","-17%","","","","","","-17%","",""]
[null,null,null,0,0,0,-17,{"$f":"TRUNC(H86*100,0)","v":0},{"$f":"TRUNC(I86*100,0)","v":0}]
[]
[null,null,"Agro impact (% initial yield)",{"$f":"IF(D88>0,\"+\"&D88&\"%\",D88&\"%\")","v":"0%"},"0%","0%","-4%",{"$f":"IF(H88>0,\"+\"&H88&\"%\",H88&\"%\")","v":"0%"},{"$f":"IF(I88>0,\"+\"&I88&\"%\",I88&\"%\")","v":"0%"},null,"Averaged weed burden (%)",null,null,null,null,null,null,null,null,null,"Initially:",null,{"$f":"W2","v":200},{"$f":"V3","v":3.8},null,null,"Initially:",null,{"$f":"AC2","v":200},{"$f":"AB3","v":3.8}]
[null,null,"Weed burden (%)","0%","0%","0%","-17%",{"$f":"IF(H89>0,\"+\"&H89&\"%\",H89&\"%\")","v":"0%"},{"$f":"IF(I89>0,\"+\"&I89&\"%\",I89&\"%\")","v":"0%"},null,{"$f":"(D92*D79+E92*E79+F92*F79+G92*G79+H92*H79+I92*I79)/SUM(D79:I79)","v":-0.17},null,null,null,null,null,null,null,null,null,"After 5 years:",null,{"$f":"W75","v":0},{"$f":"V76","v":0},null,null,"After 5 years:",null,{"$f":"AC75","v":0},{"$f":"AB76","v":0}]
[]
[null,null,"Note:",null,null,null,null,null,null,null,null,null,null,null,null,null,null,null,null,null,"Averages at post-emergence",null,null,null,null,null,"Averages at post-emergence"]
[null,null,"Tables 1, 2 and 4 provide data to the bottom and right tables that are behind the comparisons.",null,null,null,null,null,null,null,null,null,null,null,null,null,null,null,null,null,"spraying time:",null,{"$f":"IF(AB3<>\"\",AVERAGE(W6,W14,W23,W31,W39,W47,W55,W63,W71,W79),0)","v":832.87376384886488},{"$f":"IF(AC3<>\"\",AVERAGE(V6,V14,V23,V31,V39,V47,V55,V63,V71,V79),0)","v":23.495499609176669},null,null,"spraying time:",null,{"$f":"IF(AB3<>\"\",AVERAGE(AB6,AB14,AB23,AB31,AB39,AB47,AB55,AB63,AB71,AB79),0)","v":23.495499609176669},{"$f":"IF(AC3<>\"\",AVERAGE(AC6,AC14,AC23,AC31,AC39,AC47,AC55,AC63,AC71,AC79),0)","v":832.87376384886488}]
[]
[null,null,null,null,null,null,null,"Top strategy",null,null,null,null,null,null,null,null,null,null,null,null,"Averages in spring the",null,null,null,null,null,"Averages in spring the"]
[null,null,"Bio results ",null,"summary",null,"(via macros)",null,null,null,null,null,null,null,null,null,null,null,null,null,"following year:",null,{"$f":"IF(W3<>\"\",AVERAGE(W3,W11,W20,W28,W36,W44,W52,W60,W68,W76),0)","v":1267.8187761133422},{"$f":"IF(V3<>\"\",AVERAGE(V3,V11,V20,V28,V36,V44,V52,V60,V68,V76),0)","v":23.259407301466556},null,null,"following year:",null,{"$f":"IF(AC6<>\"\",AVERAGE(AC3,AC11,AC20,AC28,AC36,AC44,AC52,AC60,AC68,AC76),0)","v":1267.8187761133422},{"$f":"IF(AB5<>\"\",AVERAGE(AB3,AB11,AB20,AB28,AB36,AB44,AB52,AB60,AB68,AB76),0)","v":23.259407301466556}]
[null,null,null,null,null,null,null,"Bottom strategy"]
[]
[null,null,"The same principle applies for the Eco result page."]
[]
[]
[null,null,"Table 1. BYG plants per m2"]
[null,null,"First chance to germinate",3.8,0,11.464749548440269,0,22.84118703042946,0,62.820678901585602,0,131.66745753421023,0]
[null,null,"Avg mid-September",8.8325299999999984,0,27.507946829050155,0,28.594493743215125,0,150.7287959225194,0,315.91631423470733,0]
[null,null,"Avg late October",0.88818091599999993,0,2.6456845405987175,0,0.97874576191255314,0,14.496932383704131,0,109.7060651497238,0]
[null,null,"Avg mid-December",1.0080700983919999,0,2.8657740918695667,0,1.0292035849964896,0,15.70290508913153,0,214.34904322737708,0]
[null,null,"Late summer/layby time",1.3370713881992597,0,3.6631392973639043,0,3.321687142211097,0,22.074159181672634,0,91.941740289493964,0]
[null,null,"Mature BYG setting seed setting seed (≈ late Feb.)",0.34095320399081125,0,0.73262785947278075,0,2.8234340708794323,0,18.763035304421738,0,18.388348057898789,0]
[]
[null,null,"Table 2. Current BYG seedbank per m2"]
[null,null,"Start of season",200,0,636.93053046890384,0,1268.954835023859,0,3490.0377167547558,0,7314.8587519005696,0]
[null,null,"after First chance to germinate",196.2,0,625.46578092046354,0,1246.1136479934296,0,3427.21703785317,0,7183.1912943663592,0]
[null,null,"after Avg mid-September germs",57.270780000000002,0,182.57346145068334,0,363.74057384928216,0,1000.4046533493404,0,6989.2451294184675,0]
[null,null,"after Avg late October germs",56.354447520000001,0,179.83485952892309,0,358.28446524154293,0,985.39858354910029,0,6884.4064524771902,0]
[null,null,"after Avg mid-December germs",55.340067464640001,0,176.9575017764603,0,352.55191379767825,0,969.63220621231471,0,6774.2559492375549,0]
[null,null,"after Late summer/layby time germs & mortality",27.365663361264481,0,87.682442130236083,0,174.68947328674957,0,480.45275817820192,0,3356.6438228472084,0]
[null,null,"Crop competitiveness factor",3.5,0,3.5,0,3.5,0,3.5,0,3.5,0]
[null,null,"Crop density",12.589473684210526,0,12.589473684210526,0,12.589473684210526,0,12.589473684210526,0,12.589473684210526,0]
[null,null,"Late summer, seed produced per plant",60.638974607289818,0,62.229576052887815,0,19.19120871314081,0,64.192022591219668,0,46.843391566278704,0]
[null,null,"Late summer, seed produced per m2",20.675052679072909,0,45.591121099525814,0,54.185112542039988,0,1204.4371861412924,0,861.37258833317355,0]
[null,null,"Around harvest (summer)",48.040716040337387,0,133.27356322976189,0,228.87458582878958,0,1684.8899443194944,0,4218.0164111803824,0]
[null,null,"Seeds in soil next spring (/m2)",636.93053046890384,0,1268.954835023859,0,3490.0377167547558,0,7314.8587519005696,0,7516.3537049522447,0]
[]
[]
[null,null,"Table 1. BYG plants per m2"]
[null,null,"First chance to germinate",3.8,0,11.464749548440269,0,22.84118703042946,0,62.820678901585602,0,131.66745753421023,0]
[null,null,"Avg mid-September",8.8325299999999984,0,27.507946829050155,0,28.594493743215125,0,150.7287959225194,0,315.91631423470733,0]
[null,null,"Avg late October",0.88818091599999993,0,2.6456845405987175,0,0.97874576191255314,0,14.496932383704131,0,109.7060651497238,0]
[null,null,"Avg mid-December",1.0080700983919999,0,2.8657740918695667,0,1.0292035849964896,0,15.70290508913153,0,214.34904322737708,0]
[null,null,"Late summer/layby time",1.3370713881992597,0,3.6631392973639043,0,3.321687142211097,0,22.074159181672634,0,91.941740289493964,0]
[null,null,"Mature BYG setting seed setting seed (≈ late Feb.)",0.34095320399081125,0,0.73262785947278075,0,2.8234340708794323,0,18.763035304421738,0,18.388348057898789,0]
[]
[null,null,"Table 2. Current BYG seedbank per m2"]
[null,null,"Start of season",200,0,636.93053046890384,0,1268.954835023859,0,3490.0377167547558,0,7314.8587519005696,0]
[null,null,"after First chance to germinate",196.2,0,625.46578092046354,0,1246.1136479934296,0,3427.21703785317,0,7183.1912943663592,0]
[null,null,"after Avg mid-September germs",57.270780000000002,0,182.57346145068334,0,363.74057384928216,0,1000.4046533493404,0,6989.2451294184675,0]
[null,null,"after Avg late October germs",56.354447520000001,0,179.83485952892309,0,358.28446524154293,0,985.39858354910029,0,6884.4064524771902,0]
[null,null,"after Avg mid-December germs",55.340067464640001,0,176.9575017764603,0,352.55191379767825,0,969.63220621231471,0,6774.2559492375549,0]
[null,null,"after Late summer/layby time germs & mortality",27.365663361264481,0,87.682442130236083,0,174.68947328674957,0,480.45275817820192,0,3356.6438228472084,0]
[null,null,"Crop competitiveness factor",3.5,0,3.5,0,3.5,0,3.5,0,3.5,0]
[null,null,"Crop density",12.589473684210526,0,12.589473684210526,0,12.589473684210526,0,12.589473684210526,0,12.589473684210526,0]
[null,null,"Late summer, seed produced per plant",60.638974607289818,0,62.229576052887815,0,19.19120871314081,0,64.192022591219668,0,46.843391566278704,0]
[null,null,"Late summer, seed produced per m2",20.675052679072909,0,45.591121099525814,0,54.185112542039988,0,1204.4371861412924,0,861.37258833317355,0]
[null,null,"Around harvest (summer)",48.040716040337387,0,133.27356322976189,0,228.87458582878958,0,1684.8899443194944,0,4218.0164111803824,0]
[null,null,"Seeds in soil next spring (/m2)",636.93053046890384,0,1268.954835023859,0,3490.0377167547558,0,7314.8587519005696,0,7516.3537049522447,0]

{"sheet":"3. Out Eco","index":8,"n_rows":39,"n_cols":46,"rows_kept":39,"cut":false,"hidden":false,"merged":[]}
["3. COMPARE Results"]
[]
[]
[]
[]
[]
[]
[null,null,null,null,null,null,null,null,null,null,null,null,null,null,null,null,null,null,"Auto"]
[]
[null,{"$f":"IF(AND('Eco results'!Q5='Eco results'!Q23,'Eco results'!P5='Eco results'!P23),\"Current\",\"\")","v":"Current"},{"$f":"'Eco results'!P23","v":5226.3234002643867}," /ha /year",null,{"$f":"IF('Eco results'!Q23<>\"\",'Eco results'!Q23,\"\")","v":"BYGUM, GR - irrigated cotton"},null,null,null,null,null,null,null,null,null,null,null,null,null,{"$f":"IF(AND('Eco results'!Q5='Eco results'!Q23,'Eco results'!P5='Eco results'!P23),\"Current paddock and strategy\",\"\")","v":"Current paddock and strategy"}]
[]
[]
[]
[]
[]
[]
[]
[]
[]
[]
[]
[]
[]
[]
[null,{"$f":"IF(AND('Eco results'!Q5='Eco results'!Q41,'Eco results'!P5='Eco results'!P41),\"Current\",\"\")","v":"Current"},{"$f":"'Eco results'!P41","v":5226.3234002643867}," /ha /year",null,{"$f":"IF('Eco results'!Q41<>\"\",'Eco results'!Q41,\"\")","v":"BYGUM, GR - irrigated cotton"},null,null,null,null,null,null,null,null,null,null,null,null,null,{"$f":"IF(AND('Eco results'!Q5='Eco results'!Q41,'Eco results'!P5='Eco results'!P41),\"Current paddock and strategy\",\"\")","v":"Current paddock and strategy"}]
[]
[]
[]
[]
[]
[]
[]
[]
[]
[]
[]
[]
[null,null,null,null,null,null,null,null,null,null,null,null,null,null,null,null,null,null,null,null,null,null,null,null,null,null,null,null,null,null,null,null,null,null,null,null,null,null,null,null,null,null,null,null,null,false]
[null,null,null,null,null,null,null,null,null,null,null,null,null,null,null,null,null,null,null,null,null,null,null,null,null,null,null,null,null,null,null,null,null,null,null,null,null,null,null,null,null,null,null,{"$f":"P_31Eco","v":true}]

{"sheet":"3. Out Pop","index":9,"n_rows":39,"n_cols":46,"rows_kept":39,"cut":false,"hidden":false,"merged":[]}
["3. COMPARE Results"]
[]
[]
[]
[]
[]
[]
[null,null,null,null,null,null,null,null,null,null,null,null,null,null,null,null,null,null,"Fixed"]
[]
[null,{"$f":"IF(AND('Eco results'!Q5='Eco results'!Q23,'Eco results'!P5='Eco results'!P23),\"Current\",\"\")","v":"Current"},{"$f":"'Eco results'!P23","v":5226.3234002643867}," /ha /year",null,{"$f":"IF('Eco results'!Q23<>\"\",'Eco results'!Q23,\"\")","v":"BYGUM, GR - irrigated cotton"},null,null,null,null,null,null,null,null,null,null,null,null,null,{"$f":"IF(AND('Eco results'!Q5='Eco results'!Q23,'Eco results'!P5='Eco results'!P23),\"Current paddock and strategy\",\"\")","v":"Current paddock and strategy"}]
[]
[]
[]
[null,null,null,null,null,null,null,null,null,null,null,null,null,null,null,null,"Initially at break:",null,{"$f":"IF('Bio results'!$V$4=\"\",\"\",IF('Bio results'!W91>10000,\">10000\",IF('Bio results'!W91>1000,ROUND('Bio results'!W91,-2), IF('Bio results'!W91>100,ROUND('Bio results'!W91,-1),'Bio results'!W91))))","v":200},{"$f":"IF('Bio results'!$V$4=\"\",\"\",IF('Bio results'!X91>10000,\">10000\",IF('Bio results'!X91>1000,ROUND('Bio results'!X91,-2), IF('Bio results'!X91>100,ROUND('Bio results'!X91,-1),'Bio results'!X91))))","v":3.8}]
[null,null,null,null,null,null,null,null,null,null,null,null,null,null,null,null,"After 10 years:",null,{"$f":"IF('Bio results'!$V$4=\"\",\"\",IF('Bio results'!W92>10000,\">10000\",IF('Bio results'!W92>1000,ROUND('Bio results'!W92,-2), IF('Bio results'!W92>100,ROUND('Bio results'!W92,-1),'Bio results'!W92))))","v":0},{"$f":"IF('Bio results'!$V$4=\"\",\"\",IF('Bio results'!X92>10000,\">10000\",IF('Bio results'!X92>1000,ROUND('Bio results'!X92,-2), IF('Bio results'!X92>100,ROUND('Bio results'!X92,-1),'Bio results'!X92))))","v":0}]
[]
[null,null,null,null,null,null,null,null,null,null,null,null,null,null,null,null,"Averages at post-emergence"]
[null,null,null,null,null,null,null,null,null,null,null,null,null,null,null,null,"spraying time:",null,{"$f":"IF('Bio results'!$V$4=\"\",\"\",IF('Bio results'!W95>10000,\">10000\",IF('Bio results'!W95>1000,ROUND('Bio results'!W95,-2), IF('Bio results'!W95>100,ROUND('Bio results'!W95,-1),'Bio results'!W95))))","v":830},{"$f":"IF('Bio results'!$V$4=\"\",\"\",IF('Bio results'!X95>10000,\">10000\",IF('Bio results'!X95>1000,ROUND('Bio results'!X95,-2), IF('Bio results'!X95>100,ROUND('Bio results'!X95,-1),'Bio results'!X95))))","v":23.495499609176669}]
[]
[null,null,null,null,null,null,null,null,null,null,null,null,null,null,null,null,"Averages at season break the"]
[null,null,null,null,null,null,null,null,null,null,null,null,null,null,null,null,"following year:",null,{"$f":"IF('Bio results'!$V$4=\"\",\"\",IF('Bio results'!W98>10000,\">10000\",IF('Bio results'!W98>1000,ROUND('Bio results'!W98,-2), IF('Bio results'!W98>100,ROUND('Bio results'!W98,-1),'Bio results'!W98))))","v":1300},{"$f":"IF('Bio results'!$V$4=\"\",\"\",IF('Bio results'!X98>10000,\">10000\",IF('Bio results'!X98>1000,ROUND('Bio results'!X98,-2), IF('Bio results'!X98>100,ROUND('Bio results'!X98,-1),'Bio results'!X98))))","v":23.259407301466556}]
[]
[null,null,null,null,null,null,null,null,{"$f":"'Eco results'!Q24&\"       \"&'Eco results'!R24&\"       \"&'Eco results'!S24&\"       \"&'Eco results'!T24&\"       \"&'Eco results'!U24&\"       \"&'Eco results'!V24&\"       \"&'Eco results'!W24&\"       \"&'Eco results'!X24&\"       \"&'Eco results'!Y24&\"       \"&'Eco results'!Z24","v":"Irrig cotton   1       Winter fallow   2       Irrig cotton   3       Winter fallow   4       Irrig cotton   5       Winter fallow   6       Irrig cotton   7       Winter fallow   8       Irrig cotton   9       Winter fallow   10"}]
[]
[null,{"$f":"IF(AND('Eco results'!Q5='Eco results'!Q41,'Eco results'!P5='Eco results'!P41),\"Current\",\"\")","v":"Current"},{"$f":"'Eco results'!P41","v":5226.3234002643867}," /ha /year",null,{"$f":"IF('Eco results'!Q41<>\"\",'Eco results'!Q41,\"\")","v":"BYGUM, GR - irrigated cotton"},null,null,null,null,null,null,null,null,null,null,null,null,null,{"$f":"IF(AND('Eco results'!Q5='Eco results'!Q41,'Eco results'!P5='Eco results'!P41),\"Current paddock and strategy\",\"\")","v":"Current paddock and strategy"}]
[]
[]
[]
[null,null,null,null,null,null,null,null,null,null,null,null,null,null,null,null,"Initially at break:",null,{"$f":"IF('Bio results'!$AB$4=\"\",\"\",IF('Bio results'!AC91>10000,\">10000\",IF('Bio results'!AC91>1000,ROUND('Bio results'!AC91,-2), IF('Bio results'!AC91>100,ROUND('Bio results'!AC91,-1),'Bio results'!AC91))))","v":200},{"$f":"IF('Bio results'!$AB$4=\"\",\"\",IF('Bio results'!AD91>10000,\">10000\",IF('Bio results'!AD91>1000,ROUND('Bio results'!AD91,-2), IF('Bio results'!AD91>100,ROUND('Bio results'!AD91,-1),'Bio results'!AD91))))","v":3.8}]
[null,null,null,null,null,null,null,null,null,null,null,null,null,null,null,null,"After 10 years:",null,{"$f":"IF('Bio results'!$AB$4=\"\",\"\",IF('Bio results'!AC92>10000,\">10000\",IF('Bio results'!AC92>1000,ROUND('Bio results'!AC92,-2), IF('Bio results'!AC92>100,ROUND('Bio results'!AC92,-1),'Bio results'!AC92))))","v":0},{"$f":"IF('Bio results'!$AB$4=\"\",\"\",IF('Bio results'!AD92>10000,\">10000\",IF('Bio results'!AD92>1000,ROUND('Bio results'!AD92,-2), IF('Bio results'!AD92>100,ROUND('Bio results'!AD92,-1),'Bio results'!AD92))))","v":0}]
[]
[null,null,null,null,null,null,null,null,null,null,null,null,null,null,null,null,"Averages at post-emergence"]
[null,null,null,null,null,null,null,null,null,null,null,null,null,null,null,null,"spraying time:",null,{"$f":"IF('Bio results'!$AB$4=\"\",\"\",IF('Bio results'!AC95>10000,\">10000\",IF('Bio results'!AC95>1000,ROUND('Bio results'!AC95,-2), IF('Bio results'!AC95>100,ROUND('Bio results'!AC95,-1),'Bio results'!AC95))))","v":23.495499609176669},{"$f":"IF('Bio results'!$AB$4=\"\",\"\",IF('Bio results'!AD95>10000,\">10000\",IF('Bio results'!AD95>1000,ROUND('Bio results'!AD95,-2), IF('Bio results'!AD95>100,ROUND('Bio results'!AD95,-1),'Bio results'!AD95))))","v":830}]
[]
[null,null,null,null,null,null,null,null,null,null,null,null,null,null,null,null,"Averages at season break the"]
[null,null,null,null,null,null,null,null,null,null,null,null,null,null,null,null,"following year:",null,{"$f":"IF('Bio results'!$AB$4=\"\",\"\",IF('Bio results'!AC98>10000,\">10000\",IF('Bio results'!AC98>1000,ROUND('Bio results'!AC98,-2), IF('Bio results'!AC98>100,ROUND('Bio results'!AC98,-1),'Bio results'!AC98))))","v":1300},{"$f":"IF('Bio results'!$AB$4=\"\",\"\",IF('Bio results'!AD98>10000,\">10000\",IF('Bio results'!AD98>1000,ROUND('Bio results'!AD98,-2), IF('Bio results'!AD98>100,ROUND('Bio results'!AD98,-1),'Bio results'!AD98))))","v":23.259407301466556}]
[]
[null,null,null,null,null,null,null,null,{"$f":"'Eco results'!Q42&\"       \"&'Eco results'!R42&\"       \"&'Eco results'!S42&\"       \"&'Eco results'!T42&\"       \"&'Eco results'!U42&\"       \"&'Eco results'!V42&\"       \"&'Eco results'!W42&\"       \"&'Eco results'!X42&\"       \"&'Eco results'!Y42&\"       \"&'Eco results'!Z42","v":"Irrig cotton   1       Winter fallow   2       Irrig cotton   3       Winter fallow   4       Irrig cotton   5       Winter fallow   6       Irrig cotton   7       Winter fallow   8       Irrig cotton   9       Winter fallow   10"},null,null,null,null,null,null,null,null,null,null,null,null,null,null,null,null,null,null,null,null,null,null,null,null,null,null,null,null,null,null,null,null,null,null,null,null,false]
[null,null,null,null,null,null,null,null,null,null,null,null,null,null,null,null,null,null,null,null,null,null,null,null,null,null,null,null,null,null,null,null,null,null,null,null,null,null,null,null,null,null,null,{"$f":"P_32Pop","v":true}]

{"sheet":"3. Out C&G","index":10,"n_rows":39,"n_cols":46,"rows_kept":39,"cut":false,"hidden":false,"merged":[]}
["3. COMPARE Results"]
[]
[]
[]
[]
[]
[]
[]
[]
[null,{"$f":"IF(AND('Eco results'!Q5='Eco results'!Q23,'Eco results'!P5='Eco results'!P23),\"Current\",\"\")","v":"Current"},{"$f":"'Eco results'!P23","v":5226.3234002643867}," /ha /year",null,{"$f":"IF('Eco results'!Q23<>\"\",'Eco results'!Q23,\"\")","v":"BYGUM, GR - irrigated cotton"},null,null,null,null,null,null,null,null,{"$f":"IF(AND('Eco results'!Q5='Eco results'!Q23,'Eco results'!P5='Eco results'!P23),\"Current paddock and strategy\",\"\")","v":"Current paddock and strategy"}]
[]
[]
[null,null,null,{"$f":"'Bio results'!U87&\"  \"&'Bio results'!U88","v":"  "},null,{"$f":"'Bio results'!V87&\" \"&'Bio results'!V88","v":" "},null,{"$f":"'Bio results'!W87&\"   \"&'Bio results'!W88","v":"   "},{"$f":"'Bio results'!X87&\"   \"&'Bio results'!X88","v":"-4%   -17%"},null,{"$f":"'Bio results'!Y87&\"   \"&'Bio results'!Y88","v":"   "},null,{"$f":"'Bio results'!Z87&\"   \"&'Bio results'!Z88","v":"   "}]
[]
[null,null,null,null,null,null,null,null,null,null,null,null,{"$f":"'Bio results'!X87&\"  \"&'Bio results'!X88","v":"-4%  -17%"}]
[]
[]
[]
[null,null,null,null,null,null,null,null,null,null,null,null,null,null,null,"Effect of weed density on crop yields"]
[null,null,null,null,null,null,null,null,null,null,null,null,null," "]
[]
[]
[]
[]
[null,{"$f":"IF(AND('Eco results'!Q5='Eco results'!Q41,'Eco results'!P5='Eco results'!P41),\"Current\",\"\")","v":"Current"},{"$f":"'Eco results'!P41","v":5226.3234002643867}," /ha /year",null,{"$f":"IF('Eco results'!Q41<>\"\",'Eco results'!Q41,\"\")","v":"BYGUM, GR - irrigated cotton"},null,null,null,null,null,null,null,null,{"$f":"IF(AND('Eco results'!Q5='Eco results'!Q41,'Eco results'!P5='Eco results'!P41),\"Current paddock and strategy\",\"\")","v":"Current paddock and strategy"}]
[]
[]
[null,null,null,{"$f":"'Bio results'!AA87&\"   \"&'Bio results'!AA88","v":"   "},null,{"$f":"'Bio results'!AB87&\"  \"&'Bio results'!AB88","v":"  "},null,{"$f":"'Bio results'!AC87&\"   \"&'Bio results'!AC88","v":"   "},null,{"$f":"'Bio results'!AD87&\"   \"&'Bio results'!AD88","v":"-4%   -17%"},{"$f":"'Bio results'!AE87&\"   \"&'Bio results'!AE88","v":"   "},null,{"$f":"'Bio results'!AF87&\"   \"&'Bio results'!AF88","v":"   "}]
[]
[null,null,null,null,null,null,null,null,null,null,null,null,{"$f":"'Bio results'!AD87&\"  \"&'Bio results'!AD88","v":"-4%  -17%"}]
[]
[]
[]
[null,null,null,null,null,null,null,null,null,null,null,null,null,null,null,null,null,"Average yield penalty on crops"]
[null,null,null,null,null,null,null,null,null,null,null,null,null," ",null,null,null,"because of barnyard grass:"]
[]
[null,null,null,null,null,null,null,null,null,null,null,null,null,null,null,null,{"$f":"'Bio results'!X82","v":-0.17},null,{"$f":"'Bio results'!AD82","v":-0.17}]
[null,null,null,null,null,null,null,null,null,null,null,null,null,null,null,null,null,null,null,null,null,null,null,null,null,null,null,null,null,null,null,null,null,null,null,null,null,null,null,null,null,null,null,null,null,false]
[null,null,null,null,null,null,null,null,null,null,null,null,null,null,null,null,null,null,null,null,null,null,null,null,null,null,null,null,null,null,null,null,null,null,null,null,null,null,null,null,null,null,null,{"$f":"P_33CG","v":true}]

{"sheet":"3. Out Tab","index":11,"n_rows":81,"n_cols":46,"rows_kept":81,"cut":false,"hidden":false,"merged":[]}
["3. COMPARE Output"]
[]
[]
[null,{"$f":"TEXT(NOW(), \"dd mmmm yyyy\")","v":"18 March 2017"}]
[null,null,null,null,null,{"$f":"IF(AND('Eco results'!Q5='Eco results'!Q23,'Eco results'!P5='Eco results'!P23),\"Current\",\"\")","v":"Current"},{"$f":"IF('Eco results'!Q23<>\"\",'Eco results'!Q23,\"\")","v":"BYGUM, GR - irrigated cotton"},null,null,null,null,null,null,null,null,null,{"$f":"IF(AND('Eco results'!Q5='Eco results'!Q41,'Eco results'!P5='Eco results'!P41),\"Current\",\"\")","v":"Current"},{"$f":"IF('Eco results'!Q41<>\"\",'Eco results'!Q41,\"\")","v":"BYGUM, GR - irrigated cotton"}]
[null,"Economical results   ($ /ha)",null,null,"Year",1,2,3,4,5,6,7,8,9,10,null,1,2,3,4,5,6,7,8,9,10]
[null,{"$f":"'Eco results'!P7","v":"Crops"},null,null,null,{"$f":"'Eco results'!Q25","v":6333.1867899592562},{"$f":"'Eco results'!R25","v":0},{"$f":"'Eco results'!S25","v":6381.0532884286849},{"$f":"'Eco results'!T25","v":0},{"$f":"'Eco results'!U25","v":6127.230220099611},{"$f":"'Eco results'!V25","v":0},{"$f":"'Eco results'!W25","v":5901.3130317838913},{"$f":"'Eco results'!X25","v":0},{"$f":"'Eco results'!Y25","v":4457.7973695739129},{"$f":"'Eco results'!Z25","v":0},null,{"$f":"'Eco results'!Q43","v":6333.1867899592562},{"$f":"'Eco results'!R43","v":0},{"$f":"'Eco results'!S43","v":6381.0532884286849},{"$f":"'Eco results'!T43","v":0},{"$f":"'Eco results'!U43","v":6127.230220099611},{"$f":"'Eco results'!V43","v":0},{"$f":"'Eco results'!W43","v":5901.3130317838913},{"$f":"'Eco results'!X43","v":0},{"$f":"'Eco results'!Y43","v":4457.7973695739129},{"$f":"'Eco results'!Z43","v":0}]
[null,null,null,"Total gross receipts",null,{"$f":"F7","v":6333.1867899592562},{"$f":"G7","v":0},6381.0532884286849,0,6127.230220099611,0,5901.3130317838913,0,4457.7973695739129,0,null,{"$f":"Q7","v":6333.1867899592562},{"$f":"R7","v":0},6381.0532884286849,0,6127.230220099611,0,5901.3130317838913,0,4457.7973695739129,0]
[null,{"$f":"'Eco results'!P10","v":"Competition"},null,null,null,{"$f":"'Eco results'!Q28","v":0},{"$f":"'Eco results'!R28","v":0},{"$f":"'Eco results'!S28","v":0},{"$f":"'Eco results'!T28","v":0},{"$f":"'Eco results'!U28","v":0},{"$f":"'Eco results'!V28","v":0},{"$f":"'Eco results'!W28","v":0},{"$f":"'Eco results'!X28","v":0},{"$f":"'Eco results'!Y28","v":0},{"$f":"'Eco results'!Z28","v":0},null,{"$f":"'Eco results'!Q46","v":0},{"$f":"'Eco results'!R46","v":0},{"$f":"'Eco results'!S46","v":0},{"$f":"'Eco results'!T46","v":0},{"$f":"'Eco results'!U46","v":0},{"$f":"'Eco results'!V46","v":0},{"$f":"'Eco results'!W46","v":0},{"$f":"'Eco results'!X46","v":0},{"$f":"'Eco results'!Y46","v":0},{"$f":"'Eco results'!Z46","v":0}]
[null,{"$f":"'Eco results'!P11","v":"Herbicides"},null,null,null,{"$f":"'Eco results'!Q29","v":93.5},{"$f":"'Eco results'!R29","v":27},{"$f":"'Eco results'!S29","v":68},{"$f":"'Eco results'!T29","v":51.5},{"$f":"'Eco results'!U29","v":123},{"$f":"'Eco results'!V29","v":34.5},{"$f":"'Eco results'!W29","v":68},{"$f":"'Eco results'!X29","v":19.5},{"$f":"'Eco results'!Y29","v":68},{"$f":"'Eco results'!Z29","v":50.5},null,{"$f":"'Eco results'!Q47","v":93.5},{"$f":"'Eco results'!R47","v":27},{"$f":"'Eco results'!S47","v":68},{"$f":"'Eco results'!T47","v":51.5},{"$f":"'Eco results'!U47","v":123},{"$f":"'Eco results'!V47","v":34.5},{"$f":"'Eco results'!W47","v":68},{"$f":"'Eco results'!X47","v":19.5},{"$f":"'Eco results'!Y47","v":68},{"$f":"'Eco results'!Z47","v":50.5}]
[null,{"$f":"'Eco results'!P12","v":"Mechanical"},null,null,null,{"$f":"'Eco results'!Q30","v":12.600000000000001},{"$f":"'Eco results'!R30","v":0},{"$f":"'Eco results'!S30","v":26.1},{"$f":"'Eco results'!T30","v":6.3000000000000007},{"$f":"'Eco results'!U30","v":26.1},{"$f":"'Eco results'!V30","v":0},{"$f":"'Eco results'!W30","v":12.600000000000001},{"$f":"'Eco results'!X30","v":0},{"$f":"'Eco results'!Y30","v":33.299999999999997},{"$f":"'Eco results'!Z30","v":0},null,{"$f":"'Eco results'!Q48","v":12.600000000000001},{"$f":"'Eco results'!R48","v":0},{"$f":"'Eco results'!S48","v":26.1},{"$f":"'Eco results'!T48","v":6.3000000000000007},{"$f":"'Eco results'!U48","v":26.1},{"$f":"'Eco results'!V48","v":0},{"$f":"'Eco results'!W48","v":12.600000000000001},{"$f":"'Eco results'!X48","v":0},{"$f":"'Eco results'!Y48","v":33.299999999999997},{"$f":"'Eco results'!Z48","v":0}]
[null,{"$f":"'Eco results'!P13","v":"User's options"},null,null,null,{"$f":"'Eco results'!Q31","v":0},{"$f":"'Eco results'!R31","v":0},{"$f":"'Eco results'!S31","v":0},{"$f":"'Eco results'!T31","v":0},{"$f":"'Eco results'!U31","v":0},{"$f":"'Eco results'!V31","v":0},{"$f":"'Eco results'!W31","v":0},{"$f":"'Eco results'!X31","v":0},{"$f":"'Eco results'!Y31","v":0},{"$f":"'Eco results'!Z31","v":0},null,{"$f":"'Eco results'!Q49","v":0},{"$f":"'Eco results'!R49","v":0},{"$f":"'Eco results'!S49","v":0},{"$f":"'Eco results'!T49","v":0},{"$f":"'Eco results'!U49","v":0},{"$f":"'Eco results'!V49","v":0},{"$f":"'Eco results'!W49","v":0},{"$f":"'Eco results'!X49","v":0},{"$f":"'Eco results'!Y49","v":0},{"$f":"'Eco results'!Z49","v":0}]
[null,null,null,"Total weed control costs",null,{"$f":"F9+F10+F11+F12","v":106.1},{"$f":"G9+G10+G11+G12","v":27},94.1,57.8,149.1,34.5,80.599999999999994,19.5,101.3,50.5,null,{"$f":"Q9+Q10+Q11+Q12","v":106.1},27,94.1,57.8,149.1,34.5,80.599999999999994,19.5,101.3,50.5]
[null,"Crops",null,null,null,{"$f":"'Eco results'!Q32","v":267.64999999999998},{"$f":"'Eco results'!R32","v":0},{"$f":"'Eco results'!S32","v":265.14999999999998},{"$f":"'Eco results'!T32","v":0},{"$f":"'Eco results'!U32","v":265.14999999999998},{"$f":"'Eco results'!V32","v":0},{"$f":"'Eco results'!W32","v":265.14999999999998},{"$f":"'Eco results'!X32","v":0},{"$f":"'Eco results'!Y32","v":262.64999999999998},{"$f":"'Eco results'!Z32","v":0},null,{"$f":"'Eco results'!Q50","v":267.64999999999998},{"$f":"'Eco results'!R50","v":0},{"$f":"'Eco results'!S50","v":265.14999999999998},{"$f":"'Eco results'!T50","v":0},{"$f":"'Eco results'!U50","v":265.14999999999998},{"$f":"'Eco results'!V50","v":0},{"$f":"'Eco results'!W50","v":265.14999999999998},{"$f":"'Eco results'!X50","v":0},{"$f":"'Eco results'!Y50","v":262.64999999999998},{"$f":"'Eco results'!Z50","v":0}]
[null,"Fallow/Cover Crop",null,null,null,{"$f":"'Eco results'!Q33","v":0},{"$f":"'Eco results'!R33","v":12},{"$f":"'Eco results'!S33","v":0},{"$f":"'Eco results'!T33","v":12},{"$f":"'Eco results'!U33","v":0},{"$f":"'Eco results'!V33","v":12},{"$f":"'Eco results'!W33","v":0},{"$f":"'Eco results'!X33","v":12},{"$f":"'Eco results'!Y33","v":0},{"$f":"'Eco results'!Z33","v":12},null,{"$f":"'Eco results'!Q51","v":0},{"$f":"'Eco results'!R51","v":12},{"$f":"'Eco results'!S51","v":0},{"$f":"'Eco results'!T51","v":12},{"$f":"'Eco results'!U51","v":0},{"$f":"'Eco results'!V51","v":12},{"$f":"'Eco results'!W51","v":0},{"$f":"'Eco results'!X51","v":12},{"$f":"'Eco results'!Y51","v":0},{"$f":"'Eco results'!Z51","v":12}]
[null,null,null,"Total non-weed costs",null,{"$f":"F14+F15","v":267.64999999999998},{"$f":"G14+G15","v":12},265.14999999999998,12,265.14999999999998,12,265.14999999999998,12,262.64999999999998,12,null,{"$f":"Q14+Q15","v":267.64999999999998},{"$f":"R14+R15","v":12},265.14999999999998,12,265.14999999999998,12,265.14999999999998,12,262.64999999999998,12]
[null,"Net returns (gross margins)",null,null,null,{"$f":"'Eco results'!Q34","v":5959.4367899592562},{"$f":"'Eco results'!R34","v":-39},{"$f":"'Eco results'!S34","v":6021.8032884286849},{"$f":"'Eco results'!T34","v":-69.8},{"$f":"'Eco results'!U34","v":5712.980220099611},{"$f":"'Eco results'!V34","v":-46.5},{"$f":"'Eco results'!W34","v":5555.5630317838913},{"$f":"'Eco results'!X34","v":-31.5},{"$f":"'Eco results'!Y34","v":4093.8473695739131},{"$f":"'Eco results'!Z34","v":-62.5},null,{"$f":"'Eco results'!Q52","v":5959.4367899592562},{"$f":"'Eco results'!R52","v":-39},{"$f":"'Eco results'!S52","v":6021.8032884286849},{"$f":"'Eco results'!T52","v":-69.8},{"$f":"'Eco results'!U52","v":5712.980220099611},{"$f":"'Eco results'!V52","v":-46.5},{"$f":"'Eco results'!W52","v":5555.5630317838913},{"$f":"'Eco results'!X52","v":-31.5},{"$f":"'Eco results'!Y52","v":4093.8473695739131},{"$f":"'Eco results'!Z52","v":-62.5}]
[null,null,null,"Average annual profit ($ /ha /year)",null,null,null,null,null,null,null,null,null,null,{"$f":"'Eco results'!P23","v":5226.3234002643867},null,null,null,null,null,null,null,null,null,null,{"$f":"'Eco results'!P41","v":5226.3234002643867}]
[]
[null,null,null,null,null,{"$f":"LEFT('Eco results'!Q24,1)","v":"I"},{"$f":"LEFT('Eco results'!R24,1)","v":"W"},{"$f":"LEFT('Eco results'!S24,1)","v":"I"},{"$f":"LEFT('Eco results'!T24,1)","v":"W"},{"$f":"LEFT('Eco results'!U24,1)","v":"I"},{"$f":"LEFT('Eco results'!V24,1)","v":"W"},{"$f":"LEFT('Eco results'!W24,1)","v":"I"},{"$f":"LEFT('Eco results'!X24,1)","v":"W"},{"$f":"LEFT('Eco results'!Y24,1)","v":"I"},{"$f":"LEFT('Eco results'!Z24,1)","v":"W"},null,{"$f":"LEFT('Eco results'!Q42,1)","v":"I"},{"$f":"LEFT('Eco results'!R42,1)","v":"W"},{"$f":"LEFT('Eco results'!S42,1)","v":"I"},{"$f":"LEFT('Eco results'!T42,1)","v":"W"},{"$f":"LEFT('Eco results'!U42,1)","v":"I"},{"$f":"LEFT('Eco results'!V42,1)","v":"W"},{"$f":"LEFT('Eco results'!W42,1)","v":"I"},{"$f":"LEFT('Eco results'!X42,1)","v":"W"},{"$f":"LEFT('Eco results'!Y42,1)","v":"I"},{"$f":"LEFT('Eco results'!Z42,1)","v":"W"}]
[null,"Biological results",null,null,"Year",1,2,3,4,5,6,7,8,9,10,null,1,2,3,4,5,6,7,8,9,10]
[null,"Weeds per m2"]
[null,"First chance to germinate",null,null,null,{"$f":"'Bio results'!D105","v":3.8},{"$f":"'Bio results'!E105","v":0},{"$f":"'Bio results'!F105","v":11.464749548440269},{"$f":"'Bio results'!G105","v":0},{"$f":"'Bio results'!H105","v":22.84118703042946},{"$f":"'Bio results'!I105","v":0},{"$f":"'Bio results'!J105","v":62.820678901585602},{"$f":"'Bio results'!K105","v":0},{"$f":"'Bio results'!L105","v":131.66745753421023},{"$f":"'Bio results'!M105","v":0},null,{"$f":"'Bio results'!D128","v":3.8},{"$f":"'Bio results'!E128","v":0},{"$f":"'Bio results'!F128","v":11.464749548440269},{"$f":"'Bio results'!G128","v":0},{"$f":"'Bio results'!H128","v":22.84118703042946},{"$f":"'Bio results'!I128","v":0},{"$f":"'Bio results'!J128","v":62.820678901585602},{"$f":"'Bio results'!K128","v":0},{"$f":"'Bio results'!L128","v":131.66745753421023},{"$f":"'Bio results'!M128","v":0}]
[null,"Avg mid-September",null,null,null,{"$f":"'Bio results'!D106","v":8.8325299999999984},{"$f":"'Bio results'!E106","v":0},{"$f":"'Bio results'!F106","v":27.507946829050155},{"$f":"'Bio results'!G106","v":0},{"$f":"'Bio results'!H106","v":28.594493743215125},{"$f":"'Bio results'!I106","v":0},{"$f":"'Bio results'!J106","v":150.7287959225194},{"$f":"'Bio results'!K106","v":0},{"$f":"'Bio results'!L106","v":315.91631423470733},{"$f":"'Bio results'!M106","v":0},null,{"$f":"'Bio results'!D129","v":8.8325299999999984},{"$f":"'Bio results'!E129","v":0},{"$f":"'Bio results'!F129","v":27.507946829050155},{"$f":"'Bio results'!G129","v":0},{"$f":"'Bio results'!H129","v":28.594493743215125},{"$f":"'Bio results'!I129","v":0},{"$f":"'Bio results'!J129","v":150.7287959225194},{"$f":"'Bio results'!K129","v":0},{"$f":"'Bio results'!L129","v":315.91631423470733},{"$f":"'Bio results'!M129","v":0}]
[null,"Avg late October",null,null,null,{"$f":"'Bio results'!D107","v":0.88818091599999993},{"$f":"'Bio results'!E107","v":0},{"$f":"'Bio results'!F107","v":2.6456845405987175},{"$f":"'Bio results'!G107","v":0},{"$f":"'Bio results'!H107","v":0.97874576191255314},{"$f":"'Bio results'!I107","v":0},{"$f":"'Bio results'!J107","v":14.496932383704131},{"$f":"'Bio results'!K107","v":0},{"$f":"'Bio results'!L107","v":109.7060651497238},{"$f":"'Bio results'!M107","v":0},null,{"$f":"'Bio results'!D130","v":0.88818091599999993},{"$f":"'Bio results'!E130","v":0},{"$f":"'Bio results'!F130","v":2.6456845405987175},{"$f":"'Bio results'!G130","v":0},{"$f":"'Bio results'!H130","v":0.97874576191255314},{"$f":"'Bio results'!I130","v":0},{"$f":"'Bio results'!J130","v":14.496932383704131},{"$f":"'Bio results'!K130","v":0},{"$f":"'Bio results'!L130","v":109.7060651497238},{"$f":"'Bio results'!M130","v":0}]
[null,"Avg mid-December",null,null,null,{"$f":"'Bio results'!D108","v":1.0080700983919999},{"$f":"'Bio results'!E108","v":0},{"$f":"'Bio results'!F108","v":2.8657740918695667},{"$f":"'Bio results'!G108","v":0},{"$f":"'Bio results'!H108","v":1.0292035849964896},{"$f":"'Bio results'!I108","v":0},{"$f":"'Bio results'!J108","v":15.70290508913153},{"$f":"'Bio results'!K108","v":0},{"$f":"'Bio results'!L108","v":214.34904322737708},{"$f":"'Bio results'!M108","v":0},null,{"$f":"'Bio results'!D131","v":1.0080700983919999},{"$f":"'Bio results'!E131","v":0},{"$f":"'Bio results'!F131","v":2.8657740918695667},{"$f":"'Bio results'!G131","v":0},{"$f":"'Bio results'!H131","v":1.0292035849964896},{"$f":"'Bio results'!I131","v":0},{"$f":"'Bio results'!J131","v":15.70290508913153},{"$f":"'Bio results'!K131","v":0},{"$f":"'Bio results'!L131","v":214.34904322737708},{"$f":"'Bio results'!M131","v":0}]
[null,"Late summer/layby time",null,null,null,{"$f":"'Bio results'!D109","v":1.3370713881992597},{"$f":"'Bio results'!E109","v":0},{"$f":"'Bio results'!F109","v":3.6631392973639043},{"$f":"'Bio results'!G109","v":0},{"$f":"'Bio results'!H109","v":3.321687142211097},{"$f":"'Bio results'!I109","v":0},{"$f":"'Bio results'!J109","v":22.074159181672634},{"$f":"'Bio results'!K109","v":0},{"$f":"'Bio results'!L109","v":91.941740289493964},{"$f":"'Bio results'!M109","v":0},null,{"$f":"'Bio results'!D132","v":1.3370713881992597},{"$f":"'Bio results'!E132","v":0},{"$f":"'Bio results'!F132","v":3.6631392973639043},{"$f":"'Bio results'!G132","v":0},{"$f":"'Bio results'!H132","v":3.321687142211097},{"$f":"'Bio results'!I132","v":0},{"$f":"'Bio results'!J132","v":22.074159181672634},{"$f":"'Bio results'!K132","v":0},{"$f":"'Bio results'!L132","v":91.941740289493964},{"$f":"'Bio results'!M132","v":0}]
[null,"Mature seeds setting seed",null,null,null,{"$f":"'Bio results'!D110","v":0.34095320399081125},{"$f":"'Bio results'!E110","v":0},{"$f":"'Bio results'!F110","v":0.73262785947278075},{"$f":"'Bio results'!G110","v":0},{"$f":"'Bio results'!H110","v":2.8234340708794323},{"$f":"'Bio results'!I110","v":0},{"$f":"'Bio results'!J110","v":18.763035304421738},{"$f":"'Bio results'!K110","v":0},{"$f":"'Bio results'!L110","v":18.388348057898789},{"$f":"'Bio results'!M110","v":0},null,{"$f":"'Bio results'!D133","v":0.34095320399081125},{"$f":"'Bio results'!E133","v":0},{"$f":"'Bio results'!F133","v":0.73262785947278075},{"$f":"'Bio results'!G133","v":0},{"$f":"'Bio results'!H133","v":2.8234340708794323},{"$f":"'Bio results'!I133","v":0},{"$f":"'Bio results'!J133","v":18.763035304421738},{"$f":"'Bio results'!K133","v":0},{"$f":"'Bio results'!L133","v":18.388348057898789},{"$f":"'Bio results'!M133","v":0}]
[]
[null,"BYG seeds per m2"]
[null,"First chance to germinate",null,null,null,{"$f":"'Bio results'!D114","v":196.2},{"$f":"'Bio results'!E114","v":0},{"$f":"'Bio results'!F114","v":625.46578092046354},{"$f":"'Bio results'!G114","v":0},{"$f":"'Bio results'!H114","v":1246.1136479934296},{"$f":"'Bio results'!I114","v":0},{"$f":"'Bio results'!J114","v":3427.21703785317},{"$f":"'Bio results'!K114","v":0},{"$f":"'Bio results'!L114","v":7183.1912943663592},{"$f":"'Bio results'!M114","v":0},null,{"$f":"'Bio results'!D137","v":196.2},{"$f":"'Bio results'!E137","v":0},{"$f":"'Bio results'!F137","v":625.46578092046354},{"$f":"'Bio results'!G137","v":0},{"$f":"'Bio results'!H137","v":1246.1136479934296},{"$f":"'Bio results'!I137","v":0},{"$f":"'Bio results'!J137","v":3427.21703785317},{"$f":"'Bio results'!K137","v":0},{"$f":"'Bio results'!L137","v":7183.1912943663592},{"$f":"'Bio results'!M137","v":0}]
[null,"Time for post-emergence spraying",null,null,null,{"$f":"'Bio results'!D117","v":55.340067464640001},{"$f":"'Bio results'!E117","v":0},{"$f":"'Bio results'!F117","v":176.9575017764603},{"$f":"'Bio results'!G117","v":0},{"$f":"'Bio results'!H117","v":352.55191379767825},{"$f":"'Bio results'!I117","v":0},{"$f":"'Bio results'!J117","v":969.63220621231471},{"$f":"'Bio results'!K117","v":0},{"$f":"'Bio results'!L117","v":6774.2559492375549},{"$f":"'Bio results'!M117","v":0},null,{"$f":"'Bio results'!D140","v":55.340067464640001},{"$f":"'Bio results'!E140","v":0},{"$f":"'Bio results'!F140","v":176.9575017764603},{"$f":"'Bio results'!G140","v":0},{"$f":"'Bio results'!H140","v":352.55191379767825},{"$f":"'Bio results'!I140","v":0},{"$f":"'Bio results'!J140","v":969.63220621231471},{"$f":"'Bio results'!K140","v":0},{"$f":"'Bio results'!L140","v":6774.2559492375549},{"$f":"'Bio results'!M140","v":0}]
[null,"Late summer - Seed produced per m2",null,null,null,{"$f":"'Bio results'!D122","v":20.675052679072909},{"$f":"'Bio results'!E122","v":0},{"$f":"'Bio results'!F122","v":45.591121099525814},{"$f":"'Bio results'!G122","v":0},{"$f":"'Bio results'!H122","v":54.185112542039988},{"$f":"'Bio results'!I122","v":0},{"$f":"'Bio results'!J122","v":1204.4371861412924},{"$f":"'Bio results'!K122","v":0},{"$f":"'Bio results'!L122","v":861.37258833317355},{"$f":"'Bio results'!M122","v":0},null,{"$f":"'Bio results'!D145","v":20.675052679072909},{"$f":"'Bio results'!E145","v":0},{"$f":"'Bio results'!F145","v":45.591121099525814},{"$f":"'Bio results'!G145","v":0},{"$f":"'Bio results'!H145","v":54.185112542039988},{"$f":"'Bio results'!I145","v":0},{"$f":"'Bio results'!J145","v":1204.4371861412924},{"$f":"'Bio results'!K145","v":0},{"$f":"'Bio results'!L145","v":861.37258833317355},{"$f":"'Bio results'!M145","v":0}]
[null,"Just before harvest",null,null,null,{"$f":"'Bio results'!D123","v":48.040716040337387},{"$f":"'Bio results'!E123","v":0},{"$f":"'Bio results'!F123","v":133.27356322976189},{"$f":"'Bio results'!G123","v":0},{"$f":"'Bio results'!H123","v":228.87458582878958},{"$f":"'Bio results'!I123","v":0},{"$f":"'Bio results'!J123","v":1684.8899443194944},{"$f":"'Bio results'!K123","v":0},{"$f":"'Bio results'!L123","v":4218.0164111803824},{"$f":"'Bio results'!M123","v":0},null,{"$f":"'Bio results'!D146","v":48.040716040337387},{"$f":"'Bio results'!E146","v":0},{"$f":"'Bio results'!F146","v":133.27356322976189},{"$f":"'Bio results'!G146","v":0},{"$f":"'Bio results'!H146","v":228.87458582878958},{"$f":"'Bio results'!I146","v":0},{"$f":"'Bio results'!J146","v":1684.8899443194944},{"$f":"'Bio results'!K146","v":0},{"$f":"'Bio results'!L146","v":4218.0164111803824},{"$f":"'Bio results'!M146","v":0}]
[null,"After harvest",null,null,null,{"$f":"'Bio results'!D124","v":636.93053046890384},{"$f":"'Bio results'!E124","v":0},{"$f":"'Bio results'!F124","v":1268.954835023859},{"$f":"'Bio results'!G124","v":0},{"$f":"'Bio results'!H124","v":3490.0377167547558},{"$f":"'Bio results'!I124","v":0},{"$f":"'Bio results'!J124","v":7314.8587519005696},{"$f":"'Bio results'!K124","v":0},{"$f":"'Bio results'!L124","v":7516.3537049522447},{"$f":"'Bio results'!M124","v":0},null,{"$f":"'Bio results'!D147","v":636.93053046890384},{"$f":"'Bio results'!E147","v":0},{"$f":"'Bio results'!F147","v":1268.954835023859},{"$f":"'Bio results'!G147","v":0},{"$f":"'Bio results'!H147","v":3490.0377167547558},{"$f":"'Bio results'!I147","v":0},{"$f":"'Bio results'!J147","v":7314.8587519005696},{"$f":"'Bio results'!K147","v":0},{"$f":"'Bio results'!L147","v":7516.3537049522447},{"$f":"'Bio results'!M147","v":0}]
[]
[]
[]
[null,null,null,null,null,null,null,null,null,null,null,null,null,null,null,null,null,null,null,null,null,null,null,null,null,null,null,null,null,null,null,null,null,null,null,null,null,null,null,null,null,null,null,{"$f":"P_34Tab","v":true}]
[]
[]
[]
[null,null,null,null,null,null,null,null,null,null,null,null,null,null,null,null,null,null,null,null,null,null,null,null,null,null,null,null,null,null,null,null," "]
[]
[]
[null,null,null,null,null,null,null,null,null,null,null,null,null,null,null,null,null,null,null,null,null,null,null,null,null,null,null,null,null,null,null,null,null,null,null,null,null,null,null,null,null,null,null,null,null,0]
[null,null,"Would you like to export your results ?"]
[]
[null,null,null,null,null,null,null,null,null,null,null,null,null,null,null,null,null,null,null,null,null,null,null,null,null,null,null,null,null,null,null,null,null,null,null,null,null,null,null,null,null,null,null,null,null,{"$f":"IF(AND(P_1P=FALSE,P_2S=FALSE,P_31Eco=FALSE,P_32Pop=FALSE,P_33CG=FALSE,P_34Tab=FALSE),\"none\",\"ok\")","v":"ok"}]
[]
[]
[null,null,null,null,null,null,"Current profile"]
[]
[null,null,null,null,null,null,null,null,null,null,null,null,null,null,null,null,null,null,null,null,null,null,null,null,null,null,null,null,null,null,null,null,null,null,null,null,null,null,null,null,null,null,null,null,null,true]
[]
[null,null,null,null,null,null,"Current strategy"]
[]
[null,null,null,null,null,null,null,null,null,null,null,null,null,null,null,null,null,null,null,null,null,null,null,null,null,null,null,null,null,null,null,null,null,null,null,null,null,null,null,null,null,null,null,null,null,true]
[]
[null,null,null,null,null,null,"Summary and economics"]
[]
[null,null,null,null,null,null,null,null,null,null,null,null,null,null,null,null,null,null,null,null,null,null,null,null,null,null,null,null,null,null,null,null,null,null,null,null,null,null,null,null,null,null,null,null,null,true]
[]
[null,null,null,null,null,null,"BYG seed bank & population"]
[]
[null,null,null,null,null,null,null,null,null,null,null,null,null,null,null,null,null,null,null,null,null,null,null,null,null,null,null,null,null,null,null,null,null,null,null,null,null,null,null,null,null,null,null,null,null,true]
[]
[null,null,null,null,null,null,"Crop yields and weed burden"]
[]
[null,null,null,null,null,null,null,null,null,null,null,null,null,null,null,null,null,null,null,null,null,null,null,null,null,null,null,null,null,null,null,null,null,null,null,null,null,null,null,null,null,null,null,null,null,true]
[]
[null,null,null,null,null,null,"Data tables"]
[]
[null,null,null,null,null,null,null,null,null,null,null,null,null,null,null,null,null,null,null,null,null,null,null,null,null,null,null,null,null,null,null,null,null,null,null,null,null,null,null,null,null,null,null,null,null,true]
[]
[]
[]
[]
[]
[]
[null,null,null,null,null,null,null,null,null,null,null,null,null,null,null,null,null,null,null,null,null,null,null,null,null,null,null,null,null,null,null,null,null,null,null,null,null,null,null,null,null,null,null,null,null,false]

{"sheet":"Eco results","index":12,"n_rows":66,"n_cols":28,"rows_kept":66,"cut":false,"hidden":false,"merged":[]}
[null,null,null,null,{"$f":"'2.Strategy'!D63","v":"Irrig cotton   1"},{"$f":"'2.Strategy'!E63","v":"Winter fallow   2"},{"$f":"'2.Strategy'!F63","v":"Irrig cotton   3"},{"$f":"'2.Strategy'!G63","v":"Winter fallow   4"},{"$f":"'2.Strategy'!H63","v":"Irrig cotton   5"},{"$f":"'2.Strategy'!I63","v":"Winter fallow   6"},{"$f":"'2.Strategy'!J63","v":"Irrig cotton   7"},{"$f":"'2.Strategy'!K63","v":"Winter fallow   8"},{"$f":"'2.Strategy'!L63","v":"Irrig cotton   9"},{"$f":"'2.Strategy'!M63","v":"Winter fallow   10"}]
[null,"Table 1. Receipts"]
[null,"Crop gross receipts ($/ha)",null,null,{"$f":"'Bio results'!D50*'1.Profile'!$D$8+'Bio results'!D51*'1.Profile'!$E$8+'Bio results'!D52*'1.Profile'!$G$8+'Bio results'!D55*'1.Profile'!$I$8+'Bio results'!D53*'1.Profile'!$F$8+'Bio results'!D54*'1.Profile'!$H$8","v":6333.1867899592562},{"$f":"'Bio results'!E50*'1.Profile'!$D$8+'Bio results'!E51*'1.Profile'!$E$8+'Bio results'!E52*'1.Profile'!$G$8+'Bio results'!E55*'1.Profile'!$I$8+'Bio results'!E53*'1.Profile'!$F$8+'Bio results'!E54*'1.Profile'!$H$8","v":0},{"$f":"'Bio results'!F50*'1.Profile'!$D$8+'Bio results'!F51*'1.Profile'!$E$8+'Bio results'!F52*'1.Profile'!$G$8+'Bio results'!F55*'1.Profile'!$I$8+'Bio results'!F53*'1.Profile'!$F$8+'Bio results'!F54*'1.Profile'!$H$8","v":6381.0532884286849},{"$f":"'Bio results'!G50*'1.Profile'!$D$8+'Bio results'!G51*'1.Profile'!$E$8+'Bio results'!G52*'1.Profile'!$G$8+'Bio results'!G55*'1.Profile'!$I$8+'Bio results'!G53*'1.Profile'!$F$8+'Bio results'!G54*'1.Profile'!$H$8","v":0},{"$f":"'Bio results'!H50*'1.Profile'!$D$8+'Bio results'!H51*'1.Profile'!$E$8+'Bio results'!H52*'1.Profile'!$G$8+'Bio results'!H55*'1.Profile'!$I$8+'Bio results'!H53*'1.Profile'!$F$8+'Bio results'!H54*'1.Profile'!$H$8","v":6127.230220099611},{"$f":"'Bio results'!I50*'1.Profile'!$D$8+'Bio results'!I51*'1.Profile'!$E$8+'Bio results'!I52*'1.Profile'!$G$8+'Bio results'!I55*'1.Profile'!$I$8+'Bio results'!I53*'1.Profile'!$F$8+'Bio results'!I54*'1.Profile'!$H$8","v":0},{"$f":"'Bio results'!J50*'1.Profile'!$D$8+'Bio results'!J51*'1.Profile'!$E$8+'Bio results'!J52*'1.Profile'!$G$8+'Bio results'!J55*'1.Profile'!$I$8+'Bio results'!J53*'1.Profile'!$F$8+'Bio results'!J54*'1.Profile'!$H$8","v":5901.3130317838913},{"$f":"'Bio results'!K50*'1.Profile'!$D$8+'Bio results'!K51*'1.Profile'!$E$8+'Bio results'!K52*'1.Profile'!$G$8+'Bio results'!K55*'1.Profile'!$I$8+'Bio results'!K53*'1.Profile'!$F$8+'Bio results'!K54*'1.Profile'!$H$8","v":0},{"$f":"'Bio results'!L50*'1.Profile'!$D$8+'Bio results'!L51*'1.Profile'!$E$8+'Bio results'!L52*'1.Profile'!$G$8+'Bio results'!L55*'1.Profile'!$I$8+'Bio results'!L53*'1.Profile'!$F$8+'Bio results'!L54*'1.Profile'!$H$8","v":4457.7973695739129},{"$f":"'Bio results'!M50*'1.Profile'!$D$8+'Bio results'!M51*'1.Profile'!$E$8+'Bio results'!M52*'1.Profile'!$G$8+'Bio results'!M55*'1.Profile'!$I$8+'Bio results'!M53*'1.Profile'!$F$8+'Bio results'!M54*'1.Profile'!$H$8","v":0}]
[null,"Hay gross receipts ($/ha)",null,null,null,null,null,null,null,null,null,null,null,null,null,"ACTIVE"]
[null,"Silage gross receipts ($/ha)",null,null,null,null,null,null,null,null,null,null,null,null,null,{"$f":"E61","v":5226.3234002643867},{"$f":"'1.Profile'!$Q$28&\", \"&'1.Profile'!$Q$27&\" - \"&'2.Strategy'!$O$6","v":"BYGUM, GR - irrigated cotton"}]
[null,"Baling gross receipts ($/ha)",null,null,null,null,null,null,null,null,null,null,null,null,null,null,{"$f":"E1","v":"Irrig cotton   1"},"Winter fallow   2","Irrig cotton   3","Winter fallow   4","Irrig cotton   5","Winter fallow   6","Irrig cotton   7","Winter fallow   8","Irrig cotton   9","Winter fallow   10",null,"TOTAL"]
[null,"Pasture/livestock gross receipts ($/ha)",null,null,null,null,null,null,null,null,null,null,null,null,null,"Crops",{"$f":"E3","v":6333.1867899592562},0,6381.0532884286849,0,6127.230220099611,0,5901.3130317838913,0,4457.7973695739129,0,null,{"$f":"SUM(Q7:Z7)+0.1","v":29200.680699845358}]
[null,"Total gross receipts ($/ha)",null,null,{"$f":"SUM(E3:E7)","v":6333.1867899592562},0,6381.0532884286849,0,6127.230220099611,0,5901.3130317838913,0,4457.7973695739129,0,null,"Sheep",{"$f":"E7","v":0},0,0,0,0,0,0,0,0,0,null,{"$f":"SUM(Q8:Z8)+0.1","v":0.1}]
[null,null,null,null,null,null,null,null,null,null,null,null,null,null,null,"Fodder",{"$f":"E4+E5+E6","v":0},0,0,0,0,0,0,0,0,0,null,0.1]
[null,"Table 2. Expenses",null,null,null,null,null,null,null,null,null,null,null,null,null,"Competition",{"$f":"E25","v":0},{"$f":"F25","v":0},0,0,0,0,0,0,0,0,null,0.1]
[null,"Non-weed-control costs, crops ($/ha)",null,null,{"$f":"SUM(Calcs!C332:C337)","v":267.64999999999998},{"$f":"SUM(Calcs!D332:D337)","v":0},{"$f":"SUM(Calcs!E332:E337)","v":265.14999999999998},{"$f":"SUM(Calcs!F332:F337)","v":0},{"$f":"SUM(Calcs!G332:G337)","v":265.14999999999998},{"$f":"SUM(Calcs!H332:H337)","v":0},{"$f":"SUM(Calcs!I332:I337)","v":265.14999999999998},{"$f":"SUM(Calcs!J332:J337)","v":0},{"$f":"SUM(Calcs!K332:K337)","v":262.64999999999998},{"$f":"SUM(Calcs!L332:L337)","v":0},null,"Herbicides",{"$f":"SUM(E15:E24,E29:E31,E33:E36,E44:E45)+E40/4","v":93.5},{"$f":"SUM(F15:F24,F29:F31,F33:F36,F44:F45)+F40/4","v":27},68,51.5,123,34.5,68,19.5,68,50.5,null,603.6]
[null,"Non-weed-control costs, fallows/cc ($/ha)",null,null,{"$f":"SUM(Calcs!C338:C340)","v":0},{"$f":"SUM(Calcs!D338:D340)","v":12},{"$f":"SUM(Calcs!E338:E340)","v":0},{"$f":"SUM(Calcs!F338:F340)","v":12},{"$f":"SUM(Calcs!G338:G340)","v":0},{"$f":"SUM(Calcs!H338:H340)","v":12},{"$f":"SUM(Calcs!I338:I340)","v":0},{"$f":"SUM(Calcs!J338:J340)","v":12},{"$f":"SUM(Calcs!K338:K340)","v":0},{"$f":"SUM(Calcs!L338:L340)","v":12},null,"Mechanical",{"$f":"SUM(E26:E27,E32,E37:E39,E41:E43,E46)+E40*3/4","v":12.600000000000001},{"$f":"SUM(F26:F27,F32,F37:F39,F41:F43,F46)+F40*3/4","v":0},26.1,6.3000000000000007,26.1,0,12.600000000000001,0,33.299999999999997,0,null,117.09999999999998]
[null,"Total non-weed-control costs ($/ha) ",null,null,{"$f":"SUM(E11:E12)","v":267.64999999999998},12,265.14999999999998,12,265.14999999999998,12,265.14999999999998,12,262.64999999999998,12,null,"User's options",null,null,null,null,null,null,null,null,null,null,null,0.1]
[null,null,null,null,null,null,null,null,null,null,null,null,null,null,null,"Non-weed-control costs, crops ($/ha)",{"$f":"E11","v":267.64999999999998},0,265.14999999999998,0,265.14999999999998,0,265.14999999999998,0,262.64999999999998,0]
[{"$f":"Calcs!A7","v":1},{"$f":"Calcs!B7","v":"KD/DK: Glyphosate"},null,null,{"$f":"Calcs!C126","v":12.5},{"$f":"Calcs!D126","v":0},{"$f":"Calcs!E126","v":12.5},{"$f":"Calcs!F126","v":12.5},{"$f":"Calcs!G126","v":12.5},{"$f":"Calcs!H126","v":0},{"$f":"Calcs!I126","v":12.5},{"$f":"Calcs!J126","v":0},{"$f":"Calcs!K126","v":12.5},{"$f":"Calcs!L126","v":0},null,"Non-weed-control costs, fallow ($/ha)",0,12,0,12,0,12,0,12,0,12]
[{"$f":"Calcs!A8","v":2},{"$f":"Calcs!B8","v":"KD/DK: Paraquat"},null,null,{"$f":"Calcs!C127","v":0},{"$f":"Calcs!D127","v":0},{"$f":"Calcs!E127","v":14.5},{"$f":"Calcs!F127","v":14.5},{"$f":"Calcs!G127","v":14.5},{"$f":"Calcs!H127","v":0},{"$f":"Calcs!I127","v":14.5},{"$f":"Calcs!J127","v":0},{"$f":"Calcs!K127","v":14.5},{"$f":"Calcs!L127","v":0},null,"Gross margin ($/ha)",{"$f":"E51","v":5959.4367899592562},-39,6021.8032884286849,-69.8,5712.980220099611,-46.5,5555.5630317838913,-31.5,4093.8473695739131,-62.5]
[{"$f":"Calcs!A9","v":3},{"$f":"Calcs!B9","v":"KD/DK: Group A"},null,null,{"$f":"Calcs!C128","v":0},{"$f":"Calcs!D128","v":0},{"$f":"Calcs!E128","v":0},{"$f":"Calcs!F128","v":0},{"$f":"Calcs!G128","v":0},{"$f":"Calcs!H128","v":0},{"$f":"Calcs!I128","v":0},{"$f":"Calcs!J128","v":0},{"$f":"Calcs!K128","v":0},{"$f":"Calcs!L128","v":0},null,{"$f":"'Bio results'!C8","v":"Mature BYG setting seed setting seed (≈ late Feb.)"},{"$f":"'Bio results'!D8","v":0.34095320399081125},{"$f":"'Bio results'!E8","v":0},{"$f":"'Bio results'!F8","v":0.73262785947278075},{"$f":"'Bio results'!G8","v":0},{"$f":"'Bio results'!H8","v":2.8234340708794323},{"$f":"'Bio results'!I8","v":0},{"$f":"'Bio results'!J8","v":18.763035304421738},{"$f":"'Bio results'!K8","v":0},{"$f":"'Bio results'!L8","v":18.388348057898789},{"$f":"'Bio results'!M8","v":0}]
[{"$f":"Calcs!A10","v":4},{"$f":"Calcs!B10","v":"KD/DK: Tillage"},null,null,{"$f":"Calcs!C129","v":0},{"$f":"Calcs!D129","v":0},{"$f":"Calcs!E129","v":0},{"$f":"Calcs!F129","v":0},{"$f":"Calcs!G129","v":0},{"$f":"Calcs!H129","v":0},{"$f":"Calcs!I129","v":0},{"$f":"Calcs!J129","v":0},{"$f":"Calcs!K129","v":0},{"$f":"Calcs!L129","v":13.5}]
[{"$f":"Calcs!A11","v":5},{"$f":"Calcs!B11","v":"KD/DK: Glyphosate/Paraquat"},null,null,{"$f":"Calcs!C130","v":0},{"$f":"Calcs!D130","v":0},{"$f":"Calcs!E130","v":0},{"$f":"Calcs!F130","v":0},{"$f":"Calcs!G130","v":0},{"$f":"Calcs!H130","v":0},{"$f":"Calcs!I130","v":0},{"$f":"Calcs!J130","v":0},{"$f":"Calcs!K130","v":0},{"$f":"Calcs!L130","v":0}]
[{"$f":"Calcs!A12","v":6},{"$f":"Calcs!B12","v":"Pre-E: Trifluralin"},null,null,{"$f":"Calcs!C131","v":0},{"$f":"Calcs!D131","v":0},{"$f":"Calcs!E131","v":0},{"$f":"Calcs!F131","v":24.5},{"$f":"Calcs!G131","v":0},{"$f":"Calcs!H131","v":0},{"$f":"Calcs!I131","v":0},{"$f":"Calcs!J131","v":0},{"$f":"Calcs!K131","v":0},{"$f":"Calcs!L131","v":24.5}]
[{"$f":"Calcs!A13","v":7},{"$f":"Calcs!B13","v":"Pre-E: Diuron"},null,null,{"$f":"Calcs!C132","v":0},{"$f":"Calcs!D132","v":0},{"$f":"Calcs!E132","v":0},{"$f":"Calcs!F132","v":0},{"$f":"Calcs!G132","v":0},{"$f":"Calcs!H132","v":0},{"$f":"Calcs!I132","v":0},{"$f":"Calcs!J132","v":0},{"$f":"Calcs!K132","v":0},{"$f":"Calcs!L132","v":0},null,null,null,null,null,null,null,null,null,null,null,null," "]
[{"$f":"Calcs!A14","v":8},{"$f":"Calcs!B14","v":"Pre-E: Pendimethalin"},null,null,{"$f":"Calcs!C133","v":0},{"$f":"Calcs!D133","v":0},{"$f":"Calcs!E133","v":0},{"$f":"Calcs!F133","v":0},{"$f":"Calcs!G133","v":39.5},{"$f":"Calcs!H133","v":0},{"$f":"Calcs!I133","v":0},{"$f":"Calcs!J133","v":0},{"$f":"Calcs!K133","v":0},{"$f":"Calcs!L133","v":0},null,"STRATEGY A"]
[{"$f":"Calcs!A15","v":9},{"$f":"Calcs!B15","v":"Pre-E: s-Metolachlor"},null,null,{"$f":"Calcs!C134","v":0},{"$f":"Calcs!D134","v":0},{"$f":"Calcs!E134","v":0},{"$f":"Calcs!F134","v":0},{"$f":"Calcs!G134","v":0},{"$f":"Calcs!H134","v":34.5},{"$f":"Calcs!I134","v":0},{"$f":"Calcs!J134","v":0},{"$f":"Calcs!K134","v":0},{"$f":"Calcs!L134","v":0},null,5226.3234002643867,"BYGUM, GR - irrigated cotton"]
[{"$f":"Calcs!A16","v":10},{"$f":"Calcs!B16","v":"Pre-E: Fluometuron+Prometryn"},null,null,{"$f":"Calcs!C135","v":0},{"$f":"Calcs!D135","v":0},{"$f":"Calcs!E135","v":0},{"$f":"Calcs!F135","v":0},{"$f":"Calcs!G135","v":0},{"$f":"Calcs!H135","v":0},{"$f":"Calcs!I135","v":0},{"$f":"Calcs!J135","v":0},{"$f":"Calcs!K135","v":0},{"$f":"Calcs!L135","v":0},null,null,"Irrig cotton   1","Winter fallow   2","Irrig cotton   3","Winter fallow   4","Irrig cotton   5","Winter fallow   6","Irrig cotton   7","Winter fallow   8","Irrig cotton   9","Winter fallow   10",null,"TOTAL"]
[{"$f":"Calcs!A17","v":11},{"$f":"Calcs!B17","v":"High crop seeding rate selected"},null,null,{"$f":"Calcs!C136","v":0},{"$f":"Calcs!D136","v":0},{"$f":"Calcs!E136","v":0},{"$f":"Calcs!F136","v":0},{"$f":"Calcs!G136","v":0},{"$f":"Calcs!H136","v":0},{"$f":"Calcs!I136","v":0},{"$f":"Calcs!J136","v":0},{"$f":"Calcs!K136","v":0},{"$f":"Calcs!L136","v":0},null,"Crops",6333.1867899592562,0,6381.0532884286849,0,6127.230220099611,0,5901.3130317838913,0,4457.7973695739129,0,null,29200.680699845358]
[{"$f":"Calcs!A18","v":12},{"$f":"Calcs!B18","v":"Tickle selected"},null,null,{"$f":"Calcs!C137","v":0},{"$f":"Calcs!D137","v":0},{"$f":"Calcs!E137","v":0},{"$f":"Calcs!F137","v":6.3000000000000007},{"$f":"Calcs!G137","v":0},{"$f":"Calcs!H137","v":0},{"$f":"Calcs!I137","v":0},{"$f":"Calcs!J137","v":0},{"$f":"Calcs!K137","v":6.3000000000000007},{"$f":"Calcs!L137","v":0},null,"Sheep",0,0,0,0,0,0,0,0,0,0,null,0.1]
[{"$f":"Calcs!A19","v":13},{"$f":"Calcs!B19","v":"Cultivate selected"},null,null,{"$f":"Calcs!C138","v":12.600000000000001},{"$f":"Calcs!D138","v":0},{"$f":"Calcs!E138","v":12.600000000000001},{"$f":"Calcs!F138","v":0},{"$f":"Calcs!G138","v":12.600000000000001},{"$f":"Calcs!H138","v":0},{"$f":"Calcs!I138","v":12.600000000000001},{"$f":"Calcs!J138","v":0},{"$f":"Calcs!K138","v":0},{"$f":"Calcs!L138","v":0},null,"Fodder",0,0,0,0,0,0,0,0,0,0,null,0.1]
[{"$f":"Calcs!A20","v":14},{"$f":"Calcs!B20","v":"Full disturbance tillage"},null,null,"Costs are included in the non-weed-control costs.",null,null,null,null,null,null,null,null,null,null,"Competition",0,0,0,0,0,0,0,0,0,0,null,0.1]
[{"$f":"Calcs!A21","v":15},{"$f":"Calcs!B25","v":"Post-E 1: Glyphosate"},null,null,{"$f":"SUM(Calcs!C144,Calcs!C149,Calcs!C154,Calcs!C162,Calcs!C167)","v":46.5},{"$f":"SUM(Calcs!D144,Calcs!D149,Calcs!D154,Calcs!D162,Calcs!D167)","v":12.5},{"$f":"SUM(Calcs!E144,Calcs!E149,Calcs!E154,Calcs!E162,Calcs!E167)","v":31},{"$f":"SUM(Calcs!F144,Calcs!F149,Calcs!F154,Calcs!F162,Calcs!F167)","v":0},{"$f":"SUM(Calcs!G144,Calcs!G149,Calcs!G154,Calcs!G162,Calcs!G167)","v":46.5},{"$f":"SUM(Calcs!H144,Calcs!H149,Calcs!H154,Calcs!H162,Calcs!H167)","v":0},{"$f":"SUM(Calcs!I144,Calcs!I149,Calcs!I154,Calcs!I162,Calcs!I167)","v":31},{"$f":"SUM(Calcs!J144,Calcs!J149,Calcs!J154,Calcs!J162,Calcs!J167)","v":0},{"$f":"SUM(Calcs!K144,Calcs!K149,Calcs!K154,Calcs!K162,Calcs!K167)","v":31},{"$f":"SUM(Calcs!L144,Calcs!L149,Calcs!L154,Calcs!L162,Calcs!L167)","v":12.5},null,"Herbicides",93.5,27,68,51.5,123,34.5,68,19.5,68,50.5,null,603.6]
[{"$f":"Calcs!A22","v":16},{"$f":"Calcs!B26","v":"Post-E 1: Glufosinate"},null,null,{"$f":"SUM(Calcs!C145,Calcs!C150,Calcs!C155,Calcs!C163,Calcs!C168)","v":0},{"$f":"SUM(Calcs!D145,Calcs!D150,Calcs!D155,Calcs!D163,Calcs!D168)","v":0},{"$f":"SUM(Calcs!E145,Calcs!E150,Calcs!E155,Calcs!E163,Calcs!E168)","v":0},{"$f":"SUM(Calcs!F145,Calcs!F150,Calcs!F155,Calcs!F163,Calcs!F168)","v":0},{"$f":"SUM(Calcs!G145,Calcs!G150,Calcs!G155,Calcs!G163,Calcs!G168)","v":0},{"$f":"SUM(Calcs!H145,Calcs!H150,Calcs!H155,Calcs!H163,Calcs!H168)","v":0},{"$f":"SUM(Calcs!I145,Calcs!I150,Calcs!I155,Calcs!I163,Calcs!I168)","v":0},{"$f":"SUM(Calcs!J145,Calcs!J150,Calcs!J155,Calcs!J163,Calcs!J168)","v":0},{"$f":"SUM(Calcs!K145,Calcs!K150,Calcs!K155,Calcs!K163,Calcs!K168)","v":0},{"$f":"SUM(Calcs!L145,Calcs!L150,Calcs!L155,Calcs!L163,Calcs!L168)","v":0},null,"Mechanical",12.600000000000001,0,26.1,6.3000000000000007,26.1,0,12.600000000000001,0,33.299999999999997,0,null,117.09999999999998]
[{"$f":"Calcs!A23","v":17},{"$f":"Calcs!B27","v":"Post-E 1: Paraquat (shielded)"},null,null,{"$f":"SUM(Calcs!C146,Calcs!C151,Calcs!C156,Calcs!C164,Calcs!C169)","v":0},{"$f":"SUM(Calcs!D146,Calcs!D151,Calcs!D156,Calcs!D164,Calcs!D169)","v":0},{"$f":"SUM(Calcs!E146,Calcs!E151,Calcs!E156,Calcs!E164,Calcs!E169)","v":0},{"$f":"SUM(Calcs!F146,Calcs!F151,Calcs!F156,Calcs!F164,Calcs!F169)","v":0},{"$f":"SUM(Calcs!G146,Calcs!G151,Calcs!G156,Calcs!G164,Calcs!G169)","v":0},{"$f":"SUM(Calcs!H146,Calcs!H151,Calcs!H156,Calcs!H164,Calcs!H169)","v":0},{"$f":"SUM(Calcs!I146,Calcs!I151,Calcs!I156,Calcs!I164,Calcs!I169)","v":0},{"$f":"SUM(Calcs!J146,Calcs!J151,Calcs!J156,Calcs!J164,Calcs!J169)","v":0},{"$f":"SUM(Calcs!K146,Calcs!K151,Calcs!K156,Calcs!K164,Calcs!K169)","v":0},{"$f":"SUM(Calcs!L146,Calcs!L151,Calcs!L156,Calcs!L164,Calcs!L169)","v":0},null,"User's options",null,null,null,null,null,null,null,null,null,null,null,0.1]
[{"$f":"Calcs!A24","v":18},{"$f":"Calcs!B28","v":"Post-E 1: Inter-row tillage"},null,null,{"$f":"SUM(Calcs!C147,Calcs!C152,Calcs!C157,Calcs!C165,Calcs!C170)","v":0},{"$f":"SUM(Calcs!D147,Calcs!D152,Calcs!D157,Calcs!D165,Calcs!D170)","v":0},{"$f":"SUM(Calcs!E147,Calcs!E152,Calcs!E157,Calcs!E165,Calcs!E170)","v":13.5},{"$f":"SUM(Calcs!F147,Calcs!F152,Calcs!F157,Calcs!F165,Calcs!F170)","v":0},{"$f":"SUM(Calcs!G147,Calcs!G152,Calcs!G157,Calcs!G165,Calcs!G170)","v":13.5},{"$f":"SUM(Calcs!H147,Calcs!H152,Calcs!H157,Calcs!H165,Calcs!H170)","v":0},{"$f":"SUM(Calcs!I147,Calcs!I152,Calcs!I157,Calcs!I165,Calcs!I170)","v":0},{"$f":"SUM(Calcs!J147,Calcs!J152,Calcs!J157,Calcs!J165,Calcs!J170)","v":0},{"$f":"SUM(Calcs!K147,Calcs!K152,Calcs!K157,Calcs!K165,Calcs!K170)","v":27},{"$f":"SUM(Calcs!L147,Calcs!L152,Calcs!L157,Calcs!L165,Calcs!L170)","v":0},null,"Non-weed-control costs, crops ($/ha)",267.64999999999998,0,265.14999999999998,0,265.14999999999998,0,265.14999999999998,0,262.64999999999998,0]
[{"$f":"Calcs!A25","v":19},{"$f":"Calcs!B29","v":"Post-E 1: Group A"},null,null,{"$f":"SUM(Calcs!C148,Calcs!C153,Calcs!C158,Calcs!C166,Calcs!C171)","v":0},{"$f":"SUM(Calcs!D148,Calcs!D153,Calcs!D158,Calcs!D166,Calcs!D171)","v":0},{"$f":"SUM(Calcs!E148,Calcs!E153,Calcs!E158,Calcs!E166,Calcs!E171)","v":0},{"$f":"SUM(Calcs!F148,Calcs!F153,Calcs!F158,Calcs!F166,Calcs!F171)","v":0},{"$f":"SUM(Calcs!G148,Calcs!G153,Calcs!G158,Calcs!G166,Calcs!G171)","v":0},{"$f":"SUM(Calcs!H148,Calcs!H153,Calcs!H158,Calcs!H166,Calcs!H171)","v":0},{"$f":"SUM(Calcs!I148,Calcs!I153,Calcs!I158,Calcs!I166,Calcs!I171)","v":0},{"$f":"SUM(Calcs!J148,Calcs!J153,Calcs!J158,Calcs!J166,Calcs!J171)","v":19.5},{"$f":"SUM(Calcs!K148,Calcs!K153,Calcs!K158,Calcs!K166,Calcs!K171)","v":0},{"$f":"SUM(Calcs!L148,Calcs!L153,Calcs!L158,Calcs!L166,Calcs!L171)","v":0},null,"Non-weed-control costs, fallow ($/ha)",0,12,0,12,0,12,0,12,0,12]
[{"$f":"Calcs!A26","v":20},{"$f":"Calcs!B40","v":"Layby: Topping"},null,null,{"$f":"Calcs!C159","v":0},{"$f":"Calcs!D159","v":0},{"$f":"Calcs!E159","v":0},{"$f":"Calcs!F159","v":0},{"$f":"Calcs!G159","v":0},{"$f":"Calcs!H159","v":0},{"$f":"Calcs!I159","v":0},{"$f":"Calcs!J159","v":0},{"$f":"Calcs!K159","v":0},{"$f":"Calcs!L159","v":0},null,"Gross margin ($/ha)",5959.4367899592562,-39,6021.8032884286849,-69.8,5712.980220099611,-46.5,5555.5630317838913,-31.5,4093.8473695739131,-62.5]
[{"$f":"Calcs!A27","v":21},{"$f":"Calcs!B41","v":"Layby: Diuron"},null,null,{"$f":"Calcs!C160","v":0},{"$f":"Calcs!D160","v":14.5},{"$f":"Calcs!E160","v":0},{"$f":"Calcs!F160","v":0},{"$f":"Calcs!G160","v":0},{"$f":"Calcs!H160","v":0},{"$f":"Calcs!I160","v":0},{"$f":"Calcs!J160","v":0},{"$f":"Calcs!K160","v":0},{"$f":"Calcs!L160","v":0},null,"Mature BYG setting seed setting seed (≈ late Feb.)",0.34095320399081125,0,0.73262785947278075,0,2.8234340708794323,0,18.763035304421738,0,18.388348057898789,0]
[{"$f":"Calcs!A28","v":22},{"$f":"Calcs!B42","v":"Layby: Pendimetha"},null,null,{"$f":"Calcs!C161","v":24.5},{"$f":"Calcs!D161","v":0},{"$f":"Calcs!E161","v":0},{"$f":"Calcs!F161","v":0},{"$f":"Calcs!G161","v":0},{"$f":"Calcs!H161","v":0},{"$f":"Calcs!I161","v":0},{"$f":"Calcs!J161","v":0},{"$f":"Calcs!K161","v":0},{"$f":"Calcs!L161","v":0}]
[{"$f":"Calcs!A29","v":23},{"$f":"Calcs!B53","v":"Harvest: Cart+B."},null,null,{"$f":"Calcs!C172","v":0},{"$f":"Calcs!D172","v":0},{"$f":"Calcs!E172","v":0},{"$f":"Calcs!F172","v":0},{"$f":"Calcs!G172","v":0},{"$f":"Calcs!H172","v":0},{"$f":"Calcs!I172","v":0},{"$f":"Calcs!J172","v":0},{"$f":"Calcs!K172","v":0},{"$f":"Calcs!L172","v":0}]
[{"$f":"Calcs!A30","v":24},{"$f":"Calcs!B54","v":"Harvest: Narr+B."},null,null,{"$f":"Calcs!C173","v":0},{"$f":"Calcs!D173","v":0},{"$f":"Calcs!E173","v":0},{"$f":"Calcs!F173","v":0},{"$f":"Calcs!G173","v":0},{"$f":"Calcs!H173","v":0},{"$f":"Calcs!I173","v":0},{"$f":"Calcs!J173","v":0},{"$f":"Calcs!K173","v":0},{"$f":"Calcs!L173","v":0}]
[{"$f":"Calcs!A31","v":25},{"$f":"Calcs!B55","v":"Harvest: HSD"},null,null,{"$f":"Calcs!C174","v":0},{"$f":"Calcs!D174","v":0},{"$f":"Calcs!E174","v":0},{"$f":"Calcs!F174","v":0},{"$f":"Calcs!G174","v":0},{"$f":"Calcs!H174","v":0},{"$f":"Calcs!I174","v":0},{"$f":"Calcs!J174","v":0},{"$f":"Calcs!K174","v":0},{"$f":"Calcs!L174","v":0}]
[{"$f":"Calcs!A32","v":26},{"$f":"Calcs!B56","v":"Harvest: Tram."},null,null,{"$f":"Calcs!C175","v":0},{"$f":"Calcs!D175","v":0},{"$f":"Calcs!E175","v":0},{"$f":"Calcs!F175","v":0},{"$f":"Calcs!G175","v":0},{"$f":"Calcs!H175","v":0},{"$f":"Calcs!I175","v":0},{"$f":"Calcs!J175","v":0},{"$f":"Calcs!K175","v":0},{"$f":"Calcs!L175","v":0},null,"STRATEGY B"]
[{"$f":"Calcs!A33","v":27},{"$f":"Calcs!B57","v":"      empty slot for adding a harvest option, configured for bales"},null,null,{"$f":"Calcs!C176","v":0},{"$f":"Calcs!D176","v":0},{"$f":"Calcs!E176","v":0},{"$f":"Calcs!F176","v":0},{"$f":"Calcs!G176","v":0},{"$f":"Calcs!H176","v":0},{"$f":"Calcs!I176","v":0},{"$f":"Calcs!J176","v":0},{"$f":"Calcs!K176","v":0},{"$f":"Calcs!L176","v":0},null,5226.3234002643867,"BYGUM, GR - irrigated cotton"]
[{"$f":"Calcs!A34","v":28},{"$f":"Calcs!B58","v":"Harvest: BDS+E."},null,null,{"$f":"Calcs!C177","v":0},{"$f":"Calcs!D177","v":0},{"$f":"Calcs!E177","v":0},{"$f":"Calcs!F177","v":0},{"$f":"Calcs!G177","v":0},{"$f":"Calcs!H177","v":0},{"$f":"Calcs!I177","v":0},{"$f":"Calcs!J177","v":0},{"$f":"Calcs!K177","v":0},{"$f":"Calcs!L177","v":0},null,null,"Irrig cotton   1","Winter fallow   2","Irrig cotton   3","Winter fallow   4","Irrig cotton   5","Winter fallow   6","Irrig cotton   7","Winter fallow   8","Irrig cotton   9","Winter fallow   10",null,"TOTAL"]
[{"$f":"Calcs!A35","v":29},{"$f":"Calcs!B59","v":"Harvest: Burn"},null,null,{"$f":"Calcs!C178","v":0},{"$f":"Calcs!D178","v":0},{"$f":"Calcs!E178","v":0},{"$f":"Calcs!F178","v":0},{"$f":"Calcs!G178","v":0},{"$f":"Calcs!H178","v":0},{"$f":"Calcs!I178","v":0},{"$f":"Calcs!J178","v":0},{"$f":"Calcs!K178","v":0},{"$f":"Calcs!L178","v":0},null,"Crops",6333.1867899592562,0,6381.0532884286849,0,6127.230220099611,0,5901.3130317838913,0,4457.7973695739129,0,null,29200.680699845358]
[{"$f":"Calcs!A36","v":30},{"$f":"Calcs!B60","v":"Harvest B1: Defol glyp"},null,null,{"$f":"Calcs!C179","v":0},{"$f":"Calcs!D179","v":0},{"$f":"Calcs!E179","v":0},{"$f":"Calcs!F179","v":0},{"$f":"Calcs!G179","v":0},{"$f":"Calcs!H179","v":0},{"$f":"Calcs!I179","v":0},{"$f":"Calcs!J179","v":0},{"$f":"Calcs!K179","v":0},{"$f":"Calcs!L179","v":0},null,"Sheep",0,0,0,0,0,0,0,0,0,0,null,0.1]
[{"$f":"Calcs!A37","v":31},{"$f":"Calcs!B61","v":"Harvest B2: Defol Drop"},null,null,{"$f":"Calcs!C180","v":10},{"$f":"Calcs!D180","v":0},{"$f":"Calcs!E180","v":10},{"$f":"Calcs!F180","v":0},{"$f":"Calcs!G180","v":10},{"$f":"Calcs!H180","v":0},{"$f":"Calcs!I180","v":10},{"$f":"Calcs!J180","v":0},{"$f":"Calcs!K180","v":10},{"$f":"Calcs!L180","v":0},null,"Fodder",0,0,0,0,0,0,0,0,0,0,null,0.1]
[{"$f":"Calcs!A38","v":32},{"$f":"Calcs!B391","v":"Machinery repayments (from '+Prices', goes to 'Eco results')"},null,null,{"$f":"Calcs!C391","v":0},{"$f":"Calcs!D391","v":0},{"$f":"Calcs!E391","v":0},{"$f":"Calcs!F391","v":0},{"$f":"Calcs!G391","v":0},{"$f":"Calcs!H391","v":0},{"$f":"Calcs!I391","v":0},{"$f":"Calcs!J391","v":0},{"$f":"Calcs!K391","v":0},{"$f":"Calcs!L391","v":0},null,"Competition",0,0,0,0,0,0,0,0,0,0,null,0.1]
[{"$f":"Calcs!A39","v":33},"Total weed control costs ($/ha)",null,null,{"$f":"SUM(E15:E46)","v":106.1},27,94.1,57.8,149.1,34.5,80.599999999999994,19.5,101.3,50.5,null,"Herbicides",93.5,27,68,51.5,123,34.5,68,19.5,68,50.5,null,603.6]
[{"$f":"Calcs!#REF!","v":{"$error":"#REF!"}},null,null,null,null,null,null,null,null,null,null,null,null,null,null,"Mechanical",12.600000000000001,0,26.1,6.3000000000000007,26.1,0,12.600000000000001,0,33.299999999999997,0,null,117.09999999999998]
[{"$f":"Calcs!#REF!","v":{"$error":"#REF!"}},"Total variable input costs ($/ha)",null,null,{"$f":"E13+E47","v":373.75},39,359.25,69.8,414.25,46.5,345.75,31.5,363.95,62.5,null,"User's options",null,null,null,null,null,null,null,null,null,null,null,0.1]
[{"$f":"Calcs!#REF!","v":{"$error":"#REF!"}},null,null,null,null,null,null,null,null,null,null,null,null,null,null,"Non-weed-control costs, crops ($/ha)",267.64999999999998,0,265.14999999999998,0,265.14999999999998,0,265.14999999999998,0,262.64999999999998,0]
[{"$f":"Calcs!#REF!","v":{"$error":"#REF!"}},"Annual gross margins ($/ha) ",null,null,{"$f":"E8-E49","v":5959.4367899592562},-39,6021.8032884286849,-69.8,5712.980220099611,-46.5,5555.5630317838913,-31.5,4093.8473695739131,-62.5,null,"Non-weed-control costs, fallow ($/ha)",0,12,0,12,0,12,0,12,0,12]
[{"$f":"Calcs!#REF!","v":{"$error":"#REF!"}},null,null,null,null,null,null,null,null,null,null,null,null,null,null,"Gross margin ($/ha)",5959.4367899592562,-39,6021.8032884286849,-69.8,5712.980220099611,-46.5,5555.5630317838913,-31.5,4093.8473695739131,-62.5]
[{"$f":"Calcs!A40","v":34},"Table 3. Results that allow for inflation, interest and tax",null,null,null,null,null,null,null,null,null,null,null,null,null,"Mature BYG setting seed setting seed (≈ late Feb.)",0.34095320399081125,0,0.73262785947278075,0,2.8234340708794323,0,18.763035304421738,0,18.388348057898789,0]
[{"$f":"Calcs!A41","v":35},"Gross receipts ($/ha)",null,null,{"$f":"(E3+E4+E5+E6)*Calcs!C395*Calcs!C397+E7*Calcs!C396*Calcs!C398","v":6460.4838444374373},{"$f":"(F3+F4+F5+F6)*Calcs!D395*Calcs!D397+F7*Calcs!D396*Calcs!D398","v":0},{"$f":"(G3+G4+G5+G6)*Calcs!E395*Calcs!E397+G7*Calcs!E396*Calcs!E398","v":6773.616647725823},{"$f":"(H3+H4+H5+H6)*Calcs!F395*Calcs!F397+H7*Calcs!F396*Calcs!F398","v":0},{"$f":"(I3+I4+I5+I6)*Calcs!G395*Calcs!G397+I7*Calcs!G396*Calcs!G398","v":6768.2740686101934},{"$f":"(J3+J4+J5+J6)*Calcs!H395*Calcs!H397+J7*Calcs!H396*Calcs!H398","v":0},{"$f":"(K3+K4+K5+K6)*Calcs!I395*Calcs!I397+K7*Calcs!I396*Calcs!I398","v":6783.4071542787142},{"$f":"(L3+L4+L5+L6)*Calcs!J395*Calcs!J397+L7*Calcs!J396*Calcs!J398","v":0},{"$f":"(M3+M4+M5+M6)*Calcs!K395*Calcs!K397+M7*Calcs!K396*Calcs!K398","v":5332.1830707384906},{"$f":"(N3+N4+N5+N6)*Calcs!L395*Calcs!L397+N7*Calcs!L396*Calcs!L398","v":0}]
[{"$f":"Calcs!A42","v":36},"Costs ($/ha)",null,null,{"$f":"E49*Calcs!C399","v":384.96250000000003},{"$f":"F49*Calcs!D399","v":41.375099999999996},{"$f":"G49*Calcs!E399","v":392.56217475},{"$f":"H49*Calcs!F399","v":78.560514938000011},{"$f":"I49*Calcs!G399","v":480.22928527877502},{"$f":"J49*Calcs!H399","v":55.523431788598508},{"$f":"K49*Calcs!I399","v":425.22888897064888},{"$f":"L49*Calcs!J399","v":39.903257563709914},{"$f":"M49*Calcs!K399","v":474.87220025465365},{"$f":"N49*Calcs!L399","v":83.994773709007646}]
[{"$f":"Calcs!A43","v":37},"Interest ($/ha)",null,null,0,{"$f":"'+Prices'!$AV73*E58","v":340.2291952884965},{"$f":"'+Prices'!$AV73*F58","v":356.9650246246523},{"$f":"'+Prices'!$AV73*G58","v":734.29411649027895},{"$f":"'+Prices'!$AV73*H58","v":771.01519817720668},{"$f":"'+Prices'!$AV73*I58","v":1166.3225571416897},{"$f":"'+Prices'!$AV73*J58","v":1228.5273081614628},{"$f":"'+Prices'!$AV73*K58","v":1653.3828202757563},{"$f":"'+Prices'!$AV73*L58","v":1743.7376757876307},{"$f":"'+Prices'!$AV73*M58","v":2113.3963943788326}]
[{"$f":"Calcs!A44","v":38},"Tax  ($/ha)",null,null,{"$f":"'+Prices'!$AV74*(E54-E55+E56)","v":1822.6564033312313},{"$f":"'+Prices'!$AV74*(F54-F55+F56)","v":89.656228586548949},{"$f":"'+Prices'!$AV74*(G54-G55+G56)","v":2021.4058492801423},{"$f":"'+Prices'!$AV74*(H54-H55+H56)","v":196.72008046568368},{"$f":"'+Prices'!$AV74*(I54-I55+I56)","v":2117.7179944525874},{"$f":"'+Prices'!$AV74*(J54-J55+J56)","v":333.2397376059273},{"$f":"'+Prices'!$AV74*(K54-K55+K56)","v":2276.0116720408582},{"$f":"'+Prices'!$AV74*(L54-L55+L56)","v":484.04386881361387},{"$f":"'+Prices'!$AV74*(M54-M55+M56)","v":1980.3145638814403},{"$f":"'+Prices'!$AV74*(N54-N55+N56)","v":608.82048620094747}]
[null,"Running total ($/ha)",null,null,{"$f":"E54-E55+E56-E57","v":4252.8649411062061},{"$f":"F54-F55+F56-F57+E58","v":4462.0628078081536},{"$f":"G54-G55+G56-G57+F58","v":9178.6764561284872},9637.6899772150828,14579.03196427112,15356.591352018284,20667.285253446953,21796.720947345384,26417.45492973541,27838.036064204287]
[null,"Final balance after 5 years  ($/ha)",null,null,{"$f":"N58","v":27838.036064204287},null,null,null,null,null,null,null,null,null,null,null,null,null,null,null,null,null,null,null,null,null," "]
[null,"Equivalent opening balance* ($/ha)",null,null,{"$f":"E59/(1+'+Prices'!$AV$73*(1-'+Prices'!$AV$74))^10","v":16143.56367966938}]
[null,"Equivalent annual profit** ($/ha)",null,null,{"$f":"(-PMT('+Prices'!$AV$73*(1-'+Prices'!$AV$74),10,E60)/(1-'+Prices'!$AV$74))*1.7","v":5226.3234002643867},null,null,null,null,null,null,null,null,null,{"$f":"SUM(E47:N47)-SUM(Q10:Z13)","v":0}]
[]
[null,"* If you started a bank account at the start of year 1 and earned interest (minus tax) over 10 or 20 years,"]
[null,"   this is the opening balance that would give you the above \"Final balance after 10 or 20 years\"."]
[null,"** If you could earn a constant profit per ha per year over the 10 or 20 years, this is the annual amount "]
[null,"     that would result in the above \"Final balance after 10 or20 years\" after allowing for interest and tax."]